BEGIN:VCALENDAR
VERSION:2.0
PRODID:-//The Boerne Life - ECPv6.15.15//NONSGML v1.0//EN
CALSCALE:GREGORIAN
METHOD:PUBLISH
X-WR-CALNAME:The Boerne Life
X-ORIGINAL-URL:https://theboernelife.com
X-WR-CALDESC:Events for The Boerne Life
REFRESH-INTERVAL;VALUE=DURATION:PT1H
X-Robots-Tag:noindex
X-PUBLISHED-TTL:PT1H
BEGIN:VTIMEZONE
TZID:America/Chicago
BEGIN:DAYLIGHT
TZOFFSETFROM:-0600
TZOFFSETTO:-0500
TZNAME:CDT
DTSTART:20230312T080000
END:DAYLIGHT
BEGIN:STANDARD
TZOFFSETFROM:-0500
TZOFFSETTO:-0600
TZNAME:CST
DTSTART:20231105T070000
END:STANDARD
BEGIN:DAYLIGHT
TZOFFSETFROM:-0600
TZOFFSETTO:-0500
TZNAME:CDT
DTSTART:20240310T080000
END:DAYLIGHT
BEGIN:STANDARD
TZOFFSETFROM:-0500
TZOFFSETTO:-0600
TZNAME:CST
DTSTART:20241103T070000
END:STANDARD
BEGIN:DAYLIGHT
TZOFFSETFROM:-0600
TZOFFSETTO:-0500
TZNAME:CDT
DTSTART:20250309T080000
END:DAYLIGHT
BEGIN:STANDARD
TZOFFSETFROM:-0500
TZOFFSETTO:-0600
TZNAME:CST
DTSTART:20251102T070000
END:STANDARD
END:VTIMEZONE
BEGIN:VEVENT
DTSTART;TZID=America/Chicago:20240722T100000
DTEND;TZID=America/Chicago:20240722T110000
DTSTAMP:20260419T115715
CREATED:20240602T122459Z
LAST-MODIFIED:20250217T110953Z
UID:10017432-1721642400-1721646000@theboernelife.com
SUMMARY:Tech Time
DESCRIPTION:Leslie Kirk will be in the lobby each Monday\, from 10am to 11am to help you with your technology questions. Walk-ins only.
URL:https://theboernelife.com/events/tech-time/2024-07-22/
LOCATION:Patrick Heath Public Library\, 451 N. Main Street\, Boerne\, TX\, 78006\, United States
CATEGORIES:General
ATTACH;FMTTYPE=image/jpeg:https://theboernelife.com/wp-content/uploads/2024/02/Library-Tech-Help.jpg
END:VEVENT
BEGIN:VEVENT
DTSTART;TZID=America/Chicago:20240722T103000
DTEND;TZID=America/Chicago:20240722T113000
DTSTAMP:20260419T115715
CREATED:20240722T120605Z
LAST-MODIFIED:20240722T120839Z
UID:10020912-1721644200-1721647800@theboernelife.com
SUMMARY:Christmas in July Closing Party
DESCRIPTION:Fa\, La\, La\, La FUN! For the Summer Adventure closing party\, the Boerne Library will deck the halls with Christmas delights. Enjoy a toe-tapping\, interactive festive concert by Austin’s award-winning Mr. Will. And what would Christmas be without a visit from old Saint Nick? Santa will be there too\, along with tasty cookies from Mrs. Claus’s kitchen. Need a little fresh air after all the fun?  Step outside for a genuine snowstorm.
URL:https://theboernelife.com/events/christmas-in-july-closing-party/
LOCATION:Patrick Heath Public Library\, 451 N. Main Street\, Boerne\, TX\, 78006\, United States
CATEGORIES:Food and Drink,Kids and Family,Music
ATTACH;FMTTYPE=image/jpeg:https://theboernelife.com/wp-content/uploads/2024/07/Christmas-in-July-Library.jpg
END:VEVENT
BEGIN:VEVENT
DTSTART;TZID=America/Chicago:20240722T130000
DTEND;TZID=America/Chicago:20240722T150000
DTSTAMP:20260419T115715
CREATED:20240722T121207Z
LAST-MODIFIED:20241230T132825Z
UID:10020914-1721653200-1721660400@theboernelife.com
SUMMARY:Movie Classics at the Center
DESCRIPTION:Each month\, the Boerne Library will be hosting a screening of a classic movie at the Center at Kronkosky – for example\, in the month of January\, After the Thin Man. It’s open to the public and free\, but they ask that you register with Caren to save your seat.
URL:https://theboernelife.com/events/movie-classics-at-the-center-2-2/
LOCATION:The Center at Kronkosky\, 17 Old San Antonio Rd\, Boerne\, TX\, 78006\, United States
CATEGORIES:Arts and Culture
ATTACH;FMTTYPE=image/jpeg:https://theboernelife.com/wp-content/uploads/2024/02/The-Center-Logo.jpg
END:VEVENT
END:VCALENDAR