BEGIN:VCALENDAR
VERSION:2.0
PRODID:-//The Boerne Life - ECPv6.15.15//NONSGML v1.0//EN
CALSCALE:GREGORIAN
METHOD:PUBLISH
X-WR-CALNAME:The Boerne Life
X-ORIGINAL-URL:https://theboernelife.com
X-WR-CALDESC:Events for The Boerne Life
REFRESH-INTERVAL;VALUE=DURATION:PT1H
X-Robots-Tag:noindex
X-PUBLISHED-TTL:PT1H
BEGIN:VTIMEZONE
TZID:America/Chicago
BEGIN:DAYLIGHT
TZOFFSETFROM:-0600
TZOFFSETTO:-0500
TZNAME:CDT
DTSTART:20230312T080000
END:DAYLIGHT
BEGIN:STANDARD
TZOFFSETFROM:-0500
TZOFFSETTO:-0600
TZNAME:CST
DTSTART:20231105T070000
END:STANDARD
BEGIN:DAYLIGHT
TZOFFSETFROM:-0600
TZOFFSETTO:-0500
TZNAME:CDT
DTSTART:20240310T080000
END:DAYLIGHT
BEGIN:STANDARD
TZOFFSETFROM:-0500
TZOFFSETTO:-0600
TZNAME:CST
DTSTART:20241103T070000
END:STANDARD
BEGIN:DAYLIGHT
TZOFFSETFROM:-0600
TZOFFSETTO:-0500
TZNAME:CDT
DTSTART:20250309T080000
END:DAYLIGHT
BEGIN:STANDARD
TZOFFSETFROM:-0500
TZOFFSETTO:-0600
TZNAME:CST
DTSTART:20251102T070000
END:STANDARD
END:VTIMEZONE
BEGIN:VEVENT
DTSTART;TZID=America/Chicago:20241014T080000
DTEND;TZID=America/Chicago:20241014T170000
DTSTAMP:20260419T155516
CREATED:20240509T023425Z
LAST-MODIFIED:20250511T153931Z
UID:10015202-1728892800-1728925200@theboernelife.com
SUMMARY:Bulky Trash and Brush Collection Starts Today
DESCRIPTION:Have large items you need to get rid of? Then drag them out to the curb this morning\, because it’s Bulky Trash Pickup time! Starting today and lasting throughout the week\, trash pickup will take up to four cubic yards of materials from your curbside – no need to call the city and schedule. \nAcceptable items include appliances with no CFCs\, furniture\, mattresses\, and other things that won’t fit in your trash cans. Batteries\, concrete\, construction materials\, paint\, and other exceptions do apply. For more info click here. \nBrush pickup is also this week. Make sure you cut\, tie\, and bundle branches in sections no longer than 5 feet. Place the bundles on the curb by 7 am. For more info\, click here.
URL:https://theboernelife.com/events/bulky-trash-and-brush-collection-starts-today/2024-10-14/
LOCATION:TX
CATEGORIES:General
ATTACH;FMTTYPE=image/jpeg:https://theboernelife.com/wp-content/uploads/2024/05/Bulk-Trash-Pickup-Boerne.jpg
END:VEVENT
BEGIN:VEVENT
DTSTART;TZID=America/Chicago:20241014T120000
DTEND;TZID=America/Chicago:20241014T130000
DTSTAMP:20260419T155516
CREATED:20240305T004448Z
LAST-MODIFIED:20251013T021429Z
UID:10023583-1728907200-1728910800@theboernelife.com
SUMMARY:Food for Thought Literary Discussion Group
DESCRIPTION:If you like literary fiction\, then this group is for you. Every month the group meets to discuss a different book with Natalie Morgan facilitating. No need to register – just show up! Check out the list of titles here.
URL:https://theboernelife.com/events/food-for-thought-literary-discussion-group/2024-10-14/
LOCATION:Patrick Heath Public Library\, 451 N. Main Street\, Boerne\, TX\, 78006\, United States
CATEGORIES:Arts and Culture
ATTACH;FMTTYPE=image/png:https://theboernelife.com/wp-content/uploads/2024/02/Boerne-Library-Logo.png
END:VEVENT
BEGIN:VEVENT
DTSTART;TZID=America/Chicago:20241014T190000
DTEND;TZID=America/Chicago:20241014T200000
DTSTAMP:20260419T155516
CREATED:20240506T201823Z
LAST-MODIFIED:20250909T013957Z
UID:10022725-1728932400-1728936000@theboernelife.com
SUMMARY:Audition for Boerne Community Theatre Production
DESCRIPTION:Boerne Community Theatre is holding auditions for the outrageous British farce Loot\, directed by Jerry Watson.\nSunday\, September 14 & Monday\, September 157:00 PM (arrive 10–15 minutes early)Boerne Community Theatre\n\nParts Available:5 men (early 20s – mid 70s)1 woman (late 20s – mid 40s)\nProduction Dates: November 7–23\, 2025\nAuditions will consist of cold readings from the script.Save time at check-in! Fill out your audition form online ahead of time: https://boernetheatre.org/auditions/\n\nCome join us for this sharp-witted dark comedy full of twists\, farce\, and fast-paced fun—we can’t wait to see you at auditions!
URL:https://theboernelife.com/events/audition-for-boerne-community-theater-production/2024-10-14/
LOCATION:Boerne Community Theatre\, 907 E. Blanco Rd.\, Boerne\, TX\, 78006\, United States
CATEGORIES:Arts and Culture
ATTACH;FMTTYPE=image/jpeg:https://theboernelife.com/wp-content/uploads/2024/05/Audition-Alert-Boerne-Community-Theatre.jpg
END:VEVENT
END:VCALENDAR