BEGIN:VCALENDAR
VERSION:2.0
PRODID:-//The Boerne Life - ECPv6.15.15//NONSGML v1.0//EN
CALSCALE:GREGORIAN
METHOD:PUBLISH
X-WR-CALNAME:The Boerne Life
X-ORIGINAL-URL:https://theboernelife.com
X-WR-CALDESC:Events for The Boerne Life
REFRESH-INTERVAL;VALUE=DURATION:PT1H
X-Robots-Tag:noindex
X-PUBLISHED-TTL:PT1H
BEGIN:VTIMEZONE
TZID:America/Chicago
BEGIN:DAYLIGHT
TZOFFSETFROM:-0600
TZOFFSETTO:-0500
TZNAME:CDT
DTSTART:20230312T080000
END:DAYLIGHT
BEGIN:STANDARD
TZOFFSETFROM:-0500
TZOFFSETTO:-0600
TZNAME:CST
DTSTART:20231105T070000
END:STANDARD
BEGIN:DAYLIGHT
TZOFFSETFROM:-0600
TZOFFSETTO:-0500
TZNAME:CDT
DTSTART:20240310T080000
END:DAYLIGHT
BEGIN:STANDARD
TZOFFSETFROM:-0500
TZOFFSETTO:-0600
TZNAME:CST
DTSTART:20241103T070000
END:STANDARD
BEGIN:DAYLIGHT
TZOFFSETFROM:-0600
TZOFFSETTO:-0500
TZNAME:CDT
DTSTART:20250309T080000
END:DAYLIGHT
BEGIN:STANDARD
TZOFFSETFROM:-0500
TZOFFSETTO:-0600
TZNAME:CST
DTSTART:20251102T070000
END:STANDARD
END:VTIMEZONE
BEGIN:VEVENT
DTSTART;TZID=America/Chicago:20241020T100000
DTEND;TZID=America/Chicago:20241020T120000
DTSTAMP:20260425T191044
CREATED:20241013T022034Z
LAST-MODIFIED:20241013T022034Z
UID:10022739-1729418400-1729425600@theboernelife.com
SUMMARY:Succulent Pumpkin Workshop & Brunch
DESCRIPTION:Ashleigh from Crazy Plant Love will be hosting a DIY Fall Centerpiece workshop where participants can create a stunning pumpkin centerpiece using a variety of succulents and fall decor. Brunch snacks and a mimosa bar are provided\, and the registration fee includes all necessary materials. \nAttendees will be able to take home their unique live pumpkin centerpiece\, which should last about 12 weeks. Succulents can later be replanted. \nFor questions\, email crazyplantlovee@gmail.com. No refunds for no-shows\, but completed pumpkins can be picked up later. \nGet your tickets here.
URL:https://theboernelife.com/events/succulent-pumpkin-workshop-brunch/
LOCATION:Handmade on Main\, 347 N Main St\, Boerne\, TX\, 78006\, United States
CATEGORIES:Arts and Culture,Holiday,Women
ATTACH;FMTTYPE=image/jpeg:https://theboernelife.com/wp-content/uploads/2024/10/Succulent-Pumpkin-Workshop-Brunch.jpg
END:VEVENT
BEGIN:VEVENT
DTSTART;TZID=America/Chicago:20241020T140000
DTEND;TZID=America/Chicago:20241020T160000
DTSTAMP:20260425T191044
CREATED:20240718T115821Z
LAST-MODIFIED:20250620T105330Z
UID:10020496-1729432800-1729440000@theboernelife.com
SUMMARY:Free Community Brazilian Jiu Jitsu Class
DESCRIPTION:Are you interested in Brazilian Jiu Jitsu? Then come out to Black Diamond Martial Arts off School Street right near I-10 and try out their free Community BJJ class every Sunday from 2-4 pm.\n\nBlack Diamond Martial Arts is a family-owned establishment. For more information\, email blackdiamondmartialartsboerne@gmail.com.
URL:https://theboernelife.com/events/free-community-brazilian-jiu-jitsu-class/2024-10-20/
LOCATION:Black Diamond Martial Arts\, 645 South School Street Suite 201\, Boerne\, TX\, 78006\, United States
CATEGORIES:Health and Wellness
ATTACH;FMTTYPE=image/jpeg:https://theboernelife.com/wp-content/uploads/2024/07/Brazilian-Jiu-Jitsu.jpg
END:VEVENT
BEGIN:VEVENT
DTSTART;TZID=America/Chicago:20241020T140000
DTEND;TZID=America/Chicago:20241020T170000
DTSTAMP:20260425T191044
CREATED:20240902T105639Z
LAST-MODIFIED:20240902T105639Z
UID:10021917-1729432800-1729443600@theboernelife.com
SUMMARY:Live Music at Cibolo Creek Brewing Company
DESCRIPTION:Cold beer\, good food\, and live music on the back patio every Sunday. Check out their Facebook to see who plays today.
URL:https://theboernelife.com/events/live-music-at-cibolo-creek-brewing-company-3/2024-10-20/
LOCATION:Cibolo Creek Brewing Company\, 448 South Main St\, Boerne\, TX\, 78006\, United States
CATEGORIES:Kids and Family,Music
ATTACH;FMTTYPE=image/jpeg:https://theboernelife.com/wp-content/uploads/2024/02/Cibolo-Creek-Brewing-Company.jpg
END:VEVENT
END:VCALENDAR