BEGIN:VCALENDAR
VERSION:2.0
PRODID:-//The Boerne Life - ECPv6.15.15//NONSGML v1.0//EN
CALSCALE:GREGORIAN
METHOD:PUBLISH
X-ORIGINAL-URL:https://theboernelife.com
X-WR-CALDESC:Events for The Boerne Life
REFRESH-INTERVAL;VALUE=DURATION:PT1H
X-Robots-Tag:noindex
X-PUBLISHED-TTL:PT1H
BEGIN:VTIMEZONE
TZID:America/Chicago
BEGIN:DAYLIGHT
TZOFFSETFROM:-0600
TZOFFSETTO:-0500
TZNAME:CDT
DTSTART:20230312T080000
END:DAYLIGHT
BEGIN:STANDARD
TZOFFSETFROM:-0500
TZOFFSETTO:-0600
TZNAME:CST
DTSTART:20231105T070000
END:STANDARD
BEGIN:DAYLIGHT
TZOFFSETFROM:-0600
TZOFFSETTO:-0500
TZNAME:CDT
DTSTART:20240310T080000
END:DAYLIGHT
BEGIN:STANDARD
TZOFFSETFROM:-0500
TZOFFSETTO:-0600
TZNAME:CST
DTSTART:20241103T070000
END:STANDARD
BEGIN:DAYLIGHT
TZOFFSETFROM:-0600
TZOFFSETTO:-0500
TZNAME:CDT
DTSTART:20250309T080000
END:DAYLIGHT
BEGIN:STANDARD
TZOFFSETFROM:-0500
TZOFFSETTO:-0600
TZNAME:CST
DTSTART:20251102T070000
END:STANDARD
END:VTIMEZONE
BEGIN:VEVENT
DTSTART;VALUE=DATE:20241021
DTEND;VALUE=DATE:20241102
DTSTAMP:20260420T073136
CREATED:20241021T124645Z
LAST-MODIFIED:20241021T185650Z
UID:10022507-1729468800-1730505599@theboernelife.com
SUMMARY:Early Voting
DESCRIPTION:Early voting for the 2024 Presidential Election begins on October 21st in Kendall County. It runs daily through November 1st. \nIn Boerne\, it will be held at the Kendall County Courthouse Annex. The schedule is as follows: \n\nMonday October 21: 8 AM – 6 PM\nTuesday October 22: 8 AM – 6 PM\nWednesday October 23: 8 AM – 6 PM\nThursday October 24: 8 AM – 6 PM\nFriday October 25: 8 AM – 6 PM\nSaturday October 26: 7 AM – 7 PM\nSunday October 27: 7 AM – 7 PM\nMonday October 28: 7 AM – 7 PM\nTuesday October 29: 7 AM – 7 PM\nWednesday October 30: 7 AM – 7 PM\nThursday October 31: 7 AM – 7 PM\nFriday November 1: 7 AM – 7 PM\n\nKendall County will also have a location open temporarily at Comfort Baptist Church on October 25 and 26th\, from 9 AM – 6 PM. That’s at 100 Amber Drive\, Comfort\, TX 78013.
URL:https://theboernelife.com/events/early-voting/
LOCATION:Kendall County Courthouse Annex\, 221 Fawn Valley Dr\, Boerne\, TX\, 78006\, United States
CATEGORIES:General
ATTACH;FMTTYPE=image/jpeg:https://theboernelife.com/wp-content/uploads/2024/10/Early-Voting.jpg
END:VEVENT
BEGIN:VEVENT
DTSTART;TZID=America/Chicago:20241023T093000
DTEND;TZID=America/Chicago:20241023T100000
DTSTAMP:20260420T073136
CREATED:20240909T110937Z
LAST-MODIFIED:20240909T110937Z
UID:10003040-1729675800-1729677600@theboernelife.com
SUMMARY:Sensory Studio for Babies
DESCRIPTION:For babies age 0-2. Join in the Libraries Youth Activity room for free play session with engaging toys.
URL:https://theboernelife.com/events/sensory-studio-for-babies-2/2024-10-23/
LOCATION:Patrick Heath Public Library\, 451 N. Main Street\, Boerne\, TX\, 78006\, United States
CATEGORIES:Kids and Family
ATTACH;FMTTYPE=image/png:https://theboernelife.com/wp-content/uploads/2024/02/Boerne-Library-Logo.png
END:VEVENT
BEGIN:VEVENT
DTSTART;TZID=America/Chicago:20241023T100000
DTEND;TZID=America/Chicago:20241023T110000
DTSTAMP:20260420T073136
CREATED:20240730T094514Z
LAST-MODIFIED:20241222T133020Z
UID:10021176-1729677600-1729681200@theboernelife.com
SUMMARY:Whole Body Flow Drop-In Yoga Class
DESCRIPTION:Every Thursday evening at 6:30 pm is a full body vinyasa based Yoga class at Anytime Fitness. You don’t have to be a member! For $15\, you can just show up and join in! Mats & props are available to use during class or you can bring your own.
URL:https://theboernelife.com/events/whole-body-flow-drop-in-yoga-class-2/2024-10-23/
LOCATION:Anytime Fitness Boerne\, 1018 River Rd\, Boerne\, TX\, 78006\, United States
CATEGORIES:Health and Wellness
ATTACH;FMTTYPE=image/jpeg:https://theboernelife.com/wp-content/uploads/2024/04/Drop-In-Yoga.jpg
END:VEVENT
BEGIN:VEVENT
DTSTART;TZID=America/Chicago:20241023T103000
DTEND;TZID=America/Chicago:20241023T110000
DTSTAMP:20260420T073136
CREATED:20240211T192325Z
LAST-MODIFIED:20240909T111223Z
UID:10003301-1729679400-1729681200@theboernelife.com
SUMMARY:Little Listeners Storytime
DESCRIPTION:Storytime with Miss Constance in the Library Youth Activities Room for children ages 2 to 5. Fun includes includes tales\, tunes\, movement\, puppetry\, and crafting.
URL:https://theboernelife.com/events/little-listeners-storytime/2024-10-23/
LOCATION:Patrick Heath Public Library\, 451 N. Main Street\, Boerne\, TX\, 78006\, United States
CATEGORIES:Kids and Family
ATTACH;FMTTYPE=image/png:https://theboernelife.com/wp-content/uploads/2024/02/Boerne-Library-Logo.png
END:VEVENT
BEGIN:VEVENT
DTSTART;TZID=America/Chicago:20241023T130000
DTEND;TZID=America/Chicago:20241023T140000
DTSTAMP:20260420T073136
CREATED:20240221T121952Z
LAST-MODIFIED:20241230T022511Z
UID:10013511-1729688400-1729692000@theboernelife.com
SUMMARY:Ask Alison for Tech Help
DESCRIPTION:Need help with your personal technology? Alison Topper is in the lobby each week to help! No appointments necessary!
URL:https://theboernelife.com/events/ask-alison-for-tech-help/2024-10-23/
LOCATION:Patrick Heath Public Library\, 451 N. Main Street\, Boerne\, TX\, 78006\, United States
CATEGORIES:General
ATTACH;FMTTYPE=image/jpeg:https://theboernelife.com/wp-content/uploads/2024/02/Library-Tech-Help.jpg
END:VEVENT
BEGIN:VEVENT
DTSTART;TZID=America/Chicago:20241023T163000
DTEND;TZID=America/Chicago:20241023T173000
DTSTAMP:20260420T073136
CREATED:20240819T121749Z
LAST-MODIFIED:20250106T120024Z
UID:10006494-1729701000-1729704600@theboernelife.com
SUMMARY:Crafternoon for Teens
DESCRIPTION:Have a teen that’s feeling creative? Then they’ll want to know about the library’s weekly crafting program called “Wednesday Crafternoons.” It meets in the Hub every Wednesday at 4:30 pm for an hour. \nThis perfect for anyone who likes drawing\, crafting\, or trying new mediums.\, “Wednesday Crafternoons” is the place to be. All materials are provided.
URL:https://theboernelife.com/events/crafternoon-for-teens-2/2024-10-23/
LOCATION:Patrick Heath Public Library\, 451 N. Main Street\, Boerne\, TX\, 78006\, United States
CATEGORIES:Arts and Culture
ATTACH;FMTTYPE=image/jpeg:https://theboernelife.com/wp-content/uploads/2024/02/Crafternoon.jpg
END:VEVENT
BEGIN:VEVENT
DTSTART;TZID=America/Chicago:20241023T180000
DTEND;TZID=America/Chicago:20241023T203000
DTSTAMP:20260420T073136
CREATED:20240916T120244Z
LAST-MODIFIED:20241017T112206Z
UID:10021896-1729706400-1729715400@theboernelife.com
SUMMARY:Steak and Vinyl Night at Cibolo Creek Brewing Company
DESCRIPTION:On Wednesday nights\, you won’t want to miss steak night at Cibolo Creek Brewing Company. They usually start serving around 5 pm until they run out. Steaks are smoked out back and we can confirm – they’re delicious. \nBut not only is it steak night\, but CCBC also has vinyl night as well. What’s that? Bring your own vinyl\, and they’ll play it while you eat!
URL:https://theboernelife.com/events/steak-night-live-music-cibolo/2024-10-23/
LOCATION:Cibolo Creek Brewing Company\, 448 South Main St\, Boerne\, TX\, 78006\, United States
CATEGORIES:Kids and Family,Music
ATTACH;FMTTYPE=image/jpeg:https://theboernelife.com/wp-content/uploads/2024/03/live-music-cibolo-creek-brewing.jpg
END:VEVENT
BEGIN:VEVENT
DTSTART;TZID=America/Chicago:20241023T183000
DTEND;TZID=America/Chicago:20241023T203000
DTSTAMP:20260420T073136
CREATED:20240925T165042Z
LAST-MODIFIED:20250618T105925Z
UID:10022446-1729708200-1729715400@theboernelife.com
SUMMARY:Trivia Night at Sauced
DESCRIPTION:Every Wednesday\, head out to Sauced Wing Bar for trivia night with Austin! It starts at six thirty-ish. Arrive early and you can hit Happy Hour!
URL:https://theboernelife.com/events/trivia-night-at-sauced/2024-10-23/
LOCATION:Sauced Wing Bar\, 215 W Bandera Rd #101\, Boerne\, TX\, 78006\, United States
CATEGORIES:General
ATTACH;FMTTYPE=image/jpeg:https://theboernelife.com/wp-content/uploads/2024/09/Sauced-Wing-Bar-Trivia.jpg
END:VEVENT
END:VCALENDAR