BEGIN:VCALENDAR
VERSION:2.0
PRODID:-//The Boerne Life - ECPv6.15.15//NONSGML v1.0//EN
CALSCALE:GREGORIAN
METHOD:PUBLISH
X-ORIGINAL-URL:https://theboernelife.com
X-WR-CALDESC:Events for The Boerne Life
REFRESH-INTERVAL;VALUE=DURATION:PT1H
X-Robots-Tag:noindex
X-PUBLISHED-TTL:PT1H
BEGIN:VTIMEZONE
TZID:America/Chicago
BEGIN:DAYLIGHT
TZOFFSETFROM:-0600
TZOFFSETTO:-0500
TZNAME:CDT
DTSTART:20230312T080000
END:DAYLIGHT
BEGIN:STANDARD
TZOFFSETFROM:-0500
TZOFFSETTO:-0600
TZNAME:CST
DTSTART:20231105T070000
END:STANDARD
BEGIN:DAYLIGHT
TZOFFSETFROM:-0600
TZOFFSETTO:-0500
TZNAME:CDT
DTSTART:20240310T080000
END:DAYLIGHT
BEGIN:STANDARD
TZOFFSETFROM:-0500
TZOFFSETTO:-0600
TZNAME:CST
DTSTART:20241103T070000
END:STANDARD
BEGIN:DAYLIGHT
TZOFFSETFROM:-0600
TZOFFSETTO:-0500
TZNAME:CDT
DTSTART:20250309T080000
END:DAYLIGHT
BEGIN:STANDARD
TZOFFSETFROM:-0500
TZOFFSETTO:-0600
TZNAME:CST
DTSTART:20251102T070000
END:STANDARD
END:VTIMEZONE
BEGIN:VEVENT
DTSTART;VALUE=DATE:20241021
DTEND;VALUE=DATE:20241102
DTSTAMP:20260421T044406
CREATED:20241021T124645Z
LAST-MODIFIED:20241021T185650Z
UID:10022507-1729468800-1730505599@theboernelife.com
SUMMARY:Early Voting
DESCRIPTION:Early voting for the 2024 Presidential Election begins on October 21st in Kendall County. It runs daily through November 1st. \nIn Boerne\, it will be held at the Kendall County Courthouse Annex. The schedule is as follows: \n\nMonday October 21: 8 AM – 6 PM\nTuesday October 22: 8 AM – 6 PM\nWednesday October 23: 8 AM – 6 PM\nThursday October 24: 8 AM – 6 PM\nFriday October 25: 8 AM – 6 PM\nSaturday October 26: 7 AM – 7 PM\nSunday October 27: 7 AM – 7 PM\nMonday October 28: 7 AM – 7 PM\nTuesday October 29: 7 AM – 7 PM\nWednesday October 30: 7 AM – 7 PM\nThursday October 31: 7 AM – 7 PM\nFriday November 1: 7 AM – 7 PM\n\nKendall County will also have a location open temporarily at Comfort Baptist Church on October 25 and 26th\, from 9 AM – 6 PM. That’s at 100 Amber Drive\, Comfort\, TX 78013.
URL:https://theboernelife.com/events/early-voting/
LOCATION:Kendall County Courthouse Annex\, 221 Fawn Valley Dr\, Boerne\, TX\, 78006\, United States
CATEGORIES:General
ATTACH;FMTTYPE=image/jpeg:https://theboernelife.com/wp-content/uploads/2024/10/Early-Voting.jpg
END:VEVENT
BEGIN:VEVENT
DTSTART;VALUE=DATE:20241024
DTEND;VALUE=DATE:20241027
DTSTAMP:20260421T044406
CREATED:20241023T143447Z
LAST-MODIFIED:20241023T143447Z
UID:10022763-1729728000-1729987199@theboernelife.com
SUMMARY:Z's Pizza Estate Sale
DESCRIPTION:Z’s Wood Fired Pizza is hosting a large estate sale at 118 Old San Antonio Road in Boerne\, Texas\, from Thursday to Saturday\, October 24-26\, from 9 am to 5 pm. They are selling various items\, including tables\, chairs\, refrigerators\, freezers\, cooking equipment\, signage\, glassware\, ovens\, clothing\, shelving\, and more. \nFree sandwiches and tea will be available\, with beer and wine for purchase. Attendees are encouraged to arrive early to get the best selection of items. \nThe estate sale follows the announcement that Z’s would be permanently closing their doors.
URL:https://theboernelife.com/events/zs-pizza-estate-sale/
LOCATION:Z’s Woodfired Pizza\, 118 Old San Antonio Road\, Boerne\, TX\, 78006\, United States
CATEGORIES:Food and Drink
ATTACH;FMTTYPE=image/jpeg:https://theboernelife.com/wp-content/uploads/2024/10/Zs-Estate-Sale.jpg
END:VEVENT
BEGIN:VEVENT
DTSTART;TZID=America/Chicago:20241024T093000
DTEND;TZID=America/Chicago:20241024T100000
DTSTAMP:20260421T044406
CREATED:20240909T111035Z
LAST-MODIFIED:20250106T120012Z
UID:10022055-1729762200-1729764000@theboernelife.com
SUMMARY:Book Babies
DESCRIPTION:Join Miss Libby in the Community Room at the Library every Thursday with a special time for your 0-2 year old babies. This includes a storytime with stories\, songs\, movement\, and maybe even bubbles.
URL:https://theboernelife.com/events/book-babies-2-2-2-2/2024-10-24/
LOCATION:Patrick Heath Public Library\, 451 N. Main Street\, Boerne\, TX\, 78006\, United States
CATEGORIES:Kids and Family
ATTACH;FMTTYPE=image/jpeg:https://theboernelife.com/wp-content/uploads/2024/03/Boerne-Library-1.jpg
END:VEVENT
BEGIN:VEVENT
DTSTART;TZID=America/Chicago:20241024T110000
DTEND;TZID=America/Chicago:20241024T190000
DTSTAMP:20260421T044406
CREATED:20241001T222043Z
LAST-MODIFIED:20241001T222043Z
UID:10022504-1729767600-1729796400@theboernelife.com
SUMMARY:Castle Dracula Halloween Event
DESCRIPTION:Get ready for a fang-tastic time at the Castle Dracula Halloween Event! Dive into a dazzling collection with special sales\, spooky treats\, and a night full of fun. They’re Count-ing on you to join them for a scary good time!
URL:https://theboernelife.com/events/castle-dracula-halloween-event/
LOCATION:Morrell Jewelry\, 134 E Bandera\, Boerne\, TX\, 78006\, United States
CATEGORIES:Holiday,Shopping
ATTACH;FMTTYPE=image/jpeg:https://theboernelife.com/wp-content/uploads/2024/10/Castle-Dracula-Halloween-Event.jpg
END:VEVENT
BEGIN:VEVENT
DTSTART;TZID=America/Chicago:20241024T133000
DTEND;TZID=America/Chicago:20241024T153000
DTSTAMP:20260421T044406
CREATED:20240305T004117Z
LAST-MODIFIED:20250116T113432Z
UID:10012069-1729776600-1729783800@theboernelife.com
SUMMARY:Drawing Club for Adults
DESCRIPTION:The Drawing Club meets each week in the conference room. This group is not for beginners looking to take a class on drawing. It’s a group of people who love to draw that meet to get better.
URL:https://theboernelife.com/events/drawing-club-for-adults/2024-10-24/
LOCATION:Patrick Heath Public Library\, 451 N. Main Street\, Boerne\, TX\, 78006\, United States
CATEGORIES:Arts and Culture
ATTACH;FMTTYPE=image/png:https://theboernelife.com/wp-content/uploads/2024/02/Boerne-Library-Logo.png
END:VEVENT
BEGIN:VEVENT
DTSTART;TZID=America/Chicago:20241024T150000
DTEND;TZID=America/Chicago:20241024T160000
DTSTAMP:20260421T044406
CREATED:20240321T111822Z
LAST-MODIFIED:20251229T121634Z
UID:10013059-1729782000-1729785600@theboernelife.com
SUMMARY:Tech Help in the Lobby
DESCRIPTION:Have a tech question you can’t find the answer to? Visit the Tech Help table in the library and get free assistance. Walk-ins only. No appointments.
URL:https://theboernelife.com/events/tech-help-in-the-lobby/2024-10-24/
LOCATION:Patrick Heath Public Library\, 451 N. Main Street\, Boerne\, TX\, 78006\, United States
CATEGORIES:General
ATTACH;FMTTYPE=image/jpeg:https://theboernelife.com/wp-content/uploads/2024/02/Library-Tech-Help.jpg
END:VEVENT
BEGIN:VEVENT
DTSTART;TZID=America/Chicago:20241024T150000
DTEND;TZID=America/Chicago:20241024T190000
DTSTAMP:20260421T044406
CREATED:20241023T112842Z
LAST-MODIFIED:20241023T112842Z
UID:10022761-1729782000-1729796400@theboernelife.com
SUMMARY:Botox and Bubbly
DESCRIPTION:Looking to prepare for your holiday events\, company parties\, or family dinners? Joli Boutique has teamed up with Dominion MedSpa & Salon to help you get holiday-ready in style! \nJoin them on October 24th from 3:00 to 7:00 pm at Joli Boutique\, located at 136 S. Main St.\, Boerne. Sip\, shop\, and treat yourself to some amazing beauty specials just in time for the season. Dominion MedSpa & Salon will be offering great deals\, including Botox at $9.49 per unit and Versa Lip Filler for $395. \nRSVP to Ashley at Joli Boutique by calling 830-816-5560. Don’t miss out on this opportunity to look and feel your best for the holidays!
URL:https://theboernelife.com/events/botox-and-bubbly/
LOCATION:Joli Boutique\, 136 S Main St\, Boerne\, TX\, 78006\, United States
CATEGORIES:Women
ATTACH;FMTTYPE=image/jpeg:https://theboernelife.com/wp-content/uploads/2024/10/Botox-and-Bubbly.jpg
END:VEVENT
BEGIN:VEVENT
DTSTART;TZID=America/Chicago:20241024T170000
DTEND;TZID=America/Chicago:20241024T190000
DTSTAMP:20260421T044406
CREATED:20241008T000113Z
LAST-MODIFIED:20241008T000113Z
UID:10022525-1729789200-1729796400@theboernelife.com
SUMMARY:Witch's Night Out at La Te Da Boutique
DESCRIPTION:Head to La Te da for a joint Halloween celebration with Pixie. Witch’s Night Out will feature: \n\nwicked deals\nsignature cocktail\nfun snacks\nfree gift with purchase\nfree swag bag with $50 purchase\n\nGrab your ghoulfriends and get ready!
URL:https://theboernelife.com/events/witchs-night-out-at-la-te-da-boutique/
LOCATION:La Te Da\, 133 s main st\, Boerne\, TX\, 78006\, United States
CATEGORIES:Food and Drink,Holiday,Shopping,Women
ATTACH;FMTTYPE=image/jpeg:https://theboernelife.com/wp-content/uploads/2024/10/Witches-Night-Out.jpg
END:VEVENT
BEGIN:VEVENT
DTSTART;TZID=America/Chicago:20241024T170000
DTEND;TZID=America/Chicago:20241024T200000
DTSTAMP:20260421T044406
CREATED:20240220T012047Z
LAST-MODIFIED:20250108T113306Z
UID:10005648-1729789200-1729800000@theboernelife.com
SUMMARY:Live Music and Burgers at Black Board Bar B Q
DESCRIPTION:Every Thursday evening from 5-8pm\, visit Black Board Bar B Q for live music and half-pound ground beef brisket burgers on garlic tallow toasted buns. \nAnd if you’re a singer-songwriter or musician\, make sure to grab your instruments & voices and join the lineup!
URL:https://theboernelife.com/events/live-music-and-burgers-at-black-board-bar-b-q/2024-10-24/
LOCATION:Black Board Bar B Q\, 1123 Sisterdale Rd\, Sisterdale\, TX\, 78006\, United States
CATEGORIES:Music
ATTACH;FMTTYPE=image/png:https://theboernelife.com/wp-content/uploads/2024/02/Black-Board-Bar-B-Q-Live-Music-and-Burger-Night.png
END:VEVENT
BEGIN:VEVENT
DTSTART;TZID=America/Chicago:20241024T180000
DTEND;TZID=America/Chicago:20241024T210000
DTSTAMP:20260421T044406
CREATED:20240717T221344Z
LAST-MODIFIED:20250130T113846Z
UID:10022707-1729792800-1729803600@theboernelife.com
SUMMARY:Live at Lost Oak Thursday Nights
DESCRIPTION:Enjoy an intimate evening of live music every Thursday night from 6 p.m. to 9 p.m. at Lost Oak Cellars\, Boerne’s premier wine and cigar bar. Featuring talented singer-songwriters performing acoustic sets\, this weekly event offers the perfect setting to relax with great music\, fine wine\, and premium cigars. \nLocated at 111 Rosewood Ave\, Boerne\, TX\, Lost Oak Cellars is nestled in Boerne’s historic district\, just off Main Street. The building itself is a piece of local history—originally the Ebensberger Fisher Funeral Home\, it was recognized as a Texas Treasure by the Texas Historical Society in 2012. Built in 1937 using wood from the old Becker Hotel\, the structure retains its Art Deco charm\, making it a unique and inviting destination for an evening out. \nJoin the community every Thursday to unwind with live music in this beautifully restored historic venue. Whether you’re a wine lover\, a cigar aficionado\, or simply looking for a great night out\, Lost Oak Cellars offers a welcoming space to enjoy the best of Boerne’s music scene. \n 
URL:https://theboernelife.com/events/live-at-lost-oak-thursday-nights/2024-10-24/
LOCATION:Lost Oak Cellars\, 111 Rosewood Ave\, Boerne\, TX\, 78006\, United States
CATEGORIES:Food and Drink,Music
ATTACH;FMTTYPE=image/jpeg:https://theboernelife.com/wp-content/uploads/2024/11/Lost-Oak-Cellars-7.jpg
END:VEVENT
BEGIN:VEVENT
DTSTART;TZID=America/Chicago:20241024T183000
DTEND;TZID=America/Chicago:20241024T200000
DTSTAMP:20260421T044406
CREATED:20241001T221638Z
LAST-MODIFIED:20241021T184405Z
UID:10022503-1729794600-1729800000@theboernelife.com
SUMMARY:A Haunted Halloween Cocktail Workshop
DESCRIPTION:Why not try something a little different to get in the Halloween spirit? Join Assemble Cocktail Workshop for a scary fun night at the Herff Gathering Hall on October 24th at 6:30 PM.  \nGuided by seasonal flavors\, participants will craft three unique cocktails\, including Blood Moon Rising\, a Smoked Blackberry & Sage Margarita\, and the Toffee Terror-Tini.  \nWhether you prefer your drinks spirited or non-spirited\, this 21+ event offers a night of hands-on mixing\, spooky fun\, and laughter. Great for girls’ night\, date night\, or whatever occassion! \nNote: spaces are limited\, so reserve your spot for this pre-Halloween gathering.
URL:https://theboernelife.com/events/a-haunted-halloween-cocktail-workshop/
LOCATION:Herff Farm\, 33 Herff Rd\, Boerne\, TX\, 78006\, United States
CATEGORIES:Food and Drink,Holiday
ATTACH;FMTTYPE=image/jpeg:https://theboernelife.com/wp-content/uploads/2024/10/A-Haunted-Halloween-Cocktail-Workshop.jpg
END:VEVENT
END:VCALENDAR