BEGIN:VCALENDAR
VERSION:2.0
PRODID:-//The Boerne Life - ECPv6.15.15//NONSGML v1.0//EN
CALSCALE:GREGORIAN
METHOD:PUBLISH
X-WR-CALNAME:The Boerne Life
X-ORIGINAL-URL:https://theboernelife.com
X-WR-CALDESC:Events for The Boerne Life
REFRESH-INTERVAL;VALUE=DURATION:PT1H
X-Robots-Tag:noindex
X-PUBLISHED-TTL:PT1H
BEGIN:VTIMEZONE
TZID:America/Chicago
BEGIN:DAYLIGHT
TZOFFSETFROM:-0600
TZOFFSETTO:-0500
TZNAME:CDT
DTSTART:20230312T080000
END:DAYLIGHT
BEGIN:STANDARD
TZOFFSETFROM:-0500
TZOFFSETTO:-0600
TZNAME:CST
DTSTART:20231105T070000
END:STANDARD
BEGIN:DAYLIGHT
TZOFFSETFROM:-0600
TZOFFSETTO:-0500
TZNAME:CDT
DTSTART:20240310T080000
END:DAYLIGHT
BEGIN:STANDARD
TZOFFSETFROM:-0500
TZOFFSETTO:-0600
TZNAME:CST
DTSTART:20241103T070000
END:STANDARD
BEGIN:DAYLIGHT
TZOFFSETFROM:-0600
TZOFFSETTO:-0500
TZNAME:CDT
DTSTART:20250309T080000
END:DAYLIGHT
BEGIN:STANDARD
TZOFFSETFROM:-0500
TZOFFSETTO:-0600
TZNAME:CST
DTSTART:20251102T070000
END:STANDARD
END:VTIMEZONE
BEGIN:VEVENT
DTSTART;VALUE=DATE:20241021
DTEND;VALUE=DATE:20241102
DTSTAMP:20260422T185958
CREATED:20241021T124645Z
LAST-MODIFIED:20241021T185650Z
UID:10022507-1729468800-1730505599@theboernelife.com
SUMMARY:Early Voting
DESCRIPTION:Early voting for the 2024 Presidential Election begins on October 21st in Kendall County. It runs daily through November 1st. \nIn Boerne\, it will be held at the Kendall County Courthouse Annex. The schedule is as follows: \n\nMonday October 21: 8 AM – 6 PM\nTuesday October 22: 8 AM – 6 PM\nWednesday October 23: 8 AM – 6 PM\nThursday October 24: 8 AM – 6 PM\nFriday October 25: 8 AM – 6 PM\nSaturday October 26: 7 AM – 7 PM\nSunday October 27: 7 AM – 7 PM\nMonday October 28: 7 AM – 7 PM\nTuesday October 29: 7 AM – 7 PM\nWednesday October 30: 7 AM – 7 PM\nThursday October 31: 7 AM – 7 PM\nFriday November 1: 7 AM – 7 PM\n\nKendall County will also have a location open temporarily at Comfort Baptist Church on October 25 and 26th\, from 9 AM – 6 PM. That’s at 100 Amber Drive\, Comfort\, TX 78013.
URL:https://theboernelife.com/events/early-voting/
LOCATION:Kendall County Courthouse Annex\, 221 Fawn Valley Dr\, Boerne\, TX\, 78006\, United States
CATEGORIES:General
ATTACH;FMTTYPE=image/jpeg:https://theboernelife.com/wp-content/uploads/2024/10/Early-Voting.jpg
END:VEVENT
BEGIN:VEVENT
DTSTART;VALUE=DATE:20241024
DTEND;VALUE=DATE:20241027
DTSTAMP:20260422T185958
CREATED:20241023T143447Z
LAST-MODIFIED:20241023T143447Z
UID:10022763-1729728000-1729987199@theboernelife.com
SUMMARY:Z's Pizza Estate Sale
DESCRIPTION:Z’s Wood Fired Pizza is hosting a large estate sale at 118 Old San Antonio Road in Boerne\, Texas\, from Thursday to Saturday\, October 24-26\, from 9 am to 5 pm. They are selling various items\, including tables\, chairs\, refrigerators\, freezers\, cooking equipment\, signage\, glassware\, ovens\, clothing\, shelving\, and more. \nFree sandwiches and tea will be available\, with beer and wine for purchase. Attendees are encouraged to arrive early to get the best selection of items. \nThe estate sale follows the announcement that Z’s would be permanently closing their doors.
URL:https://theboernelife.com/events/zs-pizza-estate-sale/
LOCATION:Z’s Woodfired Pizza\, 118 Old San Antonio Road\, Boerne\, TX\, 78006\, United States
CATEGORIES:Food and Drink
ATTACH;FMTTYPE=image/jpeg:https://theboernelife.com/wp-content/uploads/2024/10/Zs-Estate-Sale.jpg
END:VEVENT
BEGIN:VEVENT
DTSTART;TZID=America/Chicago:20241025T100000
DTEND;TZID=America/Chicago:20241025T110000
DTSTAMP:20260422T185958
CREATED:20240216T112526Z
LAST-MODIFIED:20251226T021919Z
UID:10005325-1729850400-1729854000@theboernelife.com
SUMMARY:Tai Chi with Qi gong
DESCRIPTION:What to Expect in Class: Qigong & Tai Chi \nTake a break from your busy day with the calming\, gentle practice of Qigong and Tai Chi. This class is divided into two parts: \nPart I: Qigong (Chi Kung)\nStart with slow\, repetitive movements that promote relaxation and help prepare the body and mind for Tai Chi. Qigong can also be practiced on its own for stress relief and improved energy flow. \nPart II: Tai Chi\nLearn the Yang-Wu 46-Movements Tai Chi Form—a flowing sequence of low-impact movements coordinated with breath and focus. Often called “moving meditation\,” Tai Chi enhances balance\, flexibility\, and calm. Movements can be done standing or seated. \nPlease wear loose-fitting clothing. No equipment needed. \nMore about the instructor: \nLavada Smith brings a rich blend of experience\, knowledge\, and calm energy to every class she teaches. A certified Qigong Instructor and Practitioner since 2018 and a certified Tai Chi Yang-Wu Form Instructor since 2016\, Lavada shares her deep understanding of mindful movement with grace and patience. \nBefore stepping into the world of holistic wellness\, Lavada spent 48 years in the fields of technology and engineering\, followed by a decade as a kinesiology and massage therapist. Her lifelong curiosity about the connection between body\, mind\, and energy has shaped her teaching style—gentle\, grounded\, and accessible to all. \nOutside of class\, Lavada enjoys the quiet companionship of her beloved pets\, who have been constant friends through each phase of her journey.
URL:https://theboernelife.com/events/tai-chi-qi-gong/2024-10-25/
LOCATION:Patrick Heath Public Library\, 451 N. Main Street\, Boerne\, TX\, 78006\, United States
CATEGORIES:Health and Wellness
ATTACH;FMTTYPE=image/jpeg:https://theboernelife.com/wp-content/uploads/2024/02/Lavada-and-Lady-Outside-1.jpg
END:VEVENT
BEGIN:VEVENT
DTSTART;TZID=America/Chicago:20241025T180000
DTEND;TZID=America/Chicago:20241025T210000
DTSTAMP:20260422T185958
CREATED:20240304T024944Z
LAST-MODIFIED:20250214T223825Z
UID:10026128-1729879200-1729890000@theboernelife.com
SUMMARY:Live Music at Free Roam
DESCRIPTION:The Free Roam Brewing Company has a family friendly beer garden with games for the kids and a flat bed stage that hosts some of the coolest live music in town. To see who is playing tonight\, we recommend checking their Instagram. 
URL:https://theboernelife.com/events/live-music-at-free-roam/2024-10-25/
LOCATION:Free Roam Brewing Company\, 325 S Main Street\, Boerne\, TX\, 78006\, United States
CATEGORIES:Music,Outdoors
ATTACH;FMTTYPE=image/jpeg:https://theboernelife.com/wp-content/uploads/2024/03/Live-Music-at-Free-Roam.jpg
END:VEVENT
BEGIN:VEVENT
DTSTART;TZID=America/Chicago:20241025T180000
DTEND;TZID=America/Chicago:20241025T210000
DTSTAMP:20260422T185958
CREATED:20241023T111800Z
LAST-MODIFIED:20241023T153837Z
UID:10022759-1729879200-1729890000@theboernelife.com
SUMMARY:Murder Mystery Masquerade at Tapatio Springs
DESCRIPTION:Head out to Tapatio for an evening of mystery and intrigue at the immersive Murder Mystery Masquerade! Guests will become part of a thrilling ‘Whodunnit’ experience\, led by the talented actors of American Immersion Theater. Test your detective skills to solve the crime and uncover the culprit!\n\n\n\n\n\n\n\n\n\n\n\nThe event will take place on Friday\, October 25\, from 6 PM to 9 PM at the Cibolo Ballroom. Tickets are $50 per person\, and a cash bar will be available. Childcare services are offered. Please RSVP by October 21st to secure your spot. \nFor more information or to RSVP\, contact RSVP@tapatio.com or call 830.537.6236.
URL:https://theboernelife.com/events/murder-mystery-masquerade-at-tapatio-springs/
LOCATION:La Cascada Table & Bar\, 1 Resort Way\, Boerne\, TX\, 78006\, United States
CATEGORIES:Arts and Culture,Food and Drink,Holiday
ATTACH;FMTTYPE=image/jpeg:https://theboernelife.com/wp-content/uploads/2024/10/Murder-Mystery.jpg
END:VEVENT
BEGIN:VEVENT
DTSTART;TZID=America/Chicago:20241025T180000
DTEND;TZID=America/Chicago:20241025T220000
DTSTAMP:20260422T185958
CREATED:20240628T134238Z
LAST-MODIFIED:20240628T134238Z
UID:10019185-1729879200-1729893600@theboernelife.com
SUMMARY:Karaoke at Pure Country BBQ & Grill
DESCRIPTION:Head out to Pure Country every Friday night from 6-10 pm for some karaoke fun. There’s plenty of good food and family fun!
URL:https://theboernelife.com/events/karaoke-at-pure-country-bbq-grill/2024-10-25/
LOCATION:TX
CATEGORIES:Music
ATTACH;FMTTYPE=image/jpeg:https://theboernelife.com/wp-content/uploads/2024/06/Pure-Country-Karaoke-1.jpg
END:VEVENT
BEGIN:VEVENT
DTSTART;TZID=America/Chicago:20241025T183000
DTEND;TZID=America/Chicago:20241025T213000
DTSTAMP:20260422T185958
CREATED:20240229T102833Z
LAST-MODIFIED:20240917T144742Z
UID:10007288-1729881000-1729891800@theboernelife.com
SUMMARY:Live Music at Pure Country BBQ & Grill
DESCRIPTION:Head out to Pure Country BBQ & Grill on Friday or Saturday night for live music\, good food and drink\, and the perfect place to let the kids run around and play. \nFor current lineups\, you can check here.
URL:https://theboernelife.com/events/pure-country-bbq-grill/2024-10-25/
LOCATION:Pure Country BBQ & Grill\, 1481 S Main St\, Boerne\, TX\, 78006\, United States
CATEGORIES:Music
ATTACH;FMTTYPE=image/jpeg:https://theboernelife.com/wp-content/uploads/2024/02/Pure-Country-BBQ-Grill.jpg
END:VEVENT
BEGIN:VEVENT
DTSTART;TZID=America/Chicago:20241025T190000
DTEND;TZID=America/Chicago:20241025T220000
DTSTAMP:20260422T185958
CREATED:20241022T212715Z
LAST-MODIFIED:20241022T212903Z
UID:10022757-1729882800-1729893600@theboernelife.com
SUMMARY:Boerne Boos and Booze
DESCRIPTION:Get ready for a spook-tacular evening at the Hallo-wine dance party! Come dressed in your best Halloween costume and dance the night away. There will be prizes for both the best individual costume and the best couples costume. Enjoy Texas wine\, charcuterie\, and pizzas—all treats\, no tricks! Don’t miss out on a night of fun\, laughter\, and plenty of booooooze!
URL:https://theboernelife.com/events/boerne-boos-and-booze/
LOCATION:Lost Oak Cellars\, 111 Rosewood Ave\, Boerne\, TX\, 78006\, United States
CATEGORIES:Food and Drink
ATTACH;FMTTYPE=image/jpeg:https://theboernelife.com/wp-content/uploads/2024/10/Boerne-Boos-Booze.jpg
END:VEVENT
BEGIN:VEVENT
DTSTART;TZID=America/Chicago:20241025T200000
DTEND;TZID=America/Chicago:20241025T220000
DTSTAMP:20260422T185958
CREATED:20241025T115138Z
LAST-MODIFIED:20241025T115239Z
UID:10022812-1729886400-1729893600@theboernelife.com
SUMMARY:Honky Tonk Hissy Fit: Boerne Theatre
DESCRIPTION:Experience the small-town showdown of Honky Tonk Hissy Fit at Boerne Community Theatre! Follow Mayor Joveeta and her colorful crew as they fight to protect their beloved Doublewide from big-city corporate threats. Filled with laughter\, Southern charm\, and a touch of drama\, this show delivers a fun and heartfelt experience for all. Don’t miss out on the excitement—catch a performance and enjoy a night of comedy and small-town spirit! \nGet your tickets here.
URL:https://theboernelife.com/events/honky-tonk-hissy-fit-boerne-theatre-2/
LOCATION:Boerne Community Theatre\, 907 E. Blanco Rd.\, Boerne\, TX\, 78006\, United States
CATEGORIES:Arts and Culture
ATTACH;FMTTYPE=image/jpeg:https://theboernelife.com/wp-content/uploads/2024/10/Honky-Tonk-Hissy-Fit.jpg
END:VEVENT
BEGIN:VEVENT
DTSTART;TZID=America/Chicago:20241025T210000
DTEND;TZID=America/Chicago:20241025T235900
DTSTAMP:20260422T185958
CREATED:20240223T035249Z
LAST-MODIFIED:20250214T223935Z
UID:10010929-1729890000-1729900740@theboernelife.com
SUMMARY:Live Music at Salvador Dobbs
DESCRIPTION:Every Friday and Saturday night from 9-12pm\, have some drinks and catch live music at Salvador Dobbs. Lineup changes regularly\, so check their Facebook page to see who is playing tonight!
URL:https://theboernelife.com/events/live-music-at-salvador-dobbs-2/2024-10-25/
LOCATION:Salvador Dobbs\, 512 River Rd\, Boerne\, TX\, 78006\, United States
CATEGORIES:Music
ATTACH;FMTTYPE=image/jpeg:https://theboernelife.com/wp-content/uploads/2024/03/Salvador-Dobbs-Live-Music.jpg
END:VEVENT
END:VCALENDAR