BEGIN:VCALENDAR
VERSION:2.0
PRODID:-//The Boerne Life - ECPv6.15.15//NONSGML v1.0//EN
CALSCALE:GREGORIAN
METHOD:PUBLISH
X-WR-CALNAME:The Boerne Life
X-ORIGINAL-URL:https://theboernelife.com
X-WR-CALDESC:Events for The Boerne Life
REFRESH-INTERVAL;VALUE=DURATION:PT1H
X-Robots-Tag:noindex
X-PUBLISHED-TTL:PT1H
BEGIN:VTIMEZONE
TZID:America/Chicago
BEGIN:DAYLIGHT
TZOFFSETFROM:-0600
TZOFFSETTO:-0500
TZNAME:CDT
DTSTART:20230312T080000
END:DAYLIGHT
BEGIN:STANDARD
TZOFFSETFROM:-0500
TZOFFSETTO:-0600
TZNAME:CST
DTSTART:20231105T070000
END:STANDARD
BEGIN:DAYLIGHT
TZOFFSETFROM:-0600
TZOFFSETTO:-0500
TZNAME:CDT
DTSTART:20240310T080000
END:DAYLIGHT
BEGIN:STANDARD
TZOFFSETFROM:-0500
TZOFFSETTO:-0600
TZNAME:CST
DTSTART:20241103T070000
END:STANDARD
BEGIN:DAYLIGHT
TZOFFSETFROM:-0600
TZOFFSETTO:-0500
TZNAME:CDT
DTSTART:20250309T080000
END:DAYLIGHT
BEGIN:STANDARD
TZOFFSETFROM:-0500
TZOFFSETTO:-0600
TZNAME:CST
DTSTART:20251102T070000
END:STANDARD
END:VTIMEZONE
BEGIN:VEVENT
DTSTART;VALUE=DATE:20241115
DTEND;VALUE=DATE:20241117
DTSTAMP:20260422T172258
CREATED:20241104T013211Z
LAST-MODIFIED:20241104T013211Z
UID:10022871-1731628800-1731801599@theboernelife.com
SUMMARY:Holiday Art Show & Sale at Texas Treasures
DESCRIPTION:Start your holiday season with Texas Treasures Fine Art Gallery’s biggest sale of the year on November 15 and 16! Discover incredible deals on unique\, one-of-a-kind art pieces perfect for Christmas gifts or adding a festive touch to your own home. \nEnjoy delicious catered food\, an open bar\, and the chance to meet some of the talented artists behind the work. Held at their new gallery location at 265 N. Main St. in Boerne\, this is a fantastic opportunity to celebrate the season with art\, good company\, and holiday cheer!
URL:https://theboernelife.com/events/holiday-art-show-sale-at-texas-treasures/
LOCATION:TX
CATEGORIES:Arts and Culture,Holiday,Shopping
ATTACH;FMTTYPE=image/jpeg:https://theboernelife.com/wp-content/uploads/2024/11/Texas-Treasures-Holiday-Art-Show-Sale.jpg
END:VEVENT
BEGIN:VEVENT
DTSTART;TZID=America/Chicago:20241115T090000
DTEND;TZID=America/Chicago:20241115T100000
DTSTAMP:20260422T172258
CREATED:20241113T120026Z
LAST-MODIFIED:20241113T120026Z
UID:10023588-1731661200-1731664800@theboernelife.com
SUMMARY:Kids .5K with Boerne Momco at City Park
DESCRIPTION:oin Boerne MomCo and Fit4Mom for a fun-filled morning at the .5K Turkey Trot on Friday\, November 15\, at Boerne City Park. The event kicks off with a free Stroller Strides preview class from 9:00 to 9:30 a.m.\, followed by a warm-up trot for the little ones (ages walking to 6 years old) at 9:30 a.m. \nMedals will be awarded right after the race\, making it a memorable experience for the kids. It’s a great way for families to get active and enjoy the crisp fall air together. Don’t miss out—sign up through the provided link to secure your spot!
URL:https://theboernelife.com/events/kids-5k-with-boerne-momco-at-city-park/
LOCATION:Boerne City Park\, 106 City Park Road\, Boerne\, TX\, 78006\, United States
CATEGORIES:Kids and Family,Outdoors
ATTACH;FMTTYPE=image/jpeg:https://theboernelife.com/wp-content/uploads/2024/11/Home-on-the-Ranch-Holiday-Market-1.jpg
END:VEVENT
BEGIN:VEVENT
DTSTART;TZID=America/Chicago:20241115T100000
DTEND;TZID=America/Chicago:20241115T110000
DTSTAMP:20260422T172258
CREATED:20240216T112526Z
LAST-MODIFIED:20251226T021919Z
UID:10005328-1731664800-1731668400@theboernelife.com
SUMMARY:Tai Chi with Qi gong
DESCRIPTION:What to Expect in Class: Qigong & Tai Chi \nTake a break from your busy day with the calming\, gentle practice of Qigong and Tai Chi. This class is divided into two parts: \nPart I: Qigong (Chi Kung)\nStart with slow\, repetitive movements that promote relaxation and help prepare the body and mind for Tai Chi. Qigong can also be practiced on its own for stress relief and improved energy flow. \nPart II: Tai Chi\nLearn the Yang-Wu 46-Movements Tai Chi Form—a flowing sequence of low-impact movements coordinated with breath and focus. Often called “moving meditation\,” Tai Chi enhances balance\, flexibility\, and calm. Movements can be done standing or seated. \nPlease wear loose-fitting clothing. No equipment needed. \nMore about the instructor: \nLavada Smith brings a rich blend of experience\, knowledge\, and calm energy to every class she teaches. A certified Qigong Instructor and Practitioner since 2018 and a certified Tai Chi Yang-Wu Form Instructor since 2016\, Lavada shares her deep understanding of mindful movement with grace and patience. \nBefore stepping into the world of holistic wellness\, Lavada spent 48 years in the fields of technology and engineering\, followed by a decade as a kinesiology and massage therapist. Her lifelong curiosity about the connection between body\, mind\, and energy has shaped her teaching style—gentle\, grounded\, and accessible to all. \nOutside of class\, Lavada enjoys the quiet companionship of her beloved pets\, who have been constant friends through each phase of her journey.
URL:https://theboernelife.com/events/tai-chi-qi-gong/2024-11-15/
LOCATION:Patrick Heath Public Library\, 451 N. Main Street\, Boerne\, TX\, 78006\, United States
CATEGORIES:Health and Wellness
ATTACH;FMTTYPE=image/jpeg:https://theboernelife.com/wp-content/uploads/2024/02/Lavada-and-Lady-Outside-1.jpg
END:VEVENT
BEGIN:VEVENT
DTSTART;TZID=America/Chicago:20241115T110000
DTEND;TZID=America/Chicago:20241115T130000
DTSTAMP:20260422T172258
CREATED:20241022T112321Z
LAST-MODIFIED:20241022T112321Z
UID:10022756-1731668400-1731675600@theboernelife.com
SUMMARY:Moms in Business Networking Event
DESCRIPTION:Join a community of entrepreneurial moms on Friday\, November 15th\, from 11 AM to 1 PM at Complete Balance PT in Boerne. This event offers a space to connect\, share experiences\, and support each other on the entrepreneurial journey. \nChildren are welcome to join in free play\, though no childcare is provided. Come and grow alongside like-minded moms in a thriving\, supportive environment.
URL:https://theboernelife.com/events/moms-in-business-networking-event/
LOCATION:Complete Balance\, 39 Scenic Loop Rd\, Boerne\, TX\, 78006\, United States
CATEGORIES:Business and Networking,Women
ATTACH;FMTTYPE=image/jpeg:https://theboernelife.com/wp-content/uploads/2024/10/Boerne-Love-Moms-.jpg
ORGANIZER;CN="Boerne Love":MAILTO:connect@boernelove.com
END:VEVENT
BEGIN:VEVENT
DTSTART;TZID=America/Chicago:20241115T180000
DTEND;TZID=America/Chicago:20241115T210000
DTSTAMP:20260422T172258
CREATED:20240304T024944Z
LAST-MODIFIED:20250214T223825Z
UID:10026134-1731693600-1731704400@theboernelife.com
SUMMARY:Live Music at Free Roam
DESCRIPTION:The Free Roam Brewing Company has a family friendly beer garden with games for the kids and a flat bed stage that hosts some of the coolest live music in town. To see who is playing tonight\, we recommend checking their Instagram. 
URL:https://theboernelife.com/events/live-music-at-free-roam/2024-11-15/
LOCATION:Free Roam Brewing Company\, 325 S Main Street\, Boerne\, TX\, 78006\, United States
CATEGORIES:Music,Outdoors
ATTACH;FMTTYPE=image/jpeg:https://theboernelife.com/wp-content/uploads/2024/03/Live-Music-at-Free-Roam.jpg
END:VEVENT
BEGIN:VEVENT
DTSTART;TZID=America/Chicago:20241115T180000
DTEND;TZID=America/Chicago:20241115T220000
DTSTAMP:20260422T172258
CREATED:20241104T122947Z
LAST-MODIFIED:20241105T192206Z
UID:10022946-1731693600-1731708000@theboernelife.com
SUMMARY:Jones Christmas Ranch Drive Thru Lights
DESCRIPTION:Pile into the car and enjoy a spectacular drive-through light and music display set in the Texas hills\, celebrating the magic and meaning of the holiday season – it’s opening night at the Jones Christmas Ranch! \nWith over 3 million lights this year\, the show promises an even brighter experience! \nOpen nightly\, Sunday through Thursday from 6 to 10 p.m.\, and Fridays and Saturdays from 6 to 11 p.m. For an extra festive touch\, hours extend until midnight on December 21 and 22\, with special hours on Christmas Eve and Christmas Day from 6 to 9 p.m. \nTune your radio to 94.5 FM as you drive through to watch the lights dance along to the music. Tickets are available at the door\, with season passes also offered for those who want to enjoy the display throughout the season. \nCost is $40 per vehicle on the weekend\, $35 on weekdays.
URL:https://theboernelife.com/events/jones-christmas-ranch/2024-11-15/
LOCATION:The Jones Christmas Ranch\, 43360 Interstate 10 West Frontage Rd\, Boerne\, TX\, 78006\, United States
CATEGORIES:Holiday,Kids and Family
ATTACH;FMTTYPE=image/jpeg:https://theboernelife.com/wp-content/uploads/2024/11/Jones-Christmas-Ranch.jpg
END:VEVENT
BEGIN:VEVENT
DTSTART;TZID=America/Chicago:20241115T183000
DTEND;TZID=America/Chicago:20241115T213000
DTSTAMP:20260422T172258
CREATED:20240229T102833Z
LAST-MODIFIED:20240917T144742Z
UID:10007294-1731695400-1731706200@theboernelife.com
SUMMARY:Live Music at Pure Country BBQ & Grill
DESCRIPTION:Head out to Pure Country BBQ & Grill on Friday or Saturday night for live music\, good food and drink\, and the perfect place to let the kids run around and play. \nFor current lineups\, you can check here.
URL:https://theboernelife.com/events/pure-country-bbq-grill/2024-11-15/
LOCATION:Pure Country BBQ & Grill\, 1481 S Main St\, Boerne\, TX\, 78006\, United States
CATEGORIES:Music
ATTACH;FMTTYPE=image/jpeg:https://theboernelife.com/wp-content/uploads/2024/02/Pure-Country-BBQ-Grill.jpg
END:VEVENT
BEGIN:VEVENT
DTSTART;TZID=America/Chicago:20241115T210000
DTEND;TZID=America/Chicago:20241115T235900
DTSTAMP:20260422T172258
CREATED:20240223T035249Z
LAST-MODIFIED:20250214T223935Z
UID:10010935-1731704400-1731715140@theboernelife.com
SUMMARY:Live Music at Salvador Dobbs
DESCRIPTION:Every Friday and Saturday night from 9-12pm\, have some drinks and catch live music at Salvador Dobbs. Lineup changes regularly\, so check their Facebook page to see who is playing tonight!
URL:https://theboernelife.com/events/live-music-at-salvador-dobbs-2/2024-11-15/
LOCATION:Salvador Dobbs\, 512 River Rd\, Boerne\, TX\, 78006\, United States
CATEGORIES:Music
ATTACH;FMTTYPE=image/jpeg:https://theboernelife.com/wp-content/uploads/2024/03/Salvador-Dobbs-Live-Music.jpg
END:VEVENT
END:VCALENDAR