BEGIN:VCALENDAR
VERSION:2.0
PRODID:-//The Boerne Life - ECPv6.15.15//NONSGML v1.0//EN
CALSCALE:GREGORIAN
METHOD:PUBLISH
X-ORIGINAL-URL:https://theboernelife.com
X-WR-CALDESC:Events for The Boerne Life
REFRESH-INTERVAL;VALUE=DURATION:PT1H
X-Robots-Tag:noindex
X-PUBLISHED-TTL:PT1H
BEGIN:VTIMEZONE
TZID:America/Chicago
BEGIN:DAYLIGHT
TZOFFSETFROM:-0600
TZOFFSETTO:-0500
TZNAME:CDT
DTSTART:20230312T080000
END:DAYLIGHT
BEGIN:STANDARD
TZOFFSETFROM:-0500
TZOFFSETTO:-0600
TZNAME:CST
DTSTART:20231105T070000
END:STANDARD
BEGIN:DAYLIGHT
TZOFFSETFROM:-0600
TZOFFSETTO:-0500
TZNAME:CDT
DTSTART:20240310T080000
END:DAYLIGHT
BEGIN:STANDARD
TZOFFSETFROM:-0500
TZOFFSETTO:-0600
TZNAME:CST
DTSTART:20241103T070000
END:STANDARD
BEGIN:DAYLIGHT
TZOFFSETFROM:-0600
TZOFFSETTO:-0500
TZNAME:CDT
DTSTART:20250309T080000
END:DAYLIGHT
BEGIN:STANDARD
TZOFFSETFROM:-0500
TZOFFSETTO:-0600
TZNAME:CST
DTSTART:20251102T070000
END:STANDARD
BEGIN:DAYLIGHT
TZOFFSETFROM:-0600
TZOFFSETTO:-0500
TZNAME:CDT
DTSTART:20260308T080000
END:DAYLIGHT
BEGIN:STANDARD
TZOFFSETFROM:-0500
TZOFFSETTO:-0600
TZNAME:CST
DTSTART:20261101T070000
END:STANDARD
END:VTIMEZONE
BEGIN:VEVENT
DTSTART;TZID=America/Chicago:20241231T183000
DTEND;TZID=America/Chicago:20250101T010000
DTSTAMP:20260419T123203
CREATED:20241224T200250Z
LAST-MODIFIED:20241224T200250Z
UID:10024600-1735669800-1735693200@theboernelife.com
SUMMARY:New Year's Eve Extravaganza at Tapatio Springs
DESCRIPTION:Ring in 2025 with an unforgettable New Year’s Eve celebration at Tapatio Springs! This extravaganza features live music\, dinner\, dancing\, and plenty of champagne to toast the new year in style. \nSavor refined Hill Country cuisine with an exquisite dinner buffet and dessert\, then dance the night away to live music by The SanAntunes. Celebrate midnight with a champagne toast and a dazzling balloon drop. An optional open bar package is available for $75 per person\, or guests can enjoy a full cash bar throughout the evening. \nDoors open at 6:30 p.m.\, with dinner service from 7 p.m. to 9 p.m. The celebration continues into the night with live music and plenty of party vibes. Tickets are $129 per person\, which includes dinner and party access. Guests must be 21 or older to attend. \nReserve your spot and start 2025 on a high note at Tapatio Springs! For full details and ticket information\, visit their website.
URL:https://theboernelife.com/events/new-years-eve-extravaganza-at-tapatio-springs/
LOCATION:La Cascada Table & Bar\, 1 Resort Way\, Boerne\, TX\, 78006\, United States
CATEGORIES:Holiday
ATTACH;FMTTYPE=image/jpeg:https://theboernelife.com/wp-content/uploads/2024/12/New-Year-Tapatio.jpg
END:VEVENT
BEGIN:VEVENT
DTSTART;TZID=America/Chicago:20241231T183000
DTEND;TZID=America/Chicago:20250101T010000
DTSTAMP:20260419T123203
CREATED:20241228T194609Z
LAST-MODIFIED:20241228T194651Z
UID:10024677-1735669800-1735693200@theboernelife.com
SUMMARY:New Year's Eve at The Oak
DESCRIPTION:Step into an evening of vintage elegance at The Oak of Boerne’s inaugural New Year’s Eve celebration on December 31\, 2024. This exclusive event invites guests to toast to 2025 in a glamorous setting inspired by the 1920s to 1970s. Enjoy craft drinks\, an array of elegant hors d’oeuvres\, and music curated to create an unforgettable atmosphere. \nTickets are $50 for members and $150 for a limited number of non-members. Non-members will have a rare opportunity to experience the unique ambiance of The Oak\, discover the perks of membership\, and celebrate the New Year in style. Tickets are available on a first-come\, first-served basis and can be purchased online\, in person at the club\, or by contacting membership@theoakofboerne.com. \nYour ticket includes a glass of fine French champagne to toast the New Year and an impressive selection of hors d’oeuvres featuring caviar blini\, smoked salmon canapés\, charcuterie\, antipasti bites\, bruschetta\, crudité\, cheesecake bites\, and Hudiburg Kringle. \nThe celebration begins with doors opening at 6:30 p.m.\, and festivities kicking off at 7:30 p.m.\, continuing into the New Year. Guests are encouraged to dress in formal attire with a vintage twist—think tuxedos\, evening gowns\, and chic retro styles. \nRing in 2025 with sophistication and style at The Oak of Boerne. Space is limited\, so secure your spot soon for this extraordinary celebration!
URL:https://theboernelife.com/events/new-years-eve-at-the-oak/
LOCATION:TX
CATEGORIES:Holiday
ATTACH;FMTTYPE=image/jpeg:https://theboernelife.com/wp-content/uploads/2024/12/The-Oak-NYE.jpg
END:VEVENT
BEGIN:VEVENT
DTSTART;TZID=America/Chicago:20250101T090000
DTEND;TZID=America/Chicago:20250101T130000
DTSTAMP:20260419T123203
CREATED:20241229T083433Z
LAST-MODIFIED:20241229T083433Z
UID:10024702-1735722000-1735736400@theboernelife.com
SUMMARY:First Day Hikes at Guadalupe River State Park & Honey Creek State Natural Area
DESCRIPTION:Kick off 2025 with adventure and fresh air at the First Day Hikes on January 1 at Guadalupe River State Park and Honey Creek State Natural Area! Whether you prefer a self-guided hike or a guided walk\, there’s something for everyone to enjoy. \nGuadalupe River State Park: Explore the trails at your own pace with self-guided hike options throughout the park. \nHoney Creek State Natural Area: Join one of three guided walks offered at 9 am\, 10 am\, and 1 pm. Registration is required for these walks\, and spaces are limited. Reserve your spot at Honey Creek Guided Walk Registration. \nBonus: After your hike\, stop by the headquarters to share which trails you tackled and how many people were in your group. You’ll receive a First Day Hike sticker as a keepsake of your adventure! \nStart the year with nature\, good vibes\, and a little exercise. For more details\, visit Guadalupe River State Park Events. Let’s hit the trails and make 2025 a year of adventure!
URL:https://theboernelife.com/events/first-day-hikes-at-guadalupe-river-state-park-honey-creek-state-natural-area/
LOCATION:Guadalupe River State Park\, 3350 Park Road 31\, Spring Branch\, Texas\, 78070
CATEGORIES:Kids and Family,Outdoors
ATTACH;FMTTYPE=image/jpeg:https://theboernelife.com/wp-content/uploads/2024/12/first-day-hikes-at-guadalupe-river-state-park-and-honey-creek-state-natural-area.jpg
END:VEVENT
BEGIN:VEVENT
DTSTART;TZID=America/Chicago:20250101T100000
DTEND;TZID=America/Chicago:20250101T110000
DTSTAMP:20260419T123203
CREATED:20240730T094514Z
LAST-MODIFIED:20241222T133020Z
UID:10021186-1735725600-1735729200@theboernelife.com
SUMMARY:Whole Body Flow Drop-In Yoga Class
DESCRIPTION:Every Thursday evening at 6:30 pm is a full body vinyasa based Yoga class at Anytime Fitness. You don’t have to be a member! For $15\, you can just show up and join in! Mats & props are available to use during class or you can bring your own.
URL:https://theboernelife.com/events/whole-body-flow-drop-in-yoga-class-2/2025-01-01/
LOCATION:Anytime Fitness Boerne\, 1018 River Rd\, Boerne\, TX\, 78006\, United States
CATEGORIES:Health and Wellness
ATTACH;FMTTYPE=image/jpeg:https://theboernelife.com/wp-content/uploads/2024/04/Drop-In-Yoga.jpg
END:VEVENT
BEGIN:VEVENT
DTSTART;TZID=America/Chicago:20250101T183000
DTEND;TZID=America/Chicago:20250101T203000
DTSTAMP:20260419T123203
CREATED:20240925T165042Z
LAST-MODIFIED:20250618T105925Z
UID:10022456-1735756200-1735763400@theboernelife.com
SUMMARY:Trivia Night at Sauced
DESCRIPTION:Every Wednesday\, head out to Sauced Wing Bar for trivia night with Austin! It starts at six thirty-ish. Arrive early and you can hit Happy Hour!
URL:https://theboernelife.com/events/trivia-night-at-sauced/2025-01-01/
LOCATION:Sauced Wing Bar\, 215 W Bandera Rd #101\, Boerne\, TX\, 78006\, United States
CATEGORIES:General
ATTACH;FMTTYPE=image/jpeg:https://theboernelife.com/wp-content/uploads/2024/09/Sauced-Wing-Bar-Trivia.jpg
END:VEVENT
END:VCALENDAR