BEGIN:VCALENDAR
VERSION:2.0
PRODID:-//The Boerne Life - ECPv6.15.15//NONSGML v1.0//EN
CALSCALE:GREGORIAN
METHOD:PUBLISH
X-ORIGINAL-URL:https://theboernelife.com
X-WR-CALDESC:Events for The Boerne Life
REFRESH-INTERVAL;VALUE=DURATION:PT1H
X-Robots-Tag:noindex
X-PUBLISHED-TTL:PT1H
BEGIN:VTIMEZONE
TZID:America/Chicago
BEGIN:DAYLIGHT
TZOFFSETFROM:-0600
TZOFFSETTO:-0500
TZNAME:CDT
DTSTART:20240310T080000
END:DAYLIGHT
BEGIN:STANDARD
TZOFFSETFROM:-0500
TZOFFSETTO:-0600
TZNAME:CST
DTSTART:20241103T070000
END:STANDARD
BEGIN:DAYLIGHT
TZOFFSETFROM:-0600
TZOFFSETTO:-0500
TZNAME:CDT
DTSTART:20250309T080000
END:DAYLIGHT
BEGIN:STANDARD
TZOFFSETFROM:-0500
TZOFFSETTO:-0600
TZNAME:CST
DTSTART:20251102T070000
END:STANDARD
BEGIN:DAYLIGHT
TZOFFSETFROM:-0600
TZOFFSETTO:-0500
TZNAME:CDT
DTSTART:20260308T080000
END:DAYLIGHT
BEGIN:STANDARD
TZOFFSETFROM:-0500
TZOFFSETTO:-0600
TZNAME:CST
DTSTART:20261101T070000
END:STANDARD
END:VTIMEZONE
BEGIN:VEVENT
DTSTART;TZID=America/Chicago:20250110T090000
DTEND;TZID=America/Chicago:20250110T130000
DTSTAMP:20260424T152709
CREATED:20250106T023801Z
LAST-MODIFIED:20250106T023801Z
UID:10024750-1736499600-1736514000@theboernelife.com
SUMMARY:Free Assisted Stretch Demo at Longevity Pilates
DESCRIPTION:Experience the benefits of assisted stretching at StretchLab Boerne with a complimentary 25-minute demo stretch. This free demo is your chance to discover how customized stretching can improve flexibility\, increase range of motion\, and enhance overall wellness. \nStretchLab’s certified Flexologists will tailor a stretch routine specific to your needs\, perfect for all fitness levels\, ages\, and body types. Don’t miss this opportunity to treat yourself and learn more about becoming a founding member of StretchLab’s newest Boerne location. Reserve your spot now by clicking here!
URL:https://theboernelife.com/events/free-assisted-stretch-demo-at-longevity-pilates/
LOCATION:Longevity Pilates\, 1100 N Main St\, Boerne\, TX\, 78006\, United States
CATEGORIES:Health and Wellness,Sports
ATTACH;FMTTYPE=image/jpeg:https://theboernelife.com/wp-content/uploads/2024/11/StretchLab-Boerne.jpg
END:VEVENT
BEGIN:VEVENT
DTSTART;TZID=America/Chicago:20250110T100000
DTEND;TZID=America/Chicago:20250110T110000
DTSTAMP:20260424T152709
CREATED:20240216T112526Z
LAST-MODIFIED:20251226T021919Z
UID:10005336-1736503200-1736506800@theboernelife.com
SUMMARY:Tai Chi with Qi gong
DESCRIPTION:What to Expect in Class: Qigong & Tai Chi \nTake a break from your busy day with the calming\, gentle practice of Qigong and Tai Chi. This class is divided into two parts: \nPart I: Qigong (Chi Kung)\nStart with slow\, repetitive movements that promote relaxation and help prepare the body and mind for Tai Chi. Qigong can also be practiced on its own for stress relief and improved energy flow. \nPart II: Tai Chi\nLearn the Yang-Wu 46-Movements Tai Chi Form—a flowing sequence of low-impact movements coordinated with breath and focus. Often called “moving meditation\,” Tai Chi enhances balance\, flexibility\, and calm. Movements can be done standing or seated. \nPlease wear loose-fitting clothing. No equipment needed. \nMore about the instructor: \nLavada Smith brings a rich blend of experience\, knowledge\, and calm energy to every class she teaches. A certified Qigong Instructor and Practitioner since 2018 and a certified Tai Chi Yang-Wu Form Instructor since 2016\, Lavada shares her deep understanding of mindful movement with grace and patience. \nBefore stepping into the world of holistic wellness\, Lavada spent 48 years in the fields of technology and engineering\, followed by a decade as a kinesiology and massage therapist. Her lifelong curiosity about the connection between body\, mind\, and energy has shaped her teaching style—gentle\, grounded\, and accessible to all. \nOutside of class\, Lavada enjoys the quiet companionship of her beloved pets\, who have been constant friends through each phase of her journey.
URL:https://theboernelife.com/events/tai-chi-qi-gong/2025-01-10/
LOCATION:Patrick Heath Public Library\, 451 N. Main Street\, Boerne\, TX\, 78006\, United States
CATEGORIES:Health and Wellness
ATTACH;FMTTYPE=image/jpeg:https://theboernelife.com/wp-content/uploads/2024/02/Lavada-and-Lady-Outside-1.jpg
END:VEVENT
BEGIN:VEVENT
DTSTART;TZID=America/Chicago:20250110T190000
DTEND;TZID=America/Chicago:20250110T220000
DTSTAMP:20260424T152709
CREATED:20241216T093639Z
LAST-MODIFIED:20250804T005503Z
UID:10024479-1736535600-1736546400@theboernelife.com
SUMMARY:Friday Night Karaoke at Pure Country BBQ & Grill
DESCRIPTION:Kick off the weekend with music\, laughter\, and unforgettable memories at Friday Night Karaoke at Pure Country BBQ in Boerne! Whether you’re a shower superstar or a seasoned performer\, the mic is waiting for you. \nThis family-friendly event welcomes all ages to sing their favorite hits and enjoy a night of fun and good vibes. Bring the whole family and make it a night to remember. \nKid’s karaoke starts at 7PM and adults hit the stage at 8PM—come check it out! Don’t miss the chance to shine and share the joy of music!
URL:https://theboernelife.com/events/friday-night-karaoke-at-pure-country-bbq-grill/2025-01-10/
LOCATION:Pure Country BBQ & Grill\, 1481 S Main St\, Boerne\, TX\, 78006\, United States
CATEGORIES:Music
ATTACH;FMTTYPE=image/jpeg:https://theboernelife.com/wp-content/uploads/2024/12/friday-night-karaoke-at-pure-country-bbq-and-grill.jpg
END:VEVENT
BEGIN:VEVENT
DTSTART;TZID=America/Chicago:20250110T200000
DTEND;TZID=America/Chicago:20250110T220000
DTSTAMP:20260424T152709
CREATED:20241120T083122Z
LAST-MODIFIED:20250113T033046Z
UID:10024055-1736539200-1736546400@theboernelife.com
SUMMARY:It's All You Karaoke at Remedy Hall
DESCRIPTION:Friday nights are your time to shine at Remedy Hall’s It’s All You Karaoke! Grab the microphone and hit the stage starting at 8 pm every Friday for an evening of fun and music. \nWhether you’re a seasoned performer or just looking to have some fun\, this is the perfect chance to showcase your talent and enjoy a great night out. Remedy Hall is the place to be for lively entertainment and good vibes. \nDon’t miss it—come sing your heart out and make Friday nights unforgettable!
URL:https://theboernelife.com/events/its-all-you-karaoke-at-remedy-hall/2025-01-10/
LOCATION:Remedy Hall\, 804 High St\, Comfort\, TX\, 78013\, United States
CATEGORIES:Music
ATTACH;FMTTYPE=image/jpeg:https://theboernelife.com/wp-content/uploads/2024/11/its-all-you-karaoke-at-remedy-hall.jpg
END:VEVENT
END:VCALENDAR