BEGIN:VCALENDAR
VERSION:2.0
PRODID:-//The Boerne Life - ECPv6.15.15//NONSGML v1.0//EN
CALSCALE:GREGORIAN
METHOD:PUBLISH
X-WR-CALNAME:The Boerne Life
X-ORIGINAL-URL:https://theboernelife.com
X-WR-CALDESC:Events for The Boerne Life
REFRESH-INTERVAL;VALUE=DURATION:PT1H
X-Robots-Tag:noindex
X-PUBLISHED-TTL:PT1H
BEGIN:VTIMEZONE
TZID:America/Chicago
BEGIN:DAYLIGHT
TZOFFSETFROM:-0600
TZOFFSETTO:-0500
TZNAME:CDT
DTSTART:20240310T080000
END:DAYLIGHT
BEGIN:STANDARD
TZOFFSETFROM:-0500
TZOFFSETTO:-0600
TZNAME:CST
DTSTART:20241103T070000
END:STANDARD
BEGIN:DAYLIGHT
TZOFFSETFROM:-0600
TZOFFSETTO:-0500
TZNAME:CDT
DTSTART:20250309T080000
END:DAYLIGHT
BEGIN:STANDARD
TZOFFSETFROM:-0500
TZOFFSETTO:-0600
TZNAME:CST
DTSTART:20251102T070000
END:STANDARD
BEGIN:DAYLIGHT
TZOFFSETFROM:-0600
TZOFFSETTO:-0500
TZNAME:CDT
DTSTART:20260308T080000
END:DAYLIGHT
BEGIN:STANDARD
TZOFFSETFROM:-0500
TZOFFSETTO:-0600
TZNAME:CST
DTSTART:20261101T070000
END:STANDARD
END:VTIMEZONE
BEGIN:VEVENT
DTSTART;TZID=America/Chicago:20250326T090000
DTEND;TZID=America/Chicago:20250326T100000
DTSTAMP:20260420T084612
CREATED:20250204T061741Z
LAST-MODIFIED:20250205T030638Z
UID:10025839-1742979600-1742983200@theboernelife.com
SUMMARY:Storytime with Ms. Kathleen at Cibolo Nature Center
DESCRIPTION:Enjoy a morning of nature\, stories\, and hands-on activities at Storytime with Ms. Kathleen\, happening every Wednesday from 9:15 am to 10 am at Cibolo Nature Center\, located at 140 City Park Rd\, Boerne\, TX. \nDesigned for children ages 2-5\, this engaging program introduces little ones to the wonders of nature through carefully selected stories\, followed by a craft\, presentation\, or outdoor activity to reinforce the lesson. This is a wonderful opportunity for young children to develop a connection with the natural world in a fun and interactive way. \nThe program is free\, with a suggested $5 donation to help cover materials. No tickets are required\, but a parent or guardian must remain with their child for the duration of the event. \nCome explore\, learn\, and play at this enriching storytime experience!
URL:https://theboernelife.com/events/storytime-with-ms-kathleen-at-cibolo-nature-center/2025-03-26/
LOCATION:Cibolo Nature Center\, 140 City Park Rd\, Boerne\, TX\, 78006\, United States
CATEGORIES:Kids and Family
ATTACH;FMTTYPE=image/jpeg:https://theboernelife.com/wp-content/uploads/2025/02/storytime-with-ms-kathleen-at-cibolo-nature-center.jpg
END:VEVENT
BEGIN:VEVENT
DTSTART;TZID=America/Chicago:20250326T100000
DTEND;TZID=America/Chicago:20250326T110000
DTSTAMP:20260420T084612
CREATED:20240730T094514Z
LAST-MODIFIED:20241222T133020Z
UID:10021198-1742983200-1742986800@theboernelife.com
SUMMARY:Whole Body Flow Drop-In Yoga Class
DESCRIPTION:Every Thursday evening at 6:30 pm is a full body vinyasa based Yoga class at Anytime Fitness. You don’t have to be a member! For $15\, you can just show up and join in! Mats & props are available to use during class or you can bring your own.
URL:https://theboernelife.com/events/whole-body-flow-drop-in-yoga-class-2/2025-03-26/
LOCATION:Anytime Fitness Boerne\, 1018 River Rd\, Boerne\, TX\, 78006\, United States
CATEGORIES:Health and Wellness
ATTACH;FMTTYPE=image/jpeg:https://theboernelife.com/wp-content/uploads/2024/04/Drop-In-Yoga.jpg
END:VEVENT
BEGIN:VEVENT
DTSTART;TZID=America/Chicago:20250326T100000
DTEND;TZID=America/Chicago:20250326T113000
DTSTAMP:20260420T084612
CREATED:20250224T182812Z
LAST-MODIFIED:20250224T182812Z
UID:10026289-1742983200-1742988600@theboernelife.com
SUMMARY:Taste of The Nest at The Nest Nature School
DESCRIPTION:Families with young children are invited to experience Taste of The Nest\, a nature-based learning opportunity designed for children ages 18 months to 3 years. This special program offers a hands-on introduction to The Nest Nature School\, where little explorers can engage with the natural world through play\, discovery\, and connection with other families. \nSessions take place on Wednesdays from 10:00 – 11:30 am at The Nest Nature School\, 33 Herff Road\, Boerne\, TX: \nMarch 19 – Exploring Trees\nMarch 26 – Finding Flowers\nApril 2 – Down in the Dirt\nApril 9 – Watching Water\nApril 16 – Mushy Mud\nApril 23 – Incredible Ice\nApril 30 – Colors in Nature \nEach session costs $35 per child\, with a maximum of 10 families per session. Topics include Exploring Trees\, Finding Flowers\, Down in the Dirt\, Watching Water\, Mushy Mud\, Incredible Ice\, and Colors in Nature. If a session is full\, families can join the waitlist to be notified of openings. Sign up and learn more at Taste of The Nest Registration.
URL:https://theboernelife.com/events/taste-of-the-nest-at-the-nest-nature-school/2025-03-26/
LOCATION:The Nest Nature School\, 33 Herff Rd.\, Boerne\, TX\, 78006\, United States
CATEGORIES:Kids and Family
ATTACH;FMTTYPE=image/jpeg:https://theboernelife.com/wp-content/uploads/2025/02/Taste-of-the-Nest.jpg
END:VEVENT
BEGIN:VEVENT
DTSTART;TZID=America/Chicago:20250326T103000
DTEND;TZID=America/Chicago:20250326T110000
DTSTAMP:20260420T084612
CREATED:20250122T120659Z
LAST-MODIFIED:20250818T023351Z
UID:10025754-1742985000-1742986800@theboernelife.com
SUMMARY:Little Listeners Storytime
DESCRIPTION:Storytime with Miss Constance in the Library Youth Activities Room for children ages 2 to 5. Fun includes includes tales\, tunes\, movement\, puppetry\, and crafting.
URL:https://theboernelife.com/events/little-listeners-storytime-2/2025-03-26/
LOCATION:Patrick Heath Public Library\, 451 N. Main Street\, Boerne\, TX\, 78006\, United States
CATEGORIES:Kids and Family
ATTACH;FMTTYPE=image/png:https://theboernelife.com/wp-content/uploads/2024/02/Boerne-Library-Logo.png
END:VEVENT
BEGIN:VEVENT
DTSTART;TZID=America/Chicago:20250326T130000
DTEND;TZID=America/Chicago:20250326T140000
DTSTAMP:20260420T084612
CREATED:20240221T121952Z
LAST-MODIFIED:20241230T022511Z
UID:10013533-1742994000-1742997600@theboernelife.com
SUMMARY:Ask Alison for Tech Help
DESCRIPTION:Need help with your personal technology? Alison Topper is in the lobby each week to help! No appointments necessary!
URL:https://theboernelife.com/events/ask-alison-for-tech-help/2025-03-26/
LOCATION:Patrick Heath Public Library\, 451 N. Main Street\, Boerne\, TX\, 78006\, United States
CATEGORIES:General
ATTACH;FMTTYPE=image/jpeg:https://theboernelife.com/wp-content/uploads/2024/02/Library-Tech-Help.jpg
END:VEVENT
BEGIN:VEVENT
DTSTART;TZID=America/Chicago:20250326T160000
DTEND;TZID=America/Chicago:20250326T180000
DTSTAMP:20260420T084612
CREATED:20250319T055549Z
LAST-MODIFIED:20250319T055549Z
UID:10027685-1743004800-1743012000@theboernelife.com
SUMMARY:Ribbon Cutting for The Kendall
DESCRIPTION:Celebrate the official ribbon cutting for The Kendall\, a historic Hill Country inn offering luxury accommodations and event spaces for weddings\, corporate events\, and social gatherings. With 34 uniquely designed rooms\, The Kendall blends historic charm with modern amenities to provide an elegant and memorable experience. \nThe event will take place on Wednesday\, March 26\, 2025\, with the ribbon cutting at 4 pm\, followed by an open house from 4:30 pm to 6 pm. Guests can enjoy drinks\, appetizers\, live music\, and a tour of the scenic Courtyard and event spaces. \nLocation: The Kendall\, 128 W. Blanco Rd.\, Boerne\, TX 78006\nWebsite: www.thekendalltx.com\nPhone: (830) 249-2138
URL:https://theboernelife.com/events/ribbon-cutting-for-the-kendall/
LOCATION:The Kendall\, 128 W Blanco\, Boerne\, TX\, 78006\, United States
CATEGORIES:Business and Networking
ATTACH;FMTTYPE=image/jpeg:https://theboernelife.com/wp-content/uploads/2025/03/ribbon-cutting-for-the-kendall.jpg
END:VEVENT
BEGIN:VEVENT
DTSTART;TZID=America/Chicago:20250326T170000
DTEND;TZID=America/Chicago:20250326T200000
DTSTAMP:20260420T084612
CREATED:20250208T094719Z
LAST-MODIFIED:20250208T094719Z
UID:10025917-1743008400-1743019200@theboernelife.com
SUMMARY:Live Music at Cork and Keg
DESCRIPTION:Enjoy an evening of live music at Cork and Keg every Tuesday and Wednesday from 5 pm to 8 pm at Richter Boerne. Guests can unwind with handcrafted cocktails and drink specials while listening to talented local musicians in a relaxed and inviting atmosphere. \nWhether stopping by for a midweek outing or looking for the perfect spot to enjoy live entertainment\, this recurring event offers great music\, drinks\, and company. No reservations required—just drop in and enjoy the sounds of Boerne.
URL:https://theboernelife.com/events/live-music-at-cork-and-keg/2025-03-26/
LOCATION:Cork and Keg\, 153 S Main St\, Boerne\, TX\, 78006\, United States
CATEGORIES:Music
ATTACH;FMTTYPE=image/jpeg:https://theboernelife.com/wp-content/uploads/2025/02/live-music-at-cork-and-keg.jpg
END:VEVENT
BEGIN:VEVENT
DTSTART;TZID=America/Chicago:20250326T180000
DTEND;TZID=America/Chicago:20250326T200000
DTSTAMP:20260420T084612
CREATED:20250324T105234Z
LAST-MODIFIED:20250324T105234Z
UID:10027723-1743012000-1743019200@theboernelife.com
SUMMARY:Wine Charms at Lost Oak Cellars
DESCRIPTION:Join The Downtown DIY for an evening of creativity and fun at Lost Oak Cellars! In this hands-on workshop\, you’ll craft your own unique wine charm using a variety of fun and stylish embellishments. Whether you’re a crafting pro or just looking to enjoy a relaxing evening with friends\, this event is the perfect blend of creativity\, wine\, and good company. \nWhile you sip on some of Lost Oak’s finest wines\, you’ll have access to a wide array of materials to create a one-of-a-kind charm for your glass. It’s the perfect way to add a personal touch to your wine experience\, all while enjoying a relaxed atmosphere and making new friends. Grab your tickets by on the Lost Oak Winery Website before they sell out! \nThis event runs from 6-8pm\, with plenty of time to mingle\, sip\, and craft. Price includes all craft supplies. Wine and food sold separately. https://lostoakwinery.com/venue/boerne/
URL:https://theboernelife.com/events/wine-charms-at-lost-oak-cellars/
LOCATION:Lost Oak Cellars\, 111 Rosewood Ave\, Boerne\, TX\, 78006\, United States
CATEGORIES:Arts and Culture,Food and Drink
ATTACH;FMTTYPE=image/jpeg:https://theboernelife.com/wp-content/uploads/2025/03/481477509_621095144182550_6761802388766930490_n.jpg
END:VEVENT
BEGIN:VEVENT
DTSTART;TZID=America/Chicago:20250326T183000
DTEND;TZID=America/Chicago:20250326T203000
DTSTAMP:20260420T084612
CREATED:20240925T165042Z
LAST-MODIFIED:20250618T105925Z
UID:10022468-1743013800-1743021000@theboernelife.com
SUMMARY:Trivia Night at Sauced
DESCRIPTION:Every Wednesday\, head out to Sauced Wing Bar for trivia night with Austin! It starts at six thirty-ish. Arrive early and you can hit Happy Hour!
URL:https://theboernelife.com/events/trivia-night-at-sauced/2025-03-26/
LOCATION:Sauced Wing Bar\, 215 W Bandera Rd #101\, Boerne\, TX\, 78006\, United States
CATEGORIES:General
ATTACH;FMTTYPE=image/jpeg:https://theboernelife.com/wp-content/uploads/2024/09/Sauced-Wing-Bar-Trivia.jpg
END:VEVENT
BEGIN:VEVENT
DTSTART;TZID=America/Chicago:20250326T190000
DTEND;TZID=America/Chicago:20250326T200000
DTSTAMP:20260420T084612
CREATED:20250224T111422Z
LAST-MODIFIED:20251123T124321Z
UID:10026277-1743015600-1743019200@theboernelife.com
SUMMARY:Sound Meditation at the Library
DESCRIPTION:Experience deep relaxation and inner peace at the monthly Sound Meditation program with Steve Daniel and Susan Damon at the Patrick Heath Public Library. This unique session blends the calming sounds of didgeridoo\, Tibetan and crystal bowls\, poetry\, and sacred silence\, offering a deeply immersive meditative experience. \nHeld on the fourth Wednesday of each month at 7:00 pm in the Community Room\, this event invites participants to simply be—whether for healing\, rest\, or a visionary journey. Guests are encouraged to bring mats\, blankets\, pillows\, or anything needed for comfort while lying down or sitting. This soothing session is open to all looking for a moment of stillness and renewal.
URL:https://theboernelife.com/events/sound-meditation-at-the-library/2025-03-26/
LOCATION:Patrick Heath Public Library\, 451 N. Main Street\, Boerne\, TX\, 78006\, United States
CATEGORIES:Arts and Culture,Health and Wellness
ATTACH;FMTTYPE=image/png:https://theboernelife.com/wp-content/uploads/2025/02/Steve-and-a-Gal-Sound-Meditation.png
END:VEVENT
BEGIN:VEVENT
DTSTART;TZID=America/Chicago:20250326T190000
DTEND;TZID=America/Chicago:20250326T210000
DTSTAMP:20260420T084612
CREATED:20250324T105511Z
LAST-MODIFIED:20250324T105511Z
UID:10027724-1743015600-1743022800@theboernelife.com
SUMMARY:Lenten Concert at St Peter
DESCRIPTION:Head to St. Peter for a powerful and uplifting Lenten Mission Concert with David Kauffman\, where song and story come together to bring healing\, hope\, and renewal during this sacred season.\n\nThey’ll gather as a community to reflect\, pray\, and embrace the present moment through music and storytelling. Come as you are and allow this evening to inspire\, heal\, and prepare your heart for the journey of Lent.
URL:https://theboernelife.com/events/lenten-concert-at-st-peter/
LOCATION:St. Peter the Apostle Catholic Church\, 202 W. Kronkosky St\, Boerne\, TX\, 78006\, United States
CATEGORIES:Music
ATTACH;FMTTYPE=image/jpeg:https://theboernelife.com/wp-content/uploads/2025/03/lenten-concert.jpg
END:VEVENT
END:VCALENDAR