BEGIN:VCALENDAR
VERSION:2.0
PRODID:-//The Boerne Life - ECPv6.15.15//NONSGML v1.0//EN
CALSCALE:GREGORIAN
METHOD:PUBLISH
X-ORIGINAL-URL:https://theboernelife.com
X-WR-CALDESC:Events for The Boerne Life
REFRESH-INTERVAL;VALUE=DURATION:PT1H
X-Robots-Tag:noindex
X-PUBLISHED-TTL:PT1H
BEGIN:VTIMEZONE
TZID:America/Chicago
BEGIN:DAYLIGHT
TZOFFSETFROM:-0600
TZOFFSETTO:-0500
TZNAME:CDT
DTSTART:20240310T080000
END:DAYLIGHT
BEGIN:STANDARD
TZOFFSETFROM:-0500
TZOFFSETTO:-0600
TZNAME:CST
DTSTART:20241103T070000
END:STANDARD
BEGIN:DAYLIGHT
TZOFFSETFROM:-0600
TZOFFSETTO:-0500
TZNAME:CDT
DTSTART:20250309T080000
END:DAYLIGHT
BEGIN:STANDARD
TZOFFSETFROM:-0500
TZOFFSETTO:-0600
TZNAME:CST
DTSTART:20251102T070000
END:STANDARD
BEGIN:DAYLIGHT
TZOFFSETFROM:-0600
TZOFFSETTO:-0500
TZNAME:CDT
DTSTART:20260308T080000
END:DAYLIGHT
BEGIN:STANDARD
TZOFFSETFROM:-0500
TZOFFSETTO:-0600
TZNAME:CST
DTSTART:20261101T070000
END:STANDARD
END:VTIMEZONE
BEGIN:VEVENT
DTSTART;TZID=America/Chicago:20250401T153000
DTEND;TZID=America/Chicago:20250401T160000
DTSTAMP:20260420T040245
CREATED:20250202T144037Z
LAST-MODIFIED:20250202T144109Z
UID:10025808-1743521400-1743523200@theboernelife.com
SUMMARY:Paws 4 Reading
DESCRIPTION:Go to the library after school and share a book with a trained\, certified therapy dog! Starts at 3:30 PM.
URL:https://theboernelife.com/events/paws-4-reading-2/2025-04-01/
LOCATION:Patrick Heath Public Library\, 451 N. Main Street\, Boerne\, TX\, 78006\, United States
CATEGORIES:Kids and Family
ATTACH;FMTTYPE=image/jpeg:https://theboernelife.com/wp-content/uploads/2024/03/Boerne-Library-2.jpg
END:VEVENT
BEGIN:VEVENT
DTSTART;TZID=America/Chicago:20250401T160000
DTEND;TZID=America/Chicago:20250401T190000
DTSTAMP:20260420T040245
CREATED:20250325T121225Z
LAST-MODIFIED:20250728T105158Z
UID:10027777-1743523200-1743534000@theboernelife.com
SUMMARY:Boerne Farmers Market
DESCRIPTION:The Boerne Farmers Market is a hub for locally-sourced produce\, artisan goods\, and prepared foods\, fostering a community that values sustainability and healthy living. It’s a place where local farmers\, homesteaders\, ranchers\, and artisans from the Texas Hill Country come together\, offering more than just shopping but a vibrant community event to explore and enjoy. \n 
URL:https://theboernelife.com/events/boerne-farmers-market-2-2-3/2025-04-01/
LOCATION:Boerne Farmers Market\, 402 East Blanco Road\, Boerne\, TX\, 78006\, United States
CATEGORIES:Food and Drink,Outdoors
ATTACH;FMTTYPE=image/jpeg:https://theboernelife.com/wp-content/uploads/2024/04/Boerne-Farmers-Market.jpg
END:VEVENT
BEGIN:VEVENT
DTSTART;TZID=America/Chicago:20250401T160000
DTEND;TZID=America/Chicago:20250401T200000
DTSTAMP:20260420T040245
CREATED:20250218T003157Z
LAST-MODIFIED:20250218T003157Z
UID:10026227-1743523200-1743537600@theboernelife.com
SUMMARY:Kids Night at Texas Roadhouse
DESCRIPTION:When you head to Texas Roadhouse in Leon Springs on a Tuesday\, you need to know… every Tuesday is Kids Night!\n\nStop by anywhere from 4pm-8pm for a fun dining experience.\n\n\n\nThey’ll offer a goody bag\, arts & crafts\, free ice cream with meal purchas\, and face painting beginning at 5pm. \n\n\n\nAnd you get your Free Kids Meal voucher from the host stand on your way out to use on your next visit!
URL:https://theboernelife.com/events/kids-night-at-texas-roadhouse/2025-04-01/
LOCATION:Texas Roadhouse\, 23102 I-10 W\, San Antonio\, Texas\, 78213
CATEGORIES:Kids and Family
ATTACH;FMTTYPE=image/png:https://theboernelife.com/wp-content/uploads/2025/02/TBL-FB-Post-2025-02-17T182929.351.png
END:VEVENT
BEGIN:VEVENT
DTSTART;TZID=America/Chicago:20250401T170000
DTEND;TZID=America/Chicago:20250401T190000
DTSTAMP:20260420T040245
CREATED:20250331T033016Z
LAST-MODIFIED:20250331T033016Z
UID:10027760-1743526800-1743534000@theboernelife.com
SUMMARY:BISD Art Open House at Patrick Heath Public Library
DESCRIPTION:The Patrick Heath Public Library will once again showcase the creative talents of Boerne Independent School District students during its annual BISD Art Open House on Tuesday\, April 1\, 2025\, from 5:00 pm to 7:00 pm. \nFriends\, families\, and community members are invited to explore the incredible variety of student artwork\, including drawings\, paintings\, sculptures\, and more. Art from students of all grade levels will be displayed throughout the library\, offering a visual celebration of young creativity. \nIf you’re unable to attend the open house\, the student art will remain on display for the entire month of April\, allowing visitors to enjoy this colorful exhibition during regular library hours. \nAdmission: Free\nLocation: Patrick Heath Public Library\, 451 North Main Street\, Boerne\, TX 78006\nTime: 5:00 pm – 7:00 pm\nContact: For more information\, call (830) 249-3053 or visit boernelibrary.org
URL:https://theboernelife.com/events/bisd-art-open-house-at-patrick-heath-public-library/
LOCATION:TX
CATEGORIES:Arts and Culture,Kids and Family
ATTACH;FMTTYPE=image/jpeg:https://theboernelife.com/wp-content/uploads/2025/03/bisd-art-open-house-at-patrick-heath-public-library.jpg
END:VEVENT
BEGIN:VEVENT
DTSTART;TZID=America/Chicago:20250401T170000
DTEND;TZID=America/Chicago:20250401T200000
DTSTAMP:20260420T040245
CREATED:20250208T094719Z
LAST-MODIFIED:20250208T094719Z
UID:10025918-1743526800-1743537600@theboernelife.com
SUMMARY:Live Music at Cork and Keg
DESCRIPTION:Enjoy an evening of live music at Cork and Keg every Tuesday and Wednesday from 5 pm to 8 pm at Richter Boerne. Guests can unwind with handcrafted cocktails and drink specials while listening to talented local musicians in a relaxed and inviting atmosphere. \nWhether stopping by for a midweek outing or looking for the perfect spot to enjoy live entertainment\, this recurring event offers great music\, drinks\, and company. No reservations required—just drop in and enjoy the sounds of Boerne.
URL:https://theboernelife.com/events/live-music-at-cork-and-keg/2025-04-01/
LOCATION:Cork and Keg\, 153 S Main St\, Boerne\, TX\, 78006\, United States
CATEGORIES:Music
ATTACH;FMTTYPE=image/jpeg:https://theboernelife.com/wp-content/uploads/2025/02/live-music-at-cork-and-keg.jpg
END:VEVENT
BEGIN:VEVENT
DTSTART;TZID=America/Chicago:20250401T173000
DTEND;TZID=America/Chicago:20250401T193000
DTSTAMP:20260420T040245
CREATED:20241203T125852Z
LAST-MODIFIED:20250107T112845Z
UID:10024393-1743528600-1743535800@theboernelife.com
SUMMARY:Historic Landmark Commission Meeting
DESCRIPTION:The Historic Landmark Commission meets on the first Tuesday of each month at 5:30 p.m.\, with special meetings held as needed. These meetings take place in the Council Chambers at City Hall\, located at 447 N. Main Street in Boerne. \nThe commission works to promote historical preservation in the city by investigating and reviewing matters related to the protection\, enhancement\, and use of historic landmarks\, districts\, and structures. Their responsibilities include reviewing applications for historic landmark designation\, construction and restoration permits in historic districts\, historic preservation tax exemptions\, and making recommendations on amendments to historic districts. \nFor questions about applications or historic preservation\, contact Sara Varvarigos\, the staff liaison\, at (830) 248-1630 or via email. Applications must be submitted through the SmartGov portal\, as paper applications are no longer accepted. \nFor more information on meeting agendas\, minutes\, and video streams\, visit here. Meetings are open to the public\, and community participation is encouraged.
URL:https://theboernelife.com/events/historic-landmark-commission-meeting/2025-04-01/
LOCATION:Boerne City Hall\, 447 North Main Street\, Boerne\, TX\, 78006\, United States
CATEGORIES:Local Government
ATTACH;FMTTYPE=image/jpeg:https://theboernelife.com/wp-content/uploads/2024/11/Boerne-City-Hall-1.jpg
END:VEVENT
BEGIN:VEVENT
DTSTART;TZID=America/Chicago:20250401T180000
DTEND;TZID=America/Chicago:20250401T200000
DTSTAMP:20260420T040245
CREATED:20240208T110320Z
LAST-MODIFIED:20251123T123748Z
UID:10000120-1743530400-1743537600@theboernelife.com
SUMMARY:Trivia Night at Free Roam
DESCRIPTION:Head over to Free Roam Brewing Company for an enthralling evening of live trivia\, brought to you by Challenge Entertainment – Austin & San Antonio Trivia. These engaging trivia nights are held every Tuesday\, beginning at 6:00 PM\, and offer a fun-packed 2-hour experience that’s open to the public. \nEvent Highlights: \n\nWeekly Trivia Nights: Set aside your Tuesdays for the ultimate quiz experience that challenges and entertains.\nFood Truck Delights: A food truck will be on-site\, serving up delicious eats to keep your brain fueled.\nPrizes Galore: Top teams stand a chance to win exciting prizes every week\, making every Tuesday a potentially rewarding experience.\nComplimentary Participation: There’s no cost to join in the fun\, making it a great\, budget-friendly night out.\nOpen to All: Whether a seasoned quiz master or a casual participant\, this event promises a great time for everyone in Boerne.\n\nThe trivia night at Free Roam Brewing Company is a perfect blend of competition\, camaraderie\, and local culture. With no entry fee and plenty of prizes up for grabs\, it’s an inviting scene for trivia buffs\, foodies\, and anyone looking for a memorable night out in Boerne. Join the community and prove you’re a know-it-all at San Antonio Trivia by Challenge Entertainment. Don’t miss out on the fun!
URL:https://theboernelife.com/events/trivia-night-at-free-roam/2025-04-01/
LOCATION:Free Roam Brewing Company\, 325 S Main Street\, Boerne\, TX\, 78006\, United States
CATEGORIES:General
ATTACH;FMTTYPE=image/png:https://theboernelife.com/wp-content/uploads/2024/02/Free-Roam-Trivia.png
END:VEVENT
BEGIN:VEVENT
DTSTART;TZID=America/Chicago:20250401T180000
DTEND;TZID=America/Chicago:20250401T200000
DTSTAMP:20260420T040245
CREATED:20250302T132908Z
LAST-MODIFIED:20250902T113814Z
UID:10026345-1743530400-1743537600@theboernelife.com
SUMMARY:Monthly Meeting for Native Plant Society of Texas Boerne Chapter
DESCRIPTION:The Native Plant Society of Texas (NPSOT) – Boerne Chapter hosts its monthly meetings at The Cibolo\, bringing together conservation-minded individuals to learn from expert guest speakers on topics related to native plants\, ecology\, and conservation. Each meeting begins with a social hour and potluck at 6 pm\, followed by a presentation at 7 pm. \nIn September\, they are thrilled to welcome Edward “Eddie” Seidensticker as their guest speaker on Native Grasses of the Texas Hill Country. \n\nEddie was raised on his family ranch near Waring\, TX\, and spent 40 years with the Soil Conservation Service\, specializing in conservation and coastal erosion. He currently serves on the boards of both the Kendall Soil & Water Conservation District and the Kendall County Historical Commission.\n\n\nYou are invited to join the group even if you have no prior gardening experience. All you need to do is join the Boerne Chapter of NPSOT and email Kathy Webster to get on the email list of gardeners (katweb59@gmail.com). \nIt’s a great way to make new friendships and learn about gardening! Join NPSOT online at npsot.org and select the Boerne Chapter.
URL:https://theboernelife.com/events/monthly-meeting-for-native-plant-society-of-texas-boerne-chapter/2025-04-01/
LOCATION:Herff Farm\, 33 Herff Rd\, Boerne\, TX\, 78006\, United States
CATEGORIES:Outdoors,Seniors,Volunteer
ATTACH;FMTTYPE=image/jpeg:https://theboernelife.com/wp-content/uploads/2025/03/Native-Plant-Society-1.jpg
END:VEVENT
BEGIN:VEVENT
DTSTART;TZID=America/Chicago:20250401T183000
DTEND;TZID=America/Chicago:20250401T193000
DTSTAMP:20260420T040245
CREATED:20250121T130806Z
LAST-MODIFIED:20250304T023056Z
UID:10025436-1743532200-1743535800@theboernelife.com
SUMMARY:Footprints Children’s Grief Ministry Spring Program in Boerne
DESCRIPTION:Footprints Children’s Grief Ministry offers a free after-school program to support children ages 6 to 15 and their families who are coping with grief and loss due to the death of a loved one. The Boerne Spring Program begins February 18\, 2025\, and runs for eight weeks\, meeting weekly on Tuesdays from 6:30 p.m. to 7:30 p.m. \nThe program will be held at Trinity Presbyterian Church\, located at 31 Ammann Rd.\, Boerne\, TX 78015. Each session provides a safe and understanding environment for children and their families to process grief together. \nFor more information or to register\, visit the Footprints Boerne Program Sign-Up Page or contact Director Christina Wilson at christina@campagapetexas.org or 830-385-8916.
URL:https://theboernelife.com/events/footprints-children-grief/2025-04-01/
LOCATION:Trinity Presbyterian Church\, 31 Ammann Rd\, Boerne\, TX\, 78006\, United States
CATEGORIES:Health and Wellness,Kids and Family,Sports
ATTACH;FMTTYPE=image/jpeg:https://theboernelife.com/wp-content/uploads/2025/01/Children-Grief-Counseling.jpg
END:VEVENT
BEGIN:VEVENT
DTSTART;TZID=America/Chicago:20250401T190000
DTEND;TZID=America/Chicago:20250401T210000
DTSTAMP:20260420T040245
CREATED:20241024T183031Z
LAST-MODIFIED:20250629T132122Z
UID:10029658-1743534000-1743541200@theboernelife.com
SUMMARY:Fair Oaks Roost Trivia
DESCRIPTION:Head to The Roost for a fun-filled night of trivia! Gather your team\, test your knowledge\, and compete for a chance to win exciting prizes. Enjoy food and drinks available for purchase while you challenge your brain and enjoy the evening with friends.
URL:https://theboernelife.com/events/fair-oaks-roost-trivia/2025-04-01/
LOCATION:Fair Oaks Roost\, 9091 Fair Oaks Pkwy\, Fair Oaks Ranch\, Texas\, 78015
CATEGORIES:Food and Drink
ATTACH;FMTTYPE=image/jpeg:https://theboernelife.com/wp-content/uploads/2024/10/Fair-Oaks-Roost.jpg
END:VEVENT
BEGIN:VEVENT
DTSTART;TZID=America/Chicago:20250401T190000
DTEND;TZID=America/Chicago:20250401T230000
DTSTAMP:20260420T040245
CREATED:20240214T102046Z
LAST-MODIFIED:20241222T133003Z
UID:10003855-1743534000-1743548400@theboernelife.com
SUMMARY:Karaoke at Drink Texas Boerne
DESCRIPTION:Come out for karaoke at 7pm and enjoy happy hour until 9pm. Cold beer\, Texas cocktails\, and friendly bartenders right off the freeway!
URL:https://theboernelife.com/events/karaoke-at-drink-texas-boerne/2025-04-01/
LOCATION:Drink Texas Boerne\, 31138 I-10\, Boerne\, TX\, 78006\, United States
CATEGORIES:Music
ATTACH;FMTTYPE=image/png:https://theboernelife.com/wp-content/uploads/2024/02/Drink-Texas-Boerne-Logo.png
END:VEVENT
END:VCALENDAR