BEGIN:VCALENDAR
VERSION:2.0
PRODID:-//The Boerne Life - ECPv6.15.15//NONSGML v1.0//EN
CALSCALE:GREGORIAN
METHOD:PUBLISH
X-WR-CALNAME:The Boerne Life
X-ORIGINAL-URL:https://theboernelife.com
X-WR-CALDESC:Events for The Boerne Life
REFRESH-INTERVAL;VALUE=DURATION:PT1H
X-Robots-Tag:noindex
X-PUBLISHED-TTL:PT1H
BEGIN:VTIMEZONE
TZID:America/Chicago
BEGIN:DAYLIGHT
TZOFFSETFROM:-0600
TZOFFSETTO:-0500
TZNAME:CDT
DTSTART:20240310T080000
END:DAYLIGHT
BEGIN:STANDARD
TZOFFSETFROM:-0500
TZOFFSETTO:-0600
TZNAME:CST
DTSTART:20241103T070000
END:STANDARD
BEGIN:DAYLIGHT
TZOFFSETFROM:-0600
TZOFFSETTO:-0500
TZNAME:CDT
DTSTART:20250309T080000
END:DAYLIGHT
BEGIN:STANDARD
TZOFFSETFROM:-0500
TZOFFSETTO:-0600
TZNAME:CST
DTSTART:20251102T070000
END:STANDARD
BEGIN:DAYLIGHT
TZOFFSETFROM:-0600
TZOFFSETTO:-0500
TZNAME:CDT
DTSTART:20260308T080000
END:DAYLIGHT
BEGIN:STANDARD
TZOFFSETFROM:-0500
TZOFFSETTO:-0600
TZNAME:CST
DTSTART:20261101T070000
END:STANDARD
END:VTIMEZONE
BEGIN:VEVENT
DTSTART;TZID=America/Chicago:20250417T130000
DTEND;TZID=America/Chicago:20250417T170000
DTSTAMP:20260425T100839
CREATED:20250414T042416Z
LAST-MODIFIED:20250414T042416Z
UID:10027873-1744894800-1744909200@theboernelife.com
SUMMARY:Watson's Warriors Summer Shootout at Tapatio Springs Hill Country Resort
DESCRIPTION:Music 4 Life Blues 4 the Soul presents the 2025 Double Deuce Ranch Watson’s Warriors Summer Shootout\, taking place Thursday\, April 17 at Tapatio Springs Hill Country Resort in Boerne. This exciting golf tournament will be played in a scramble format\, featuring raffles\, a closest-to-the-pin contest\, hole-in-one challenge\, autographed George Strait guitars\, and the popular Red Cup Kegger Tent. \nThe event begins with registration at 11:30 am\, followed by a shotgun start at 1:00 pm. An awards ceremony will take place immediately after play. \nSponsorship opportunities are available. For more details and to register\, visit: watsonswarriors.org. \nThe tournament will be held at Tapatio Springs Hill Country Resort\, 1 Resort Way\, Boerne\, TX 78006. For inquiries\, email info@musicblues4life.com.
URL:https://theboernelife.com/events/watsons-warriors-summer-shootout-at-tapatio-springs-hill-country-resort/
LOCATION:Tapatio Springs Hill Country Resort\, 1 Resort Way\, Boerne\, 78006
CATEGORIES:Outdoors
ATTACH;FMTTYPE=image/jpeg:https://theboernelife.com/wp-content/uploads/2025/04/watsons-warriors-summer-shootout-at-tapatio-springs-hill-country-resort.jpg
END:VEVENT
BEGIN:VEVENT
DTSTART;TZID=America/Chicago:20250417T133000
DTEND;TZID=America/Chicago:20250417T140000
DTSTAMP:20260425T100839
CREATED:20250414T041922Z
LAST-MODIFIED:20250414T042004Z
UID:10027872-1744896600-1744898400@theboernelife.com
SUMMARY:Ribbon Cutting for J. Fox Custom Fine Jewelry
DESCRIPTION:Celebrate the grand opening of J. Fox Custom Fine Jewelry’s new studio with a ribbon cutting on Thursday\, April 17 from 1:30 pm to 2 pm. Known for blending timeless elegance with modern artistry\, J. Fox specializes in handcrafted engagement rings\, wedding bands\, and bespoke pieces created with the finest materials and expert craftsmanship. \nAfter the ribbon cutting\, guests are invited to stay for a Grand Opening celebration featuring live music by David Fox\, food\, drinks\, and exciting giveaways. \nThe event will be held at J. Fox Custom Fine Jewelry\, 723 N. Main St\, Boerne\, TX 78006. Overflow parking is available at Wavelengths Salon on E Frederick St\, directly behind the studio. \nFor more information\, visit www.jfoxcustom.com or call (830) 331-4191.
URL:https://theboernelife.com/events/ribbon-cutting-for-j-fox-custom-fine-jewelry/
LOCATION:J. Fox Custom Fine Jewelry\, 723 N. Main St\, Boerne\, TX\, 78006\, United States
CATEGORIES:Business and Networking
ATTACH;FMTTYPE=image/jpeg:https://theboernelife.com/wp-content/uploads/2025/04/ribbon-cutting-for-j-fox-custom-fine-jewelry.jpg
END:VEVENT
BEGIN:VEVENT
DTSTART;TZID=America/Chicago:20250417T133000
DTEND;TZID=America/Chicago:20250417T153000
DTSTAMP:20260425T100839
CREATED:20250116T114920Z
LAST-MODIFIED:20260118T205822Z
UID:10025462-1744896600-1744903800@theboernelife.com
SUMMARY:Drawing Club for Adults
DESCRIPTION:The Drawing Club meets each week in the conference room. This group is not for beginners looking to take a class on drawing. It’s a group of people who love to draw that meet to get better.
URL:https://theboernelife.com/events/drawing-club-for-adults-2/2025-04-17/
LOCATION:Patrick Heath Public Library\, 451 N. Main Street\, Boerne\, TX\, 78006\, United States
CATEGORIES:Arts and Culture
ATTACH;FMTTYPE=image/png:https://theboernelife.com/wp-content/uploads/2024/02/Boerne-Library-Logo.png
END:VEVENT
BEGIN:VEVENT
DTSTART;TZID=America/Chicago:20250417T150000
DTEND;TZID=America/Chicago:20250417T160000
DTSTAMP:20260425T100839
CREATED:20240321T111822Z
LAST-MODIFIED:20251229T121634Z
UID:10013084-1744902000-1744905600@theboernelife.com
SUMMARY:Tech Help in the Lobby
DESCRIPTION:Have a tech question you can’t find the answer to? Visit the Tech Help table in the library and get free assistance. Walk-ins only. No appointments.
URL:https://theboernelife.com/events/tech-help-in-the-lobby/2025-04-17/
LOCATION:Patrick Heath Public Library\, 451 N. Main Street\, Boerne\, TX\, 78006\, United States
CATEGORIES:General
ATTACH;FMTTYPE=image/jpeg:https://theboernelife.com/wp-content/uploads/2024/02/Library-Tech-Help.jpg
END:VEVENT
BEGIN:VEVENT
DTSTART;TZID=America/Chicago:20250417T160000
DTEND;TZID=America/Chicago:20250417T180000
DTSTAMP:20260425T100839
CREATED:20250408T161411Z
LAST-MODIFIED:20250411T003200Z
UID:10027838-1744905600-1744912800@theboernelife.com
SUMMARY:Boost Boerne Business
DESCRIPTION:The April 2025 Boost Boerne Business Networking event is made possible by Boerne Radio 103.9FM\, Cavender Cares\, & Clearview Bookkeeping\, Day 1 Bags\, & Genesis Counseling \nHost Location: Cavender Chevrolet- 307000 I-10 W \nYou’ll enjoy great appetizers and special drinks. \nEnjoy gathering with new and old friends as you network with other Boerne Business Owners\, Leaders\, and Marketing Professionals like you\, and hopefully walk away with a great door prize too. \nBoerne Radio is partnering with Cavender Cares to collect Easter Baskets for children in need. Every filled Easter Basket gets entered into a special drawing for a $500 BBB sponsorship. \n4pm – Check In / Networking\n4:50pm – Welcome from Boerne Radio’s Shan Wiley\n4:51pm – Welcome from our Host: Cavender Chevrolet\n4:52pm – Speed Networking Exercise\n5:00pm – Welcome from our Sponsor- Day 1 Bags & Genesis Counseling\n5:10pm – Business Wisdom from Clearview Bookkeeping\n5:20pm – Door Prizes\n5:30pm – Back To Networking \nThe event is free\, register link: https://forms.gle/NGc8ZZoTWnYe1msx6 \nDoor Prizes: Reserve your spot for next month with Shan Wiley at 210-842-5840 \nDoor Prize minimum value $50 – give your :60 second elevator speech\, pull the ticket\, and hand deliver your prize to the happy winner.
URL:https://theboernelife.com/events/boost-boerne-business-3/
LOCATION:Cavender Chevrolet\, 30700 I.H. 10\, Boerne\, TX\, 78006\, United States
CATEGORIES:Business and Networking
ATTACH;FMTTYPE=image/png:https://theboernelife.com/wp-content/uploads/2025/04/April-2025-BBB.png
ORGANIZER;CN="Boerne Radio":MAILTO:info@BoerneRadio.com
END:VEVENT
BEGIN:VEVENT
DTSTART;TZID=America/Chicago:20250417T170000
DTEND;TZID=America/Chicago:20250417T200000
DTSTAMP:20260425T100839
CREATED:20250414T042842Z
LAST-MODIFIED:20250414T042842Z
UID:10027874-1744909200-1744920000@theboernelife.com
SUMMARY:CC Blues Factory at Tapatio Springs Hill Country Resort
DESCRIPTION:Tapatio Springs will come alive with the soulful sounds of CC Blues Factory on Thursday\, April 17. This blues-filled evening supports a meaningful cause\, hosted by Watson’s Warriors and sponsored by Music 4 Life Blues 4 the Soul—a nonprofit organization that helps veterans heal through music. \nGuests can expect a night of powerful performances\, community connection\, and an opportunity to support veterans through the arts. The event begins at 5:00 pm and will be held at Tapatio Springs Hill Country Resort\, located at 1 Resort Way\, Boerne\, TX 78006. \nFor more information\, contact info@musicblues4life.com.
URL:https://theboernelife.com/events/cc-blues-factory-at-tapatio-springs-hill-country-resort/
LOCATION:Tapatio Springs Hill Country Resort\, 1 Resort Way\, Boerne\, 78006
CATEGORIES:Music
ATTACH;FMTTYPE=image/jpeg:https://theboernelife.com/wp-content/uploads/2025/04/cc-blues-factory-at-tapatio-springs-hill-country-resort.jpg
END:VEVENT
BEGIN:VEVENT
DTSTART;TZID=America/Chicago:20250417T173000
DTEND;TZID=America/Chicago:20250417T193000
DTSTAMP:20260425T100839
CREATED:20240925T145639Z
LAST-MODIFIED:20250714T103051Z
UID:10022441-1744911000-1744918200@theboernelife.com
SUMMARY:Kids Night at Burger King
DESCRIPTION:It’s Kids Night at Burger King in Boerne. Tonight they will be making toys for dog a rescue in Boerne and Kerrville Pets Alive. They will be painting rocks for Kerrville’s Reflection Garden. And they will have sympathy and first responder cards to decorate. And they will have Balloon Animals. Board games and playground is open!
URL:https://theboernelife.com/events/kids-night-at-burger-king/2025-04-17/
LOCATION:Burger King\, 1327 South Main St\, Boerne\, TX\, 78006\, United States
CATEGORIES:Kids and Family
ATTACH;FMTTYPE=image/jpeg:https://theboernelife.com/wp-content/uploads/2024/09/Balloon-Animals.jpg
END:VEVENT
BEGIN:VEVENT
DTSTART;TZID=America/Chicago:20250417T180000
DTEND;TZID=America/Chicago:20250417T193000
DTSTAMP:20260425T100839
CREATED:20250405T015053Z
LAST-MODIFIED:20250405T015053Z
UID:10027829-1744912800-1744918200@theboernelife.com
SUMMARY:Easter Elegance: A Floral Design Experience at Herff Farm
DESCRIPTION:Celebrate the season of renewal with Easter Elegance\, a floral design workshop at Hunke Gathering Hall at Herff Farm. This hands-on class will guide participants through creating a vibrant spring table arrangement using premium blooms like tulips\, ranunculus\, anemones\, and poppies. The workshop highlights the freshness and joy of Easter through creative floral expression. \nLed by floral design experts\, the session includes step-by-step instruction and tips for crafting a breathtaking centerpiece. Dough bowls will be provided\, or attendees may bring their own container. This elegant workshop will take place on Thursday\, April 17\, 2025\, from 6:00 pm to 7:30 pm. Tickets are $75 per person and include all materials. \nThe event will be held at Hunke Gathering Hall at Herff Farm\, 33 Herff Rd\, Boerne\, TX 78006. For more information and to register\, visit cibolo.org.
URL:https://theboernelife.com/events/easter-elegance-a-floral-design-experience-at-herff-farm/
LOCATION:Herff Farm\, 33 Herff Rd\, Boerne\, TX\, 78006\, United States
CATEGORIES:Arts and Culture,Holiday
ATTACH;FMTTYPE=image/jpeg:https://theboernelife.com/wp-content/uploads/2025/04/easter-elegance-a-floral-design-experience-at-herff-farm.jpg
END:VEVENT
BEGIN:VEVENT
DTSTART;TZID=America/Chicago:20250417T180000
DTEND;TZID=America/Chicago:20250417T193000
DTSTAMP:20260425T100839
CREATED:20250414T040432Z
LAST-MODIFIED:20250414T040432Z
UID:10027867-1744912800-1744918200@theboernelife.com
SUMMARY:Easter Elegance: A Floral Design Experience at Herff Farm
DESCRIPTION:Celebrate the beauty of spring with a hands-on floral design class at Herff Farm. Easter Elegance: A Floral Design Experience will take place on Thursday\, April 17\, from 6 pm to 7:30 pm. Participants will learn how to create stunning table arrangements using seasonal blooms like tulips\, ranunculus\, anemones\, and poppies. \nFloral design experts from the Cibolo Center for Conservation will provide guidance throughout the session\, sharing techniques to help guests craft a one-of-a-kind centerpiece that reflects the brightness and freshness of the Easter season. Dough bowls will be provided for arrangements\, though attendees are welcome to bring their own containers if preferred. \nAdmission is $75 per person. The class will be held at Herff Farm\, 33 Herff Road\, Boerne\, TX 78006. For more information or to register\, visit cibolo.org or contact nature@cibolo.org.
URL:https://theboernelife.com/events/easter-elegance-a-floral-design-experience-at-herff-farm-2/
LOCATION:Herff Farm\, 33 Herff Rd\, Boerne\, TX\, 78006\, United States
CATEGORIES:Holiday
ATTACH;FMTTYPE=image/jpeg:https://theboernelife.com/wp-content/uploads/2025/04/easter-elegance-at-herff-farm.jpg
END:VEVENT
BEGIN:VEVENT
DTSTART;TZID=America/Chicago:20250417T180000
DTEND;TZID=America/Chicago:20250417T210000
DTSTAMP:20260425T100839
CREATED:20250130T114230Z
LAST-MODIFIED:20250327T103919Z
UID:10027731-1744912800-1744923600@theboernelife.com
SUMMARY:Live at Lost Oak Thursday Nights
DESCRIPTION:Enjoy an intimate evening of live music every Thursday night from 6 p.m. to 9 p.m. at Lost Oak Cellars\, Boerne’s premier wine and cigar bar. Featuring talented singer-songwriters performing acoustic sets\, this weekly event offers the perfect setting to relax with great music\, fine wine\, and premium cigars. \nTonight features local artis\, Hunter Billingsley\, who you can get a sneak peek of here. \n \nLocated at 111 Rosewood Ave\, Boerne\, TX\, Lost Oak Cellars is nestled in Boerne’s historic district\, just off Main Street. The building itself is a piece of local history—originally the Ebensberger Fisher Funeral Home\, it was recognized as a Texas Treasure by the Texas Historical Society in 2012. Built in 1937 using wood from the old Becker Hotel\, the structure retains its Art Deco charm\, making it a unique and inviting destination for an evening out. \nJoin the community every Thursday to unwind with live music in this beautifully restored historic venue. Whether you’re a wine lover\, a cigar aficionado\, or simply looking for a great night out\, Lost Oak Cellars offers a welcoming space to enjoy the best of Boerne’s music scene. \n 
URL:https://theboernelife.com/events/live-at-lost-oak-thursday-nights-2/2025-04-17/
LOCATION:Lost Oak Cellars\, 111 Rosewood Ave\, Boerne\, TX\, 78006\, United States
CATEGORIES:Food and Drink,Music
ATTACH;FMTTYPE=image/jpeg:https://theboernelife.com/wp-content/uploads/2024/11/Lost-Oak-Cellars-7.jpg
END:VEVENT
BEGIN:VEVENT
DTSTART;TZID=America/Chicago:20250417T180000
DTEND;TZID=America/Chicago:20250417T210000
DTSTAMP:20260425T100839
CREATED:20250220T123108Z
LAST-MODIFIED:20250421T101740Z
UID:10026421-1744912800-1744923600@theboernelife.com
SUMMARY:Texas Hill Country Cornhole League Meetup
DESCRIPTION:Want to play cornhole\, make some friends\, and maybe win a little money? Then don’t miss the Texas Hill Country Cornhole Leagues next scheduled meetup this Thursday.\n\n\nThe meetup starts at 6 pm with a social hour\, and the matches begin at 7. Happy hour specials will go until 8 pm for TXHCCL attendees.\n\n\n\n\nAt every meetup\, there will be a small tournament. The entry fee will be $15 per person\, so be sure to bring cash with you as well.\n\n\nAnyone and everyone is welcome! We do advise you go ahead and set up a Scorholio account prior to arriving. \nTo learn more visit the Texas Hill Country Corn Hole League Facebook group!
URL:https://theboernelife.com/events/texas-hill-country-cornhole-league-meetup-3/2025-04-17/
LOCATION:Tapatio Springs Hill Country Resort\, 1 Resort Way\, Boerne\, 78006
CATEGORIES:Outdoors
ATTACH;FMTTYPE=image/jpeg:https://theboernelife.com/wp-content/uploads/2024/10/Texas-Hill-Country-Cornhole-League.jpg
END:VEVENT
BEGIN:VEVENT
DTSTART;TZID=America/Chicago:20250417T180000
DTEND;TZID=America/Chicago:20250417T210000
DTSTAMP:20260425T100839
CREATED:20250414T040142Z
LAST-MODIFIED:20250414T040142Z
UID:10027866-1744912800-1744923600@theboernelife.com
SUMMARY:April Bike Night at Pure Country BBQ & Grill
DESCRIPTION:Javelina Harley-Davidson’s official Bike Nights are back\, and this month’s ride is heading to Pure Country BBQ & Grill in Boerne. Riders will meet at the dealership at 5:30 pm on Thursday\, April 17\, before cruising over to the venue for an evening of live music\, games\, great food\, cold drinks\, and giveaways from 6 pm to 9 pm. \nThose who RSVP and ride out with the Javelina crew will receive their first drink free. This event promises a fun\, high-energy atmosphere for motorcycle enthusiasts and the community alike. \nPure Country BBQ & Grill is located at 1481 South Main Street\, Boerne\, TX 78006. For more details\, contact Javelina Harley-Davidson.
URL:https://theboernelife.com/events/april-bike-night-at-pure-country-bbq-grill/
LOCATION:Pure Country BBQ & Grill\, 1481 S Main St\, Boerne\, TX\, 78006\, United States
CATEGORIES:Outdoors
END:VEVENT
BEGIN:VEVENT
DTSTART;TZID=America/Chicago:20250417T183000
DTEND;TZID=America/Chicago:20250417T203000
DTSTAMP:20260425T100839
CREATED:20250304T122218Z
LAST-MODIFIED:20250304T122342Z
UID:10026385-1744914600-1744921800@theboernelife.com
SUMMARY:SINGO at Pure Country
DESCRIPTION:Head over to Pure Country each Thursday night at 6:30 for SINGO. Bring your friends and win some house cash! Participants always get extended happy hour specials!
URL:https://theboernelife.com/events/singo-at-pure-country-2/2025-04-17/
LOCATION:Pure Country BBQ & Grill\, 1481 S Main St\, Boerne\, TX\, 78006\, United States
CATEGORIES:Music
ATTACH;FMTTYPE=image/jpeg:https://theboernelife.com/wp-content/uploads/2024/07/Singo-Pure-Country.jpg
END:VEVENT
BEGIN:VEVENT
DTSTART;TZID=America/Chicago:20250417T190000
DTEND;TZID=America/Chicago:20250417T203000
DTSTAMP:20260425T100839
CREATED:20250328T105141Z
LAST-MODIFIED:20251029T134740Z
UID:10004979-1744916400-1744921800@theboernelife.com
SUMMARY:Live! at the Library (Music)
DESCRIPTION:The Kenny Grimes Trio will be the featured musical act for November’s Live! at the Library event. \nThe library offers a monthly concert as part of their Live! at the Library series\, and they take place on the third Thursday of each month. \nGuests are encouraged to bring chairs\, blankets\, food\, and drinks for a night of music under the stars at the library amphitheater. Please note the library is closed June 19th for a holiday\, but the concert at the Amphitheater will still take place!
URL:https://theboernelife.com/events/live-at-the-library-music/2025-04-17/
LOCATION:Patrick Heath Public Library\, 451 N. Main Street\, Boerne\, TX\, 78006\, United States
CATEGORIES:Kids and Family,Music
ATTACH;FMTTYPE=image/jpeg:https://theboernelife.com/wp-content/uploads/2024/03/Live-at-the-Library-1.jpg
END:VEVENT
END:VCALENDAR