BEGIN:VCALENDAR
VERSION:2.0
PRODID:-//The Boerne Life - ECPv6.15.15//NONSGML v1.0//EN
CALSCALE:GREGORIAN
METHOD:PUBLISH
X-WR-CALNAME:The Boerne Life
X-ORIGINAL-URL:https://theboernelife.com
X-WR-CALDESC:Events for The Boerne Life
REFRESH-INTERVAL;VALUE=DURATION:PT1H
X-Robots-Tag:noindex
X-PUBLISHED-TTL:PT1H
BEGIN:VTIMEZONE
TZID:America/Chicago
BEGIN:DAYLIGHT
TZOFFSETFROM:-0600
TZOFFSETTO:-0500
TZNAME:CDT
DTSTART:20240310T080000
END:DAYLIGHT
BEGIN:STANDARD
TZOFFSETFROM:-0500
TZOFFSETTO:-0600
TZNAME:CST
DTSTART:20241103T070000
END:STANDARD
BEGIN:DAYLIGHT
TZOFFSETFROM:-0600
TZOFFSETTO:-0500
TZNAME:CDT
DTSTART:20250309T080000
END:DAYLIGHT
BEGIN:STANDARD
TZOFFSETFROM:-0500
TZOFFSETTO:-0600
TZNAME:CST
DTSTART:20251102T070000
END:STANDARD
BEGIN:DAYLIGHT
TZOFFSETFROM:-0600
TZOFFSETTO:-0500
TZNAME:CDT
DTSTART:20260308T080000
END:DAYLIGHT
BEGIN:STANDARD
TZOFFSETFROM:-0500
TZOFFSETTO:-0600
TZNAME:CST
DTSTART:20261101T070000
END:STANDARD
END:VTIMEZONE
BEGIN:VEVENT
DTSTART;TZID=America/Chicago:20250418T130000
DTEND;TZID=America/Chicago:20250418T160000
DTSTAMP:20260422T191736
CREATED:20250405T011349Z
LAST-MODIFIED:20250414T103428Z
UID:10027819-1744981200-1744992000@theboernelife.com
SUMMARY:Easter Bunny Visit at CommuniCare Boerne
DESCRIPTION:Families can stop by CommuniCare in Boerne on Friday\, April 18\, from 1 pm to 4 pm for a festive Easter visit with the Easter Bunny. Kids will have the opportunity to take photos\, collect goodies\, and enjoy some early holiday cheer. \nThe event also provides a chance to meet the CommuniCare staff and explore the clinic in a relaxed\, family-friendly atmosphere. \nThis visit is part of CommuniCare’s two-day celebration\, with a separate appearance by the Easter Bunny at the Leon Springs location on Thursday\, April 17. \nAdmission is free. The Boerne CommuniCare clinic is located at 105 E. Hosack Street\, Boerne\, TX 78006. For more information\, visit www.communicaresa.org.
URL:https://theboernelife.com/events/easter-bunny-visit-at-communicare-boerne/
LOCATION:CommuniCare Boerne\, 105 E. Hosack Street\, Boerne\, TX\, 78006\, United States
CATEGORIES:Holiday
ATTACH;FMTTYPE=image/jpeg:https://theboernelife.com/wp-content/uploads/2025/04/easter-bunny-visit-at-communicare-boerne.jpg
END:VEVENT
BEGIN:VEVENT
DTSTART;TZID=America/Chicago:20250418T140000
DTEND;TZID=America/Chicago:20250418T230000
DTSTAMP:20260422T191736
CREATED:20250414T043505Z
LAST-MODIFIED:20250414T043505Z
UID:10027876-1744984800-1745017200@theboernelife.com
SUMMARY:Easter Uncorked at Lost Oak Cellars
DESCRIPTION:Lost Oak Cellars is celebrating Good Friday with an evening of wine\, music\, and Easter fun. Guests can enjoy live music by Aaron Patterson from 7 pm to 10 pm while sipping on Texas wines in the cozy tasting room. With every item purchased\, visitors can select a lucky egg from the Easter basket—each filled with prizes or Easter candy. Receive two eggs with every bottle purchase. \nThe event will take place on Friday\, April 18\, 2025\, with the tasting room open from 2 pm to 11 pm. The music and egg giveaway run from 7 pm to 10 pm\, while supplies last. \nLost Oak Cellars is located at 111 Rosewood Avenue\, Boerne\, TX 78006. For more information\, call (830) 929-7300 or email boerne@lostoakwinery.com.
URL:https://theboernelife.com/events/easter-uncorked-at-lost-oak-cellars/
LOCATION:Lost Oak Cellars\, 111 Rosewood Ave\, Boerne\, TX\, 78006\, United States
CATEGORIES:Food and Drink,Holiday,Music
ATTACH;FMTTYPE=image/jpeg:https://theboernelife.com/wp-content/uploads/2025/04/easter-uncorked-at-lost-oak-cellars.jpg
END:VEVENT
BEGIN:VEVENT
DTSTART;TZID=America/Chicago:20250418T170000
DTEND;TZID=America/Chicago:20250418T200000
DTSTAMP:20260422T191736
CREATED:20250109T072348Z
LAST-MODIFIED:20260223T122155Z
UID:10027887-1744995600-1745006400@theboernelife.com
SUMMARY:Parent Survival Night at The Little Gym
DESCRIPTION:Drop the kids off for an evening of fun and adventure at The Little Gym on Friday\, from 5 pm to 8 pm. Located at 1433 S. Main St.\, Boerne\, TX\, this Parent Survival Night is perfect for kids ages 3 to 10. \nYou go have fun\, get some work done\, or just take a deep breath. Meanwhile your kids will be in a controlled\, safe environment\, having a blast and getting tired out! \n \n  \nAdmission is $40 per child\, with a 10% discount for members. Don’t miss this chance to give your kids a thrilling night while you enjoy a little free time. Pre-registration is recommended\, as spaces are limited.
URL:https://theboernelife.com/events/parent-survival-night-little-gym/2025-04-18/
LOCATION:TX
CATEGORIES:Kids and Family
ATTACH;FMTTYPE=image/jpeg:https://theboernelife.com/wp-content/uploads/2025/01/Parent-Survival-Night-1.jpg
END:VEVENT
BEGIN:VEVENT
DTSTART;TZID=America/Chicago:20250418T180000
DTEND;TZID=America/Chicago:20250418T210000
DTSTAMP:20260422T191736
CREATED:20250204T054427Z
LAST-MODIFIED:20250214T224712Z
UID:10026161-1744999200-1745010000@theboernelife.com
SUMMARY:Live Music at Pinchy’s Lobster & Raw Bar
DESCRIPTION:Enjoy an afternoon of live music at Pinchy’s Lobster & Raw Bar every weekend on Saturday and Sunday from 6 – 9 PM. Located at 250 River Rd\, Boerne\, TX\, this is the perfect way to relax with great food\, drinks\, and live entertainment. \nGather your friends\, sip on refreshing cocktails\, and savor fresh seafood while enjoying music in a lively atmosphere. Don’t miss this chance to kick back and enjoy the weekend in Boerne!
URL:https://theboernelife.com/events/music-at-pinchys/2025-04-18/
LOCATION:Pinchy’s Lobster & Raw Bar\, 250 River Rd\, Boerne\, TX\, 78006\, United States
CATEGORIES:Music
ATTACH;FMTTYPE=image/jpeg:https://theboernelife.com/wp-content/uploads/2025/02/opening-weekend-with-liquid-velvet-at-pinchys-lobster-and-raw-bar.jpg
END:VEVENT
BEGIN:VEVENT
DTSTART;TZID=America/Chicago:20250418T183000
DTEND;TZID=America/Chicago:20250418T223000
DTSTAMP:20260422T191736
CREATED:20250116T153909Z
LAST-MODIFIED:20250822T005334Z
UID:10030400-1745001000-1745015400@theboernelife.com
SUMMARY:Singer Songwriter Series at La Cascada Table & Bar
DESCRIPTION:Located in Tapatio Springs\, La Cascada Table & Bar believes that great food and great music go hand-in-hand in the Texas Hill Country. That’s why every weekend they feature live music on the patio with amazing views of the golf course and hills. Visit their site for information on who is playing next. \n 
URL:https://theboernelife.com/events/singer-songwriter-series-at-la-cascada-table-bar-2/2025-04-18/
LOCATION:La Cascada Table & Bar\, 1 Resort Way\, Boerne\, TX\, 78006\, United States
CATEGORIES:Music
ATTACH;FMTTYPE=image/png:https://theboernelife.com/wp-content/uploads/2024/02/La-Cascada-Logo.png
END:VEVENT
BEGIN:VEVENT
DTSTART;TZID=America/Chicago:20250418T190000
DTEND;TZID=America/Chicago:20250418T220000
DTSTAMP:20260422T191736
CREATED:20240301T122700Z
LAST-MODIFIED:20250821T235745Z
UID:10026090-1745002800-1745013600@theboernelife.com
SUMMARY:Live Music at the Bevy
DESCRIPTION:Hangout at the Bevy hotel bar and listen to live music every Friday and Saturday night. When the weather’s nice out\, the windows will be open to the patio bar and you can sit by the pool to enjoy the weather while you listen. \nCheck their social media to see who is playing this week.
URL:https://theboernelife.com/events/live-music-at-the-bevy/2025-04-18/
LOCATION:The Bevy Hotel Boerne\, 101 Herff Rd\, Boerne\, TX\, 78006\, United States
CATEGORIES:Music
ATTACH;FMTTYPE=image/jpeg:https://theboernelife.com/wp-content/uploads/2024/03/Live-Music-at-the-Bevy.jpg
END:VEVENT
BEGIN:VEVENT
DTSTART;TZID=America/Chicago:20250418T190000
DTEND;TZID=America/Chicago:20250418T220000
DTSTAMP:20260422T191736
CREATED:20241216T093639Z
LAST-MODIFIED:20250804T005503Z
UID:10030100-1745002800-1745013600@theboernelife.com
SUMMARY:Friday Night Karaoke at Pure Country BBQ & Grill
DESCRIPTION:Kick off the weekend with music\, laughter\, and unforgettable memories at Friday Night Karaoke at Pure Country BBQ in Boerne! Whether you’re a shower superstar or a seasoned performer\, the mic is waiting for you. \nThis family-friendly event welcomes all ages to sing their favorite hits and enjoy a night of fun and good vibes. Bring the whole family and make it a night to remember. \nKid’s karaoke starts at 7PM and adults hit the stage at 8PM—come check it out! Don’t miss the chance to shine and share the joy of music!
URL:https://theboernelife.com/events/friday-night-karaoke-at-pure-country-bbq-grill/2025-04-18/
LOCATION:Pure Country BBQ & Grill\, 1481 S Main St\, Boerne\, TX\, 78006\, United States
CATEGORIES:Music
ATTACH;FMTTYPE=image/jpeg:https://theboernelife.com/wp-content/uploads/2024/12/friday-night-karaoke-at-pure-country-bbq-and-grill.jpg
END:VEVENT
BEGIN:VEVENT
DTSTART;TZID=America/Chicago:20250418T193000
DTEND;TZID=America/Chicago:20250418T210000
DTSTAMP:20260422T191736
CREATED:20240212T231555Z
LAST-MODIFIED:20260201T161438Z
UID:10025718-1745004600-1745010000@theboernelife.com
SUMMARY:Adult Night Hike
DESCRIPTION:Adult Night Hikes are held at sunset on the trails at Cibolo Nature Center. On the hike\, you’ll be on the lookout for nocturnal wildlife. That means you’ll be on lesser traveled trails\, in the dark (sometimes with flashlights off)\, and hiking for longer than other Night Hike events. \n2026 dates include: \nSpring \nFriday\, February 20 – Adult \nFriday\, March 20 – Adult \nFriday\, April 17 – Adult \nFriday\, May 15 – Adult \nFall \nFriday\, August 21 – Adult \nFriday\, September 18 – Adult \nFriday\, October 16 – Adult \nHikes begin approximately 30 minutes before sunset. \nRemember\, safety first on the trails. It can be rocky and wet\, so tread carefully. Make sure you have a flashlight and a water bottle.
URL:https://theboernelife.com/events/adult-night-hike/2025-04-18/
LOCATION:Cibolo Nature Center\, 140 City Park Rd\, Boerne\, TX\, 78006\, United States
CATEGORIES:Outdoors
ATTACH;FMTTYPE=image/jpeg:https://theboernelife.com/wp-content/uploads/2024/02/Cibolo-Nature-Center-Sunset.jpg
END:VEVENT
BEGIN:VEVENT
DTSTART;TZID=America/Chicago:20250418T200000
DTEND;TZID=America/Chicago:20250418T220000
DTSTAMP:20260422T191736
CREATED:20241120T083122Z
LAST-MODIFIED:20250113T033046Z
UID:10024069-1745006400-1745013600@theboernelife.com
SUMMARY:It's All You Karaoke at Remedy Hall
DESCRIPTION:Friday nights are your time to shine at Remedy Hall’s It’s All You Karaoke! Grab the microphone and hit the stage starting at 8 pm every Friday for an evening of fun and music. \nWhether you’re a seasoned performer or just looking to have some fun\, this is the perfect chance to showcase your talent and enjoy a great night out. Remedy Hall is the place to be for lively entertainment and good vibes. \nDon’t miss it—come sing your heart out and make Friday nights unforgettable!
URL:https://theboernelife.com/events/its-all-you-karaoke-at-remedy-hall/2025-04-18/
LOCATION:Remedy Hall\, 804 High St\, Comfort\, TX\, 78013\, United States
CATEGORIES:Music
ATTACH;FMTTYPE=image/jpeg:https://theboernelife.com/wp-content/uploads/2024/11/its-all-you-karaoke-at-remedy-hall.jpg
END:VEVENT
END:VCALENDAR