BEGIN:VCALENDAR
VERSION:2.0
PRODID:-//The Boerne Life - ECPv6.15.15//NONSGML v1.0//EN
CALSCALE:GREGORIAN
METHOD:PUBLISH
X-ORIGINAL-URL:https://theboernelife.com
X-WR-CALDESC:Events for The Boerne Life
REFRESH-INTERVAL;VALUE=DURATION:PT1H
X-Robots-Tag:noindex
X-PUBLISHED-TTL:PT1H
BEGIN:VTIMEZONE
TZID:America/Chicago
BEGIN:DAYLIGHT
TZOFFSETFROM:-0600
TZOFFSETTO:-0500
TZNAME:CDT
DTSTART:20240310T080000
END:DAYLIGHT
BEGIN:STANDARD
TZOFFSETFROM:-0500
TZOFFSETTO:-0600
TZNAME:CST
DTSTART:20241103T070000
END:STANDARD
BEGIN:DAYLIGHT
TZOFFSETFROM:-0600
TZOFFSETTO:-0500
TZNAME:CDT
DTSTART:20250309T080000
END:DAYLIGHT
BEGIN:STANDARD
TZOFFSETFROM:-0500
TZOFFSETTO:-0600
TZNAME:CST
DTSTART:20251102T070000
END:STANDARD
BEGIN:DAYLIGHT
TZOFFSETFROM:-0600
TZOFFSETTO:-0500
TZNAME:CDT
DTSTART:20260308T080000
END:DAYLIGHT
BEGIN:STANDARD
TZOFFSETFROM:-0500
TZOFFSETTO:-0600
TZNAME:CST
DTSTART:20261101T070000
END:STANDARD
END:VTIMEZONE
BEGIN:VEVENT
DTSTART;TZID=America/Chicago:20250419T090000
DTEND;TZID=America/Chicago:20250419T130000
DTSTAMP:20260422T173601
CREATED:20250410T192321Z
LAST-MODIFIED:20250411T003140Z
UID:10027853-1745053200-1745067600@theboernelife.com
SUMMARY:Spring Native Plant Sale
DESCRIPTION:Locally owned native plants will be offered for sale at the Teaching Barn at Herff Farm on Saturday\, April 19 from 9:00 – 1:00 by the Boerne Chapter of the Native Plant Society. Experts will be on-hand to answer questions and help customers choose exactly the right plant for their yard or garden. Proceeds benefit local pollinator garden efforts.
URL:https://theboernelife.com/events/spring-native-plant-sale/
LOCATION:Herff Farm\, 33 Herff Rd\, Boerne\, TX\, 78006\, United States
CATEGORIES:Outdoors
ATTACH;FMTTYPE=image/png:https://theboernelife.com/wp-content/uploads/2025/04/EventPhotoFull_Native-Plant-Society-Event-at-Cibolo.png
END:VEVENT
BEGIN:VEVENT
DTSTART;TZID=America/Chicago:20250419T100000
DTEND;TZID=America/Chicago:20250419T130000
DTSTAMP:20260422T173601
CREATED:20240210T140252Z
LAST-MODIFIED:20240917T143720Z
UID:10012706-1745056800-1745067600@theboernelife.com
SUMMARY:Boerne Writers Club
DESCRIPTION:The Boerne Writers Club is a group of enthusiastic writers dedicated to providing constructive and encouraging feedback for fellow writers\, regardless of their experience level—be it beginners\, seasoned authors\, or those who have been published. The group critiques a wide range of genres\, including book-length fiction and non-fiction manuscripts\, novellas\, short stories\, articles\, poems\, screenplays\, letters\, speeches\, and more. Their goal is to foster a “safe space” where writers can hone their craft. This involves reading their work to the group (or opting to have someone else present it) and then openly receiving the group’s feedback. \nTheir primary mission is to assist The Writer\, supporting writers at every stage of their journey with a focus on being constructive and encouraging\, grounded in humility rather than ego. Meetings are held on the third Saturday of each month.
URL:https://theboernelife.com/events/boerne-writers-club/2025-04-19/
LOCATION:Patrick Heath Public Library\, 451 N. Main Street\, Boerne\, TX\, 78006\, United States
CATEGORIES:Arts and Culture
ATTACH;FMTTYPE=image/png:https://theboernelife.com/wp-content/uploads/2024/02/Boerne-Library-Logo.png
END:VEVENT
BEGIN:VEVENT
DTSTART;TZID=America/Chicago:20250419T110000
DTEND;TZID=America/Chicago:20250419T130000
DTSTAMP:20260422T173601
CREATED:20250405T015805Z
LAST-MODIFIED:20250405T015805Z
UID:10027833-1745060400-1745067600@theboernelife.com
SUMMARY:Easter Eggstravaganza at St. John Lutheran Church
DESCRIPTION:St. John Lutheran Church will host its annual Easter Eggstravaganza on Saturday\, April 19\, 2025\, from 11 am to 1 pm. This family-friendly event is free and open to the entire community. \nGuests can enjoy an Easter Egg Hunt\, bounce house\, games\, music\, food\, and other festive activities. It’s a joyful way to celebrate the season with fun for all ages. \nThe event will take place at 315 Rosewood Avenue\, Boerne\, TX 78006.
URL:https://theboernelife.com/events/easter-eggstravaganza-at-st-john-lutheran-church/
LOCATION:St. John Lutheran Church\, 315 Rosewood Ave.\, Boerne\, TX\, 78006\, United States
CATEGORIES:Holiday
ATTACH;FMTTYPE=image/jpeg:https://theboernelife.com/wp-content/uploads/2025/04/easter-eggstravaganza-at-st-john-lutheran-church.jpg
END:VEVENT
BEGIN:VEVENT
DTSTART;TZID=America/Chicago:20250419T110000
DTEND;TZID=America/Chicago:20250419T170000
DTSTAMP:20260422T173601
CREATED:20250414T040656Z
LAST-MODIFIED:20250414T040656Z
UID:10027868-1745060400-1745082000@theboernelife.com
SUMMARY:Pure Country Crawfish Boil at Pure Country BBQ & Grill
DESCRIPTION:Get ready for a flavorful feast at the Pure Country Crawfish Boil on Saturday\, April 19\, starting at 11 am. Hosted by Pure Country BBQ & Grill\, this boil is a can’t-miss event for crawfish lovers and foodies alike. \nServed up hot until sold out\, each order includes a classic mix of crawfish\, sausage\, corn\, and potatoes—perfectly paired with a cold beer for a laid-back lunch or dinner. Guests are encouraged to arrive early to ensure they don’t miss out on this Southern-style spread. \nThe event will take place at Pure Country BBQ & Grill\, located at 1481 South Main Street\, Boerne\, TX 78006. For more information\, call (830) 816-7669 or visit purecountryboerne.com.
URL:https://theboernelife.com/events/pure-country-crawfish-boil-at-pure-country-bbq-grill/
LOCATION:Pure Country BBQ & Grill\, 1481 S Main St\, Boerne\, TX\, 78006\, United States
CATEGORIES:Food and Drink
ATTACH;FMTTYPE=image/jpeg:https://theboernelife.com/wp-content/uploads/2025/04/pure-country-crawfish-boil-at-pure-country-bbq-and-grill.jpg
END:VEVENT
BEGIN:VEVENT
DTSTART;TZID=America/Chicago:20250419T120000
DTEND;TZID=America/Chicago:20250419T130000
DTSTAMP:20260422T173601
CREATED:20250404T210325Z
LAST-MODIFIED:20250404T210325Z
UID:10027817-1745064000-1745067600@theboernelife.com
SUMMARY:Adult Easter Egg Hunt at Bending Branch Winery
DESCRIPTION:It’s time to unleash your inner child! Join us for our annual Adult Easter Egg Hunt at Bending Branch Winery. Bring your basket and get ready to find some eggs filled with treats\, special offers\, and great prizes totaling over $2\,500! \nGates open at noon. Please check in at the registration table by 12:30 p.m. The hunt will begin promptly at 12:45 p.m. DON’T BE LATE! \nHunt Rules: \n\nParticipants MUST be 21+ years of age. No exceptions.\nAll participants must start behind the starting line.\nParticipants must hold a glass of wine while hunting without spilling it!\nNo running! Speed walking\, skipping\, and crawling are permitted.\nBYOB – Bring your own BASKET.\nPlease wear closed-toe\, practical shoes.\nFor everyone’s safety\, no pets are allowed during the hunt or in the hunting ground area.\nAll prize vouchers must be redeemed on the day of the event.\n\nTickets: \n$30 per person regular price. \nYour ticket includes a glass of wine. \nStick around for live music from Susan Herndon until 3 p.m. \nGet tickets here.
URL:https://theboernelife.com/events/adult-easter-egg-hunt-at-bending-branch-winery/
LOCATION:Bending Branch Winery\, 142 Linder Branch Trail\, Comfort\, TX\, 78013\, United States
CATEGORIES:Holiday
ATTACH;FMTTYPE=image/jpeg:https://theboernelife.com/wp-content/uploads/2025/04/Adult-Easter-Egg-Hunt.jpg
END:VEVENT
BEGIN:VEVENT
DTSTART;TZID=America/Chicago:20250419T130000
DTEND;TZID=America/Chicago:20250419T150000
DTSTAMP:20260422T173601
CREATED:20250405T020044Z
LAST-MODIFIED:20250405T020247Z
UID:10027834-1745067600-1745074800@theboernelife.com
SUMMARY:Easter Eggstravaganza at Boerne Community Church
DESCRIPTION:Families are invited to enjoy an afternoon of springtime fun at the Easter Eggstravaganza on Saturday\, April 19\, 2025\, from 1 pm to 3 pm. This free event features a variety of activities including petting zoos\, bounce houses\, face painting\, food trucks\, and more. \nThe afternoon concludes with an egg hunt organized by age group\, making it a festive and enjoyable experience for children of all ages. It’s a great way to celebrate Easter with family\, friends\, and the community. \nAdmission is free and open to all.
URL:https://theboernelife.com/events/easter-eggstravaganza-at-boerne-community-church/
LOCATION:Boerne Community Church\, Boerne\, TX\, 78006\, United States
CATEGORIES:Holiday
ATTACH;FMTTYPE=image/jpeg:https://theboernelife.com/wp-content/uploads/2025/04/easter-eggstravaganza-at-boerne-community-church.jpg
END:VEVENT
BEGIN:VEVENT
DTSTART;TZID=America/Chicago:20250419T150000
DTEND;TZID=America/Chicago:20250419T170000
DTSTAMP:20260422T173601
CREATED:20250414T040911Z
LAST-MODIFIED:20250414T040911Z
UID:10027869-1745074800-1745082000@theboernelife.com
SUMMARY:Pure Country Easter Egg Hunt at Pure Country BBQ & Grill
DESCRIPTION:Families are invited to celebrate spring with a festive Easter egg hunt at Pure Country BBQ & Grill on Saturday\, April 19. The hunt will begin promptly at 3 pm\, and participants are encouraged to arrive early to ensure they don’t miss the fun. \nKids can bring their baskets and search for colorful eggs in an outdoor setting filled with excitement. This family-friendly event adds a playful touch to the Easter weekend\, offering a great opportunity to enjoy time together and make holiday memories. \nThe event will be held at Pure Country BBQ & Grill\, 1481 South Main Street\, Boerne\, TX 78006. For more information\, call (830) 816-7669 or visit purecountryboerne.com.
URL:https://theboernelife.com/events/pure-country-easter-egg-hunt-at-pure-country-bbq-grill/
LOCATION:Pure Country BBQ & Grill\, 1481 S Main St\, Boerne\, TX\, 78006\, United States
CATEGORIES:Holiday
ATTACH;FMTTYPE=image/jpeg:https://theboernelife.com/wp-content/uploads/2025/04/pure-country-easter-egg-hunt-at-pure-country-bbq-and-grill.jpg
END:VEVENT
BEGIN:VEVENT
DTSTART;TZID=America/Chicago:20250419T150000
DTEND;TZID=America/Chicago:20250419T230000
DTSTAMP:20260422T173601
CREATED:20240910T102942Z
LAST-MODIFIED:20250829T104014Z
UID:10026044-1745074800-1745103600@theboernelife.com
SUMMARY:Open Bowling at Boerne Turn Verein
DESCRIPTION:The Boerne Turn Verein is a non-profit bowling alley that’s been in Boerne since 1906. It’s a blast from the past. Most of the year\, it’s members-only league play\, except Saturday nights from 3 pm to 11 pm when the community is welcome to drop in and play. \nRates are $5.50 per game\, $3.50 for shoe rentals. \n 
URL:https://theboernelife.com/events/open-bowling-at-boerne-turn-verein/2025-04-19/
LOCATION:Boerne Turn Verin\, 221 E. Theissen\, Boerne\, TX\, 78006\, United States
CATEGORIES:Kids and Family
ATTACH;FMTTYPE=image/jpeg:https://theboernelife.com/wp-content/uploads/2024/02/Boerne-Turn-Verin.jpg
END:VEVENT
BEGIN:VEVENT
DTSTART;TZID=America/Chicago:20250419T180000
DTEND;TZID=America/Chicago:20250419T210000
DTSTAMP:20260422T173601
CREATED:20250204T054427Z
LAST-MODIFIED:20250214T224712Z
UID:10026162-1745085600-1745096400@theboernelife.com
SUMMARY:Live Music at Pinchy’s Lobster & Raw Bar
DESCRIPTION:Enjoy an afternoon of live music at Pinchy’s Lobster & Raw Bar every weekend on Saturday and Sunday from 6 – 9 PM. Located at 250 River Rd\, Boerne\, TX\, this is the perfect way to relax with great food\, drinks\, and live entertainment. \nGather your friends\, sip on refreshing cocktails\, and savor fresh seafood while enjoying music in a lively atmosphere. Don’t miss this chance to kick back and enjoy the weekend in Boerne!
URL:https://theboernelife.com/events/music-at-pinchys/2025-04-19/
LOCATION:Pinchy’s Lobster & Raw Bar\, 250 River Rd\, Boerne\, TX\, 78006\, United States
CATEGORIES:Music
ATTACH;FMTTYPE=image/jpeg:https://theboernelife.com/wp-content/uploads/2025/02/opening-weekend-with-liquid-velvet-at-pinchys-lobster-and-raw-bar.jpg
END:VEVENT
BEGIN:VEVENT
DTSTART;TZID=America/Chicago:20250419T183000
DTEND;TZID=America/Chicago:20250419T223000
DTSTAMP:20260422T173601
CREATED:20250116T153909Z
LAST-MODIFIED:20250822T005334Z
UID:10030401-1745087400-1745101800@theboernelife.com
SUMMARY:Singer Songwriter Series at La Cascada Table & Bar
DESCRIPTION:Located in Tapatio Springs\, La Cascada Table & Bar believes that great food and great music go hand-in-hand in the Texas Hill Country. That’s why every weekend they feature live music on the patio with amazing views of the golf course and hills. Visit their site for information on who is playing next. \n 
URL:https://theboernelife.com/events/singer-songwriter-series-at-la-cascada-table-bar-2/2025-04-19/
LOCATION:La Cascada Table & Bar\, 1 Resort Way\, Boerne\, TX\, 78006\, United States
CATEGORIES:Music
ATTACH;FMTTYPE=image/png:https://theboernelife.com/wp-content/uploads/2024/02/La-Cascada-Logo.png
END:VEVENT
BEGIN:VEVENT
DTSTART;TZID=America/Chicago:20250419T190000
DTEND;TZID=America/Chicago:20250419T220000
DTSTAMP:20260422T173601
CREATED:20240301T122700Z
LAST-MODIFIED:20250821T235745Z
UID:10030372-1745089200-1745100000@theboernelife.com
SUMMARY:Live Music at the Bevy
DESCRIPTION:Hangout at the Bevy hotel bar and listen to live music every Friday and Saturday night. When the weather’s nice out\, the windows will be open to the patio bar and you can sit by the pool to enjoy the weather while you listen. \nCheck their social media to see who is playing this week.
URL:https://theboernelife.com/events/live-music-at-the-bevy/2025-04-19/
LOCATION:The Bevy Hotel Boerne\, 101 Herff Rd\, Boerne\, TX\, 78006\, United States
CATEGORIES:Music
ATTACH;FMTTYPE=image/jpeg:https://theboernelife.com/wp-content/uploads/2024/03/Live-Music-at-the-Bevy.jpg
END:VEVENT
BEGIN:VEVENT
DTSTART;TZID=America/Chicago:20250419T190000
DTEND;TZID=America/Chicago:20250419T220000
DTSTAMP:20260422T173601
CREATED:20240717T221600Z
LAST-MODIFIED:20250130T153338Z
UID:10020174-1745089200-1745100000@theboernelife.com
SUMMARY:Live at Lost Oak Saturday Nights
DESCRIPTION:Every Saturday evening\, Live Oak Cellars hosts live music from 7-10 pm. Visit for great wine\, charcuterie\, and cigars!
URL:https://theboernelife.com/events/live-at-lost-oak-saturday-nights/2025-04-19/
LOCATION:Lost Oak Cellars\, 111 Rosewood Ave\, Boerne\, TX\, 78006\, United States
CATEGORIES:Food and Drink,Music
ATTACH;FMTTYPE=image/jpeg:https://theboernelife.com/wp-content/uploads/2024/11/Lost-Oak-Cellars-7.jpg
END:VEVENT
END:VCALENDAR