BEGIN:VCALENDAR
VERSION:2.0
PRODID:-//The Boerne Life - ECPv6.15.15//NONSGML v1.0//EN
CALSCALE:GREGORIAN
METHOD:PUBLISH
X-WR-CALNAME:The Boerne Life
X-ORIGINAL-URL:https://theboernelife.com
X-WR-CALDESC:Events for The Boerne Life
REFRESH-INTERVAL;VALUE=DURATION:PT1H
X-Robots-Tag:noindex
X-PUBLISHED-TTL:PT1H
BEGIN:VTIMEZONE
TZID:America/Chicago
BEGIN:DAYLIGHT
TZOFFSETFROM:-0600
TZOFFSETTO:-0500
TZNAME:CDT
DTSTART:20240310T080000
END:DAYLIGHT
BEGIN:STANDARD
TZOFFSETFROM:-0500
TZOFFSETTO:-0600
TZNAME:CST
DTSTART:20241103T070000
END:STANDARD
BEGIN:DAYLIGHT
TZOFFSETFROM:-0600
TZOFFSETTO:-0500
TZNAME:CDT
DTSTART:20250309T080000
END:DAYLIGHT
BEGIN:STANDARD
TZOFFSETFROM:-0500
TZOFFSETTO:-0600
TZNAME:CST
DTSTART:20251102T070000
END:STANDARD
BEGIN:DAYLIGHT
TZOFFSETFROM:-0600
TZOFFSETTO:-0500
TZNAME:CDT
DTSTART:20260308T080000
END:DAYLIGHT
BEGIN:STANDARD
TZOFFSETFROM:-0500
TZOFFSETTO:-0600
TZNAME:CST
DTSTART:20261101T070000
END:STANDARD
END:VTIMEZONE
BEGIN:VEVENT
DTSTART;TZID=America/Chicago:20250422T080000
DTEND;TZID=America/Chicago:20250422T213000
DTSTAMP:20260420T215556
CREATED:20250421T100557Z
LAST-MODIFIED:20250421T100955Z
UID:10027899-1745308800-1745357400@theboernelife.com
SUMMARY:Sisterdale Bioblitz
DESCRIPTION:Join wildlife experts and enthusiasts to record wildlife observations using the iNaturalist app at the Sisterdale Sanctuary in Sisterdale\, TX. \nIn the morning and afternoon sessions\, you will be identifying plants\, birds\, and butterflies and conducting a herp search to establish a baseline inventory of the property. In the evening\, you will be conducting moth data collection (18+). \nObservations will be used to inform land management practices at the Sanctuary. Volunteers should be familiar with iNaturalist. \nSchedule: Earth Day\, April 22\, 2025 \n\n8-10am: Birds\n10-noon: Plants & Butterflies\n1-3pm: Plants & Butterflies\n9-11am: Herp Search\n4-6pm: Herp Search\n8:30-10:30pm: Moth Count with Craig Hensley\n\nLocation: Sisterdale Sanctuary (1250 FM 473\, Boerne\, TX) \nRequirements: Experience using iNaturalist. \nWhat to Bring: Reusable water bottle\, sturdy hiking shoes (some terrain is very rocky)\, long pants\, bug spray\, sunscreen\, etc. \nSign up here.
URL:https://theboernelife.com/events/sisterdale-bioblitz/
LOCATION:Sisterdale Sanctuary\, 1250 FM 473\, Boerne\, TX\, 78006\, United States
CATEGORIES:Outdoors
ATTACH;FMTTYPE=image/jpeg:https://theboernelife.com/wp-content/uploads/2025/02/Sisterdale-Sanctuary.jpg
END:VEVENT
BEGIN:VEVENT
DTSTART;TZID=America/Chicago:20250422T153000
DTEND;TZID=America/Chicago:20250422T160000
DTSTAMP:20260420T215556
CREATED:20250202T144037Z
LAST-MODIFIED:20250202T144109Z
UID:10025811-1745335800-1745337600@theboernelife.com
SUMMARY:Paws 4 Reading
DESCRIPTION:Go to the library after school and share a book with a trained\, certified therapy dog! Starts at 3:30 PM.
URL:https://theboernelife.com/events/paws-4-reading-2/2025-04-22/
LOCATION:Patrick Heath Public Library\, 451 N. Main Street\, Boerne\, TX\, 78006\, United States
CATEGORIES:Kids and Family
ATTACH;FMTTYPE=image/jpeg:https://theboernelife.com/wp-content/uploads/2024/03/Boerne-Library-2.jpg
END:VEVENT
BEGIN:VEVENT
DTSTART;TZID=America/Chicago:20250422T160000
DTEND;TZID=America/Chicago:20250422T190000
DTSTAMP:20260420T215556
CREATED:20250420T225337Z
LAST-MODIFIED:20250420T225345Z
UID:10027780-1745337600-1745348400@theboernelife.com
SUMMARY:Boerne Farmers Market Earth Day Celebration
DESCRIPTION:Celebrate Earth Day at the Boerne Farmer’s Market! \nEnjoy an afternoon of fresh finds\, local vendors\, and Earth-loving fun.\n• Enter2Win one of our Bountiful Earth Day Basket Giveaways• Bring the kids to enjoy a Greenhouse Pop-Up\, Compost Corner\, and fun educational activities• Live music by the talented Sarah and Eric Schwartz\nSupport your local farmers\, makers\, and the planet—all in one place.
URL:https://theboernelife.com/events/boerne-farmers-market-2-2-3-2/
LOCATION:Boerne Farmers Market\, 402 East Blanco Road\, Boerne\, TX\, 78006\, United States
CATEGORIES:Food and Drink,Outdoors
ATTACH;FMTTYPE=image/jpeg:https://theboernelife.com/wp-content/uploads/2024/04/Boerne-Farmers-Market.jpg
END:VEVENT
BEGIN:VEVENT
DTSTART;TZID=America/Chicago:20250422T160000
DTEND;TZID=America/Chicago:20250422T200000
DTSTAMP:20260420T215556
CREATED:20250218T003157Z
LAST-MODIFIED:20250218T003157Z
UID:10026230-1745337600-1745352000@theboernelife.com
SUMMARY:Kids Night at Texas Roadhouse
DESCRIPTION:When you head to Texas Roadhouse in Leon Springs on a Tuesday\, you need to know… every Tuesday is Kids Night!\n\nStop by anywhere from 4pm-8pm for a fun dining experience.\n\n\n\nThey’ll offer a goody bag\, arts & crafts\, free ice cream with meal purchas\, and face painting beginning at 5pm. \n\n\n\nAnd you get your Free Kids Meal voucher from the host stand on your way out to use on your next visit!
URL:https://theboernelife.com/events/kids-night-at-texas-roadhouse/2025-04-22/
LOCATION:Texas Roadhouse\, 23102 I-10 W\, San Antonio\, Texas\, 78213
CATEGORIES:Kids and Family
ATTACH;FMTTYPE=image/png:https://theboernelife.com/wp-content/uploads/2025/02/TBL-FB-Post-2025-02-17T182929.351.png
END:VEVENT
BEGIN:VEVENT
DTSTART;TZID=America/Chicago:20250422T170000
DTEND;TZID=America/Chicago:20250422T200000
DTSTAMP:20260420T215556
CREATED:20250208T094719Z
LAST-MODIFIED:20250208T094719Z
UID:10025924-1745341200-1745352000@theboernelife.com
SUMMARY:Live Music at Cork and Keg
DESCRIPTION:Enjoy an evening of live music at Cork and Keg every Tuesday and Wednesday from 5 pm to 8 pm at Richter Boerne. Guests can unwind with handcrafted cocktails and drink specials while listening to talented local musicians in a relaxed and inviting atmosphere. \nWhether stopping by for a midweek outing or looking for the perfect spot to enjoy live entertainment\, this recurring event offers great music\, drinks\, and company. No reservations required—just drop in and enjoy the sounds of Boerne.
URL:https://theboernelife.com/events/live-music-at-cork-and-keg/2025-04-22/
LOCATION:Cork and Keg\, 153 S Main St\, Boerne\, TX\, 78006\, United States
CATEGORIES:Music
ATTACH;FMTTYPE=image/jpeg:https://theboernelife.com/wp-content/uploads/2025/02/live-music-at-cork-and-keg.jpg
END:VEVENT
BEGIN:VEVENT
DTSTART;TZID=America/Chicago:20250422T180000
DTEND;TZID=America/Chicago:20250422T200000
DTSTAMP:20260420T215556
CREATED:20240208T110320Z
LAST-MODIFIED:20251123T123748Z
UID:10000123-1745344800-1745352000@theboernelife.com
SUMMARY:Trivia Night at Free Roam
DESCRIPTION:Head over to Free Roam Brewing Company for an enthralling evening of live trivia\, brought to you by Challenge Entertainment – Austin & San Antonio Trivia. These engaging trivia nights are held every Tuesday\, beginning at 6:00 PM\, and offer a fun-packed 2-hour experience that’s open to the public. \nEvent Highlights: \n\nWeekly Trivia Nights: Set aside your Tuesdays for the ultimate quiz experience that challenges and entertains.\nFood Truck Delights: A food truck will be on-site\, serving up delicious eats to keep your brain fueled.\nPrizes Galore: Top teams stand a chance to win exciting prizes every week\, making every Tuesday a potentially rewarding experience.\nComplimentary Participation: There’s no cost to join in the fun\, making it a great\, budget-friendly night out.\nOpen to All: Whether a seasoned quiz master or a casual participant\, this event promises a great time for everyone in Boerne.\n\nThe trivia night at Free Roam Brewing Company is a perfect blend of competition\, camaraderie\, and local culture. With no entry fee and plenty of prizes up for grabs\, it’s an inviting scene for trivia buffs\, foodies\, and anyone looking for a memorable night out in Boerne. Join the community and prove you’re a know-it-all at San Antonio Trivia by Challenge Entertainment. Don’t miss out on the fun!
URL:https://theboernelife.com/events/trivia-night-at-free-roam/2025-04-22/
LOCATION:Free Roam Brewing Company\, 325 S Main Street\, Boerne\, TX\, 78006\, United States
CATEGORIES:General
ATTACH;FMTTYPE=image/png:https://theboernelife.com/wp-content/uploads/2024/02/Free-Roam-Trivia.png
END:VEVENT
BEGIN:VEVENT
DTSTART;TZID=America/Chicago:20250422T190000
DTEND;TZID=America/Chicago:20250422T210000
DTSTAMP:20260420T215556
CREATED:20241024T183031Z
LAST-MODIFIED:20250629T132122Z
UID:10029661-1745348400-1745355600@theboernelife.com
SUMMARY:Fair Oaks Roost Trivia
DESCRIPTION:Head to The Roost for a fun-filled night of trivia! Gather your team\, test your knowledge\, and compete for a chance to win exciting prizes. Enjoy food and drinks available for purchase while you challenge your brain and enjoy the evening with friends.
URL:https://theboernelife.com/events/fair-oaks-roost-trivia/2025-04-22/
LOCATION:Fair Oaks Roost\, 9091 Fair Oaks Pkwy\, Fair Oaks Ranch\, Texas\, 78015
CATEGORIES:Food and Drink
ATTACH;FMTTYPE=image/jpeg:https://theboernelife.com/wp-content/uploads/2024/10/Fair-Oaks-Roost.jpg
END:VEVENT
BEGIN:VEVENT
DTSTART;TZID=America/Chicago:20250422T190000
DTEND;TZID=America/Chicago:20250422T230000
DTSTAMP:20260420T215556
CREATED:20240214T102046Z
LAST-MODIFIED:20241222T133003Z
UID:10003858-1745348400-1745362800@theboernelife.com
SUMMARY:Karaoke at Drink Texas Boerne
DESCRIPTION:Come out for karaoke at 7pm and enjoy happy hour until 9pm. Cold beer\, Texas cocktails\, and friendly bartenders right off the freeway!
URL:https://theboernelife.com/events/karaoke-at-drink-texas-boerne/2025-04-22/
LOCATION:Drink Texas Boerne\, 31138 I-10\, Boerne\, TX\, 78006\, United States
CATEGORIES:Music
ATTACH;FMTTYPE=image/png:https://theboernelife.com/wp-content/uploads/2024/02/Drink-Texas-Boerne-Logo.png
END:VEVENT
END:VCALENDAR