BEGIN:VCALENDAR
VERSION:2.0
PRODID:-//The Boerne Life - ECPv6.15.15//NONSGML v1.0//EN
CALSCALE:GREGORIAN
METHOD:PUBLISH
X-WR-CALNAME:The Boerne Life
X-ORIGINAL-URL:https://theboernelife.com
X-WR-CALDESC:Events for The Boerne Life
REFRESH-INTERVAL;VALUE=DURATION:PT1H
X-Robots-Tag:noindex
X-PUBLISHED-TTL:PT1H
BEGIN:VTIMEZONE
TZID:America/Chicago
BEGIN:DAYLIGHT
TZOFFSETFROM:-0600
TZOFFSETTO:-0500
TZNAME:CDT
DTSTART:20240310T080000
END:DAYLIGHT
BEGIN:STANDARD
TZOFFSETFROM:-0500
TZOFFSETTO:-0600
TZNAME:CST
DTSTART:20241103T070000
END:STANDARD
BEGIN:DAYLIGHT
TZOFFSETFROM:-0600
TZOFFSETTO:-0500
TZNAME:CDT
DTSTART:20250309T080000
END:DAYLIGHT
BEGIN:STANDARD
TZOFFSETFROM:-0500
TZOFFSETTO:-0600
TZNAME:CST
DTSTART:20251102T070000
END:STANDARD
BEGIN:DAYLIGHT
TZOFFSETFROM:-0600
TZOFFSETTO:-0500
TZNAME:CDT
DTSTART:20260308T080000
END:DAYLIGHT
BEGIN:STANDARD
TZOFFSETFROM:-0500
TZOFFSETTO:-0600
TZNAME:CST
DTSTART:20261101T070000
END:STANDARD
END:VTIMEZONE
BEGIN:VEVENT
DTSTART;TZID=America/Chicago:20250423T100000
DTEND;TZID=America/Chicago:20250423T110000
DTSTAMP:20260423T123509
CREATED:20240730T094514Z
LAST-MODIFIED:20241222T133020Z
UID:10021202-1745402400-1745406000@theboernelife.com
SUMMARY:Whole Body Flow Drop-In Yoga Class
DESCRIPTION:Every Thursday evening at 6:30 pm is a full body vinyasa based Yoga class at Anytime Fitness. You don’t have to be a member! For $15\, you can just show up and join in! Mats & props are available to use during class or you can bring your own.
URL:https://theboernelife.com/events/whole-body-flow-drop-in-yoga-class-2/2025-04-23/
LOCATION:Anytime Fitness Boerne\, 1018 River Rd\, Boerne\, TX\, 78006\, United States
CATEGORIES:Health and Wellness
ATTACH;FMTTYPE=image/jpeg:https://theboernelife.com/wp-content/uploads/2024/04/Drop-In-Yoga.jpg
END:VEVENT
BEGIN:VEVENT
DTSTART;TZID=America/Chicago:20250423T100000
DTEND;TZID=America/Chicago:20250423T113000
DTSTAMP:20260423T123509
CREATED:20250224T182812Z
LAST-MODIFIED:20250224T182812Z
UID:10026293-1745402400-1745407800@theboernelife.com
SUMMARY:Taste of The Nest at The Nest Nature School
DESCRIPTION:Families with young children are invited to experience Taste of The Nest\, a nature-based learning opportunity designed for children ages 18 months to 3 years. This special program offers a hands-on introduction to The Nest Nature School\, where little explorers can engage with the natural world through play\, discovery\, and connection with other families. \nSessions take place on Wednesdays from 10:00 – 11:30 am at The Nest Nature School\, 33 Herff Road\, Boerne\, TX: \nMarch 19 – Exploring Trees\nMarch 26 – Finding Flowers\nApril 2 – Down in the Dirt\nApril 9 – Watching Water\nApril 16 – Mushy Mud\nApril 23 – Incredible Ice\nApril 30 – Colors in Nature \nEach session costs $35 per child\, with a maximum of 10 families per session. Topics include Exploring Trees\, Finding Flowers\, Down in the Dirt\, Watching Water\, Mushy Mud\, Incredible Ice\, and Colors in Nature. If a session is full\, families can join the waitlist to be notified of openings. Sign up and learn more at Taste of The Nest Registration.
URL:https://theboernelife.com/events/taste-of-the-nest-at-the-nest-nature-school/2025-04-23/
LOCATION:The Nest Nature School\, 33 Herff Rd.\, Boerne\, TX\, 78006\, United States
CATEGORIES:Kids and Family
ATTACH;FMTTYPE=image/jpeg:https://theboernelife.com/wp-content/uploads/2025/02/Taste-of-the-Nest.jpg
END:VEVENT
BEGIN:VEVENT
DTSTART;TZID=America/Chicago:20250423T103000
DTEND;TZID=America/Chicago:20250423T110000
DTSTAMP:20260423T123509
CREATED:20250122T120659Z
LAST-MODIFIED:20250818T023351Z
UID:10025758-1745404200-1745406000@theboernelife.com
SUMMARY:Little Listeners Storytime
DESCRIPTION:Storytime with Miss Constance in the Library Youth Activities Room for children ages 2 to 5. Fun includes includes tales\, tunes\, movement\, puppetry\, and crafting.
URL:https://theboernelife.com/events/little-listeners-storytime-2/2025-04-23/
LOCATION:Patrick Heath Public Library\, 451 N. Main Street\, Boerne\, TX\, 78006\, United States
CATEGORIES:Kids and Family
ATTACH;FMTTYPE=image/png:https://theboernelife.com/wp-content/uploads/2024/02/Boerne-Library-Logo.png
END:VEVENT
BEGIN:VEVENT
DTSTART;TZID=America/Chicago:20250423T130000
DTEND;TZID=America/Chicago:20250423T140000
DTSTAMP:20260423T123509
CREATED:20240221T121952Z
LAST-MODIFIED:20241230T022511Z
UID:10013537-1745413200-1745416800@theboernelife.com
SUMMARY:Ask Alison for Tech Help
DESCRIPTION:Need help with your personal technology? Alison Topper is in the lobby each week to help! No appointments necessary!
URL:https://theboernelife.com/events/ask-alison-for-tech-help/2025-04-23/
LOCATION:Patrick Heath Public Library\, 451 N. Main Street\, Boerne\, TX\, 78006\, United States
CATEGORIES:General
ATTACH;FMTTYPE=image/jpeg:https://theboernelife.com/wp-content/uploads/2024/02/Library-Tech-Help.jpg
END:VEVENT
BEGIN:VEVENT
DTSTART;TZID=America/Chicago:20250423T170000
DTEND;TZID=America/Chicago:20250423T200000
DTSTAMP:20260423T123509
CREATED:20250208T094719Z
LAST-MODIFIED:20250208T094719Z
UID:10025925-1745427600-1745438400@theboernelife.com
SUMMARY:Live Music at Cork and Keg
DESCRIPTION:Enjoy an evening of live music at Cork and Keg every Tuesday and Wednesday from 5 pm to 8 pm at Richter Boerne. Guests can unwind with handcrafted cocktails and drink specials while listening to talented local musicians in a relaxed and inviting atmosphere. \nWhether stopping by for a midweek outing or looking for the perfect spot to enjoy live entertainment\, this recurring event offers great music\, drinks\, and company. No reservations required—just drop in and enjoy the sounds of Boerne.
URL:https://theboernelife.com/events/live-music-at-cork-and-keg/2025-04-23/
LOCATION:Cork and Keg\, 153 S Main St\, Boerne\, TX\, 78006\, United States
CATEGORIES:Music
ATTACH;FMTTYPE=image/jpeg:https://theboernelife.com/wp-content/uploads/2025/02/live-music-at-cork-and-keg.jpg
END:VEVENT
BEGIN:VEVENT
DTSTART;TZID=America/Chicago:20250423T180000
DTEND;TZID=America/Chicago:20250423T200000
DTSTAMP:20260423T123509
CREATED:20250309T125526Z
LAST-MODIFIED:20260422T034619Z
UID:10027897-1745431200-1745438400@theboernelife.com
SUMMARY:Music Bingo at Lost Oak Cellars
DESCRIPTION:Music lovers can enjoy a fun-filled evening of Singo Music Bingo at Lost Oak Cellars from 6 pm to 8 pm. Guests can listen\, sing along\, and mark off songs on their bingo cards for a chance to win great prizes. \nThis event is free to attend and participate.
URL:https://theboernelife.com/events/music-bingo-at-lost-oak-cellars/2025-04-23/
LOCATION:Lost Oak Cellars\, 111 Rosewood Ave\, Boerne\, TX\, 78006\, United States
CATEGORIES:Music
ATTACH;FMTTYPE=image/jpeg:https://theboernelife.com/wp-content/uploads/2025/03/music-bingo-at-lost-oak-cellars.jpg
END:VEVENT
BEGIN:VEVENT
DTSTART;TZID=America/Chicago:20250423T183000
DTEND;TZID=America/Chicago:20250423T203000
DTSTAMP:20260423T123509
CREATED:20240925T165042Z
LAST-MODIFIED:20250618T105925Z
UID:10029442-1745433000-1745440200@theboernelife.com
SUMMARY:Trivia Night at Sauced
DESCRIPTION:Every Wednesday\, head out to Sauced Wing Bar for trivia night with Austin! It starts at six thirty-ish. Arrive early and you can hit Happy Hour!
URL:https://theboernelife.com/events/trivia-night-at-sauced/2025-04-23/
LOCATION:Sauced Wing Bar\, 215 W Bandera Rd #101\, Boerne\, TX\, 78006\, United States
CATEGORIES:General
ATTACH;FMTTYPE=image/jpeg:https://theboernelife.com/wp-content/uploads/2024/09/Sauced-Wing-Bar-Trivia.jpg
END:VEVENT
BEGIN:VEVENT
DTSTART;TZID=America/Chicago:20250423T190000
DTEND;TZID=America/Chicago:20250423T200000
DTSTAMP:20260423T123509
CREATED:20250224T111422Z
LAST-MODIFIED:20251123T124321Z
UID:10026278-1745434800-1745438400@theboernelife.com
SUMMARY:Sound Meditation at the Library
DESCRIPTION:Experience deep relaxation and inner peace at the monthly Sound Meditation program with Steve Daniel and Susan Damon at the Patrick Heath Public Library. This unique session blends the calming sounds of didgeridoo\, Tibetan and crystal bowls\, poetry\, and sacred silence\, offering a deeply immersive meditative experience. \nHeld on the fourth Wednesday of each month at 7:00 pm in the Community Room\, this event invites participants to simply be—whether for healing\, rest\, or a visionary journey. Guests are encouraged to bring mats\, blankets\, pillows\, or anything needed for comfort while lying down or sitting. This soothing session is open to all looking for a moment of stillness and renewal.
URL:https://theboernelife.com/events/sound-meditation-at-the-library/2025-04-23/
LOCATION:Patrick Heath Public Library\, 451 N. Main Street\, Boerne\, TX\, 78006\, United States
CATEGORIES:Arts and Culture,Health and Wellness
ATTACH;FMTTYPE=image/png:https://theboernelife.com/wp-content/uploads/2025/02/Steve-and-a-Gal-Sound-Meditation.png
END:VEVENT
END:VCALENDAR