BEGIN:VCALENDAR
VERSION:2.0
PRODID:-//The Boerne Life - ECPv6.15.15//NONSGML v1.0//EN
CALSCALE:GREGORIAN
METHOD:PUBLISH
X-WR-CALNAME:The Boerne Life
X-ORIGINAL-URL:https://theboernelife.com
X-WR-CALDESC:Events for The Boerne Life
REFRESH-INTERVAL;VALUE=DURATION:PT1H
X-Robots-Tag:noindex
X-PUBLISHED-TTL:PT1H
BEGIN:VTIMEZONE
TZID:America/Chicago
BEGIN:DAYLIGHT
TZOFFSETFROM:-0600
TZOFFSETTO:-0500
TZNAME:CDT
DTSTART:20250309T080000
END:DAYLIGHT
BEGIN:STANDARD
TZOFFSETFROM:-0500
TZOFFSETTO:-0600
TZNAME:CST
DTSTART:20251102T070000
END:STANDARD
BEGIN:DAYLIGHT
TZOFFSETFROM:-0600
TZOFFSETTO:-0500
TZNAME:CDT
DTSTART:20260308T080000
END:DAYLIGHT
BEGIN:STANDARD
TZOFFSETFROM:-0500
TZOFFSETTO:-0600
TZNAME:CST
DTSTART:20261101T070000
END:STANDARD
BEGIN:DAYLIGHT
TZOFFSETFROM:-0600
TZOFFSETTO:-0500
TZNAME:CDT
DTSTART:20270314T080000
END:DAYLIGHT
BEGIN:STANDARD
TZOFFSETFROM:-0500
TZOFFSETTO:-0600
TZNAME:CST
DTSTART:20271107T070000
END:STANDARD
END:VTIMEZONE
BEGIN:VEVENT
DTSTART;TZID=America/Chicago:20260117T090000
DTEND;TZID=America/Chicago:20260117T130000
DTSTAMP:20260424T040514
CREATED:20251229T202426Z
LAST-MODIFIED:20251229T202429Z
UID:10029171-1768640400-1768654800@theboernelife.com
SUMMARY:Farmers Market at Herff Farm
DESCRIPTION:Herff Farm presents an ideal getaway event in the Texas Hill Country for your Saturdays! Situated merely a mile from Historic Downtown Boerne and a 45-minute drive from downtown San Antonio\, the Farmers Market at Herff Farm offers an outdoor market experience on a picturesque historic German farmstead. Visitors have the opportunity to purchase goods directly from local farmers\, ranchers\, and artisans. \nDiscover the farm’s enclosed gardens\, a meadow dedicated to pollinators\, various trails\, and the historic limestone Herff House\, all set in the scenic landscape of the Texas Hill Country. There are yard games for kids too\, and often a story time too!
URL:https://theboernelife.com/events/farmers-market-3/
LOCATION:Herff Farm\, 33 Herff Rd\, Boerne\, TX\, 78006\, United States
CATEGORIES:General,Kids and Family
ATTACH;FMTTYPE=image/jpeg:https://theboernelife.com/wp-content/uploads/2024/02/Farmers-Market.jpg
END:VEVENT
END:VCALENDAR