BEGIN:VCALENDAR
VERSION:2.0
PRODID:-//The Boerne Life - ECPv6.15.15//NONSGML v1.0//EN
CALSCALE:GREGORIAN
METHOD:PUBLISH
X-WR-CALNAME:The Boerne Life
X-ORIGINAL-URL:https://theboernelife.com
X-WR-CALDESC:Events for The Boerne Life
REFRESH-INTERVAL;VALUE=DURATION:PT1H
X-Robots-Tag:noindex
X-PUBLISHED-TTL:PT1H
BEGIN:VTIMEZONE
TZID:America/Chicago
BEGIN:DAYLIGHT
TZOFFSETFROM:-0600
TZOFFSETTO:-0500
TZNAME:CDT
DTSTART:20250309T080000
END:DAYLIGHT
BEGIN:STANDARD
TZOFFSETFROM:-0500
TZOFFSETTO:-0600
TZNAME:CST
DTSTART:20251102T070000
END:STANDARD
BEGIN:DAYLIGHT
TZOFFSETFROM:-0600
TZOFFSETTO:-0500
TZNAME:CDT
DTSTART:20260308T080000
END:DAYLIGHT
BEGIN:STANDARD
TZOFFSETFROM:-0500
TZOFFSETTO:-0600
TZNAME:CST
DTSTART:20261101T070000
END:STANDARD
BEGIN:DAYLIGHT
TZOFFSETFROM:-0600
TZOFFSETTO:-0500
TZNAME:CDT
DTSTART:20270314T080000
END:DAYLIGHT
BEGIN:STANDARD
TZOFFSETFROM:-0500
TZOFFSETTO:-0600
TZNAME:CST
DTSTART:20271107T070000
END:STANDARD
END:VTIMEZONE
BEGIN:VEVENT
DTSTART;TZID=America/Chicago:20260305T100000
DTEND;TZID=America/Chicago:20260305T103000
DTSTAMP:20260424T104814
CREATED:20260118T205222Z
LAST-MODIFIED:20260307T220721Z
UID:10034512-1772704800-1772706600@theboernelife.com
SUMMARY:Bubbletime Bookworms
DESCRIPTION:A storytime for babies 0-2 years old that features stories\, songs\, movement\, bubbles\, and stay-and-play time! No registration required.
URL:https://theboernelife.com/events/bubbletime-bookworms-2/2026-03-05/
LOCATION:Patrick Heath Public Library\, 451 N. Main Street\, Boerne\, TX\, 78006\, United States
CATEGORIES:Kids and Family
ATTACH;FMTTYPE=image/png:https://theboernelife.com/wp-content/uploads/2025/09/Bubbletime-Bookworms_DVbt.png
END:VEVENT
BEGIN:VEVENT
DTSTART;TZID=America/Chicago:20260305T140000
DTEND;TZID=America/Chicago:20260305T170000
DTSTAMP:20260424T104814
CREATED:20250922T073306Z
LAST-MODIFIED:20251229T121611Z
UID:10033316-1772719200-1772730000@theboernelife.com
SUMMARY:The Wittliff Book+ Club at Patrick Heath Public Library
DESCRIPTION:Lifelong learners and literary enthusiasts are invited to the next gathering of the Wittliff Book+ Club on Thursday\, October 2 at 2:00 pm at the Patrick Heath Public Library\, located at 451 N Main Street\, Boerne\, TX. \nThis month’s featured book is I Know About a Thousand Things: The Writings of Ann Alejandro of Uvalde\, Texas\, edited by Naomi Shihab Nye and Marion Winik. Known for her heartfelt and humorous letters\, Ann Alejandro captured the spirit of life in the rural Southwest with vivid storytelling\, keen observation\, and deep affection for the natural world. Though she never sought publication\, her friends compiled this curated collection to honor her extraordinary voice. \nThe event includes two segments: a presentation of archival material related to the book from the Wittliff Collections at Texas State University\, followed by an open group discussion. \nThe Wittliff Book+ Club is a collaboration between the Patrick Heath Public Library and Life Long Learning in San Marcos\, Texas. \nTo participate\, please RSVP to Sarah Habeeb at shabeeb@boernelibrary.org or call 830-249-3053.
URL:https://theboernelife.com/events/the-wittliff-book-club-at-patrick-heath-public-library/2026-03-05/
LOCATION:Patrick Heath Public Library\, 451 N. Main Street\, Boerne\, TX\, 78006\, United States
CATEGORIES:Arts and Culture
ATTACH;FMTTYPE=image/jpeg:https://theboernelife.com/wp-content/uploads/2025/09/the-wittliff-book-club-at-patrick-heath-public-library.jpg
END:VEVENT
BEGIN:VEVENT
DTSTART;TZID=America/Chicago:20260305T150000
DTEND;TZID=America/Chicago:20260305T160000
DTSTAMP:20260424T104814
CREATED:20240321T111822Z
LAST-MODIFIED:20251229T121634Z
UID:10013130-1772722800-1772726400@theboernelife.com
SUMMARY:Tech Help in the Lobby
DESCRIPTION:Have a tech question you can’t find the answer to? Visit the Tech Help table in the library and get free assistance. Walk-ins only. No appointments.
URL:https://theboernelife.com/events/tech-help-in-the-lobby/2026-03-05/
LOCATION:Patrick Heath Public Library\, 451 N. Main Street\, Boerne\, TX\, 78006\, United States
CATEGORIES:General
ATTACH;FMTTYPE=image/jpeg:https://theboernelife.com/wp-content/uploads/2024/02/Library-Tech-Help.jpg
END:VEVENT
BEGIN:VEVENT
DTSTART;TZID=America/Chicago:20260305T160000
DTEND;TZID=America/Chicago:20260305T180000
DTSTAMP:20260424T104814
CREATED:20260219T023210Z
LAST-MODIFIED:20260219T023210Z
UID:10034903-1772726400-1772733600@theboernelife.com
SUMMARY:Spring Mixer at Kendall County Sheriff Department Training Room
DESCRIPTION:An afternoon of connection and community impact will take place at the Spring Mixer hosted by Christian Journey Courses in partnership with the Kendall County Sheriffs Department. The event is scheduled for March 5\, 2026\, from 4 pm to 6 pm at the Kendall County Sheriff Department Training Room\, located at 6 Staudt St.\, Boerne. \nGuests will enjoy libations and light fare while learning more about how Christian Journey Courses is making a difference by changing lives and strengthening the local community. The gathering offers an opportunity to connect with others\, hear about ongoing initiatives\, and engage in meaningful conversation in a welcoming setting. \nAttendees are encouraged to bring a business card to participate in a drawing during the event. For additional information\, contact Christian Journey Courses or the Kendall County Sheriffs Department directly.
URL:https://theboernelife.com/events/spring-mixer-at-kendall-county-sheriff-department-training-room/
LOCATION:Kendall County Sheriff’s Office\, 6 Staudt St.\, Boerne\, TX\, 78006\, United States
CATEGORIES:General
ATTACH;FMTTYPE=image/jpeg:https://theboernelife.com/wp-content/uploads/2026/02/spring-mixer-at-kendall-county-sheriff-department-training-room.jpg
END:VEVENT
BEGIN:VEVENT
DTSTART;TZID=America/Chicago:20260305T170000
DTEND;TZID=America/Chicago:20260305T210000
DTSTAMP:20260424T104814
CREATED:20260209T051805Z
LAST-MODIFIED:20260209T051805Z
UID:10034819-1772730000-1772744400@theboernelife.com
SUMMARY:Thursday Night D&D One-Shot at Heroes Hideout Boerne
DESCRIPTION:A rotating Dungeons & Dragons one-shot adventure takes place every Thursday evening at Heroes Hideout Boerne\, offering a welcoming experience for both brand-new and seasoned players. Each session features a self-contained adventure that changes weekly\, making it easy to jump in without a long-term commitment while still enjoying a full tabletop roleplaying experience. \nThe Thursday Night D&D One-Shot runs for approximately four hours and begins at 5:00 pm. Seats are $10 per person and space is limited\, so advance registration is recommended. Games are held at Heroes Hideout Boerne\, located at 1026 N. Main Street\, Boerne\, Texas 78006. Players can reserve a spot and find additional details by visiting https://calendly.com/boernehideout/thursday-night-d-d-one-shot?month=2026-02.
URL:https://theboernelife.com/events/thursday-night-dd-one-shot-at-heroes-hideout-boerne/2026-03-05/
LOCATION:Heroes Hideout Boerne\, 1026 N Main St\, Boerne\, TX\, 78006\, United States
CATEGORIES:General
ATTACH;FMTTYPE=image/jpeg:https://theboernelife.com/wp-content/uploads/2026/02/thursday-night-d-d-one-shot-at-heroes-hideout-boerne.jpg
END:VEVENT
BEGIN:VEVENT
DTSTART;TZID=America/Chicago:20260305T180000
DTEND;TZID=America/Chicago:20260305T203000
DTSTAMP:20260424T104814
CREATED:20250207T163728Z
LAST-MODIFIED:20260130T223719Z
UID:10025899-1772733600-1772742600@theboernelife.com
SUMMARY:Bunco for Babies Benefitting Boerne Young Lives
DESCRIPTION:Enjoy a fun-filled girls’ night out at Bunco for Babies on Thursday\, March 5th\, from 6 pm to 8:30 pm at the Bevy. No experience is needed—just come ready for a night of rolling dice\, laughter\, and great company. \nThe event supports Boerne YoungLives\, helping send teen moms to camp. Guests will enjoy great food and a lively atmosphere\, all for a great cause. \nTickets can be purchased online or at the door. Gather your friends and come roll for a cause!
URL:https://theboernelife.com/events/bunco-for-babies-benefitting-boerne-young-lives/
LOCATION:The Bevy Hotel Boerne\, 101 Herff Rd\, Boerne\, TX\, 78006\, United States
CATEGORIES:Women
ATTACH;FMTTYPE=image/jpeg:https://theboernelife.com/wp-content/uploads/2025/02/620492465_18552922291052174_7237186690455073219_n.jpg
END:VEVENT
BEGIN:VEVENT
DTSTART;TZID=America/Chicago:20260305T180000
DTEND;TZID=America/Chicago:20260305T210000
DTSTAMP:20260424T104814
CREATED:20251012T134736Z
LAST-MODIFIED:20260115T125305Z
UID:10034253-1772733600-1772744400@theboernelife.com
SUMMARY:Live Music at Valeria
DESCRIPTION:Live music by Jorge Polomo every Thursday\, Friday and Saturday evening from 6 pm to 9 pm.
URL:https://theboernelife.com/events/live-music-at-valeria-restaurant-3/2026-03-05/
LOCATION:Valeria Restaurant\, 109 Waterview Pkwy\, Ste 105\, Boerne\, TX\, 78006\, United States
CATEGORIES:Music
ATTACH;FMTTYPE=image/jpeg:https://theboernelife.com/wp-content/uploads/2025/09/IMG_0024.jpeg
END:VEVENT
BEGIN:VEVENT
DTSTART;TZID=America/Chicago:20260305T183000
DTEND;TZID=America/Chicago:20260305T203000
DTSTAMP:20260424T104814
CREATED:20260108T004854Z
LAST-MODIFIED:20260201T183832Z
UID:10034732-1772735400-1772742600@theboernelife.com
SUMMARY:SINGO at Pure Country
DESCRIPTION:Head over to Pure Country each Thursday night at 6:30 for SINGO. Bring your friends and win a gift card!
URL:https://theboernelife.com/events/singo-at-pure-country-2-2/2026-03-05/
LOCATION:Pure Country BBQ & Grill\, 1481 S Main St\, Boerne\, TX\, 78006\, United States
CATEGORIES:Music
ATTACH;FMTTYPE=image/jpeg:https://theboernelife.com/wp-content/uploads/2024/07/Singo-Pure-Country.jpg
END:VEVENT
BEGIN:VEVENT
DTSTART;TZID=America/Chicago:20260305T190000
DTEND;TZID=America/Chicago:20260305T223000
DTSTAMP:20260424T104815
CREATED:20260223T010846Z
LAST-MODIFIED:20260223T010846Z
UID:10034934-1772737200-1772749800@theboernelife.com
SUMMARY:Weekly Switcholio at Tusculum Brewing Company
DESCRIPTION:Competitive cornhole takes over Tusculum Brewing Company each Thursday during the Weekly Switcholio tournament series at 108 Newton Alley\, Boerne\, TX 78006-2475. Players can warm up during open boards beginning at 6 pm\, with check-in at 6:30 pm and Round Robin Switch play starting promptly at 7 pm on select dates throughout the season. \nThe tournament features four games of round robin play followed by a switch double elimination bracket\, guaranteeing a total of six games. Teams are formed through a 50/50 pairing format\, matching a random top-half player with a random bottom-half player. If there is an odd number of participants\, a ghost player will be manually placed. An airmail competition takes place between round robin and bracket play for added excitement. \nThe entry fee is $15\, with 70 percent payout awarded to the top three finishers. Tournament times vary throughout the year: February 12 through March 5 runs from 7 pm to 10:30 pm; March 12 through October 29 runs from 6 pm to 9:30 pm; and November 5 through December 17 returns to 7 pm to 10:30 pm. For updated event information\, visit Boerne Ambush on Facebook or go to BoerneAmbush.com.
URL:https://theboernelife.com/events/weekly-switcholio-at-tusculum-brewing-company/2026-03-05/
LOCATION:Tusculum Brewing Company\, 236 S Main Street\, Boerne\, TX\, 78006\, United States
CATEGORIES:General
ATTACH;FMTTYPE=image/jpeg:https://theboernelife.com/wp-content/uploads/2026/02/weekly-switcholio-at-tusculum-brewing-company.jpg
END:VEVENT
BEGIN:VEVENT
DTSTART;TZID=America/Chicago:20260305T210000
DTEND;TZID=America/Chicago:20260305T233000
DTSTAMP:20260424T104815
CREATED:20251020T195305Z
LAST-MODIFIED:20260308T090032Z
UID:10036441-1772744400-1772753400@theboernelife.com
SUMMARY:Thursday Night Karaoke at Salvador Dobbs
DESCRIPTION:Ready to sing like no one’s watching? Then head out to Salvador Dobbs on Thursday Nights for some Karaoke. It’s a wild time that lasts all the way until midnight. Come pick your favorite songs!
URL:https://theboernelife.com/events/thursday-night-karaoke-at-salvador-dobbs/2026-03-05/
LOCATION:Salvador Dobbs\, 512 River Rd\, Boerne\, TX\, 78006\, United States
CATEGORIES:Music
ATTACH;FMTTYPE=image/jpeg:https://theboernelife.com/wp-content/uploads/2024/10/Salvador-Dobbs-Night.jpg
END:VEVENT
END:VCALENDAR