BEGIN:VCALENDAR
VERSION:2.0
PRODID:-//The Boerne Life - ECPv6.15.15//NONSGML v1.0//EN
CALSCALE:GREGORIAN
METHOD:PUBLISH
X-ORIGINAL-URL:https://theboernelife.com
X-WR-CALDESC:Events for The Boerne Life
REFRESH-INTERVAL;VALUE=DURATION:PT1H
X-Robots-Tag:noindex
X-PUBLISHED-TTL:PT1H
BEGIN:VTIMEZONE
TZID:America/Chicago
BEGIN:DAYLIGHT
TZOFFSETFROM:-0600
TZOFFSETTO:-0500
TZNAME:CDT
DTSTART:20250309T080000
END:DAYLIGHT
BEGIN:STANDARD
TZOFFSETFROM:-0500
TZOFFSETTO:-0600
TZNAME:CST
DTSTART:20251102T070000
END:STANDARD
BEGIN:DAYLIGHT
TZOFFSETFROM:-0600
TZOFFSETTO:-0500
TZNAME:CDT
DTSTART:20260308T080000
END:DAYLIGHT
BEGIN:STANDARD
TZOFFSETFROM:-0500
TZOFFSETTO:-0600
TZNAME:CST
DTSTART:20261101T070000
END:STANDARD
BEGIN:DAYLIGHT
TZOFFSETFROM:-0600
TZOFFSETTO:-0500
TZNAME:CDT
DTSTART:20270314T080000
END:DAYLIGHT
BEGIN:STANDARD
TZOFFSETFROM:-0500
TZOFFSETTO:-0600
TZNAME:CST
DTSTART:20271107T070000
END:STANDARD
END:VTIMEZONE
BEGIN:VEVENT
DTSTART;TZID=America/Chicago:20260307T090000
DTEND;TZID=America/Chicago:20260307T110000
DTSTAMP:20260423T040932
CREATED:20260302T224506Z
LAST-MODIFIED:20260302T224506Z
UID:10035046-1772874000-1772881200@theboernelife.com
SUMMARY:Group Fitness Room Grand Opening at Fair Oaks Ranch Golf & Country Club
DESCRIPTION:Fair Oaks Ranch Golf & Country Club is opening a brand-new Group Exercise Studio\, and the community is invited to get a first look. \nThe Grand Opening Party takes place March 7 from 9–11 am\, with light bites\, giveaways\, guided tours\, and a chance for non-members to step inside and experience a piece of country club life. \nThe new space features small group training\, complimentary classes\, a Pilates Reformer studio\, youth fitness programs\, Technogym equipment\, sauna access\, and more. \nThis is your chance to get a sneak peek at a piece of the country club life! \nLocation: 7900 Fair Oaks Parkway\, Fair Oaks Ranch\nContact: 210-582-6700 \nClick here to learn more about the country club
URL:https://theboernelife.com/events/group-fitness-room-grand-opening-at-fair-oaks-ranch-golf-country-club/
LOCATION:Fair Oaks Ranch Golf and Country Club\, 7900 Fair Oaks Pkwy\, Boerne\, TX\, 78015\, United States
CATEGORIES:Health and Wellness
ATTACH;FMTTYPE=image/png:https://theboernelife.com/wp-content/uploads/2026/03/image-16.png
END:VEVENT
BEGIN:VEVENT
DTSTART;TZID=America/Chicago:20260307T090000
DTEND;TZID=America/Chicago:20260307T113000
DTSTAMP:20260423T040932
CREATED:20260307T105328Z
LAST-MODIFIED:20260307T105348Z
UID:10035864-1772874000-1772883000@theboernelife.com
SUMMARY:Honey Creek Guided Walk at Guadalupe River State Park
DESCRIPTION:Visitors can explore one of Texas’ most pristine waterways during the Honey Creek Guided Walk\, held every Saturday through October 31\, 2026\, from 8:30 am to 11 am at Guadalupe River State Park\, 3350 Park Road 31\, Spring Branch\, TX 78070. Sponsored by the Friends of Guadalupe River State Park and Honey Creek State Natural Area\, the program features certified guides who lead participants on an interpretive walk through the area’s unique natural landscape. \nThe guided hike covers approximately two miles and is considered moderately difficult. Much of the trail is flat\, though it includes some rocky terrain\, slopes\, and two short but steep hills. The walk typically lasts about two and a half hours\, with frequent stops to discuss local flora\, fauna\, geology\, and the cultural history of the region. \nThe program is recommended for ages 7 and older. Dogs are not permitted\, except for service animals. Participants will meet outside the Rust House within Guadalupe River State Park and are encouraged to wear sturdy footwear and bring water and sun protection. \nRegistration is required and may be completed at https://fs18.formsite.com/TPWD/tntfhrb0ko/index. If ADA assistance is needed\, requests should be submitted at least two weeks in advance by emailing accessibility@tpwd.texas.gov. Park programs may be subject to change or cancellation due to inclement weather.
URL:https://theboernelife.com/events/honey-creek-guided-walk-at-guadalupe-river-state-park/2026-03-07/
LOCATION:Guadalupe River State Park\, 3350 Park Road 31\, Spring Branch\, Texas\, 78070
CATEGORIES:Kids and Family,Outdoors
ATTACH;FMTTYPE=image/jpeg:https://theboernelife.com/wp-content/uploads/2026/03/spring-break-honey-creek-guided-walk-at-guadalupe-river-state-park.jpg
END:VEVENT
BEGIN:VEVENT
DTSTART;TZID=America/Chicago:20260307T090000
DTEND;TZID=America/Chicago:20260307T120000
DTSTAMP:20260423T040932
CREATED:20260305T133415Z
LAST-MODIFIED:20260305T133416Z
UID:10028505-1772874000-1772884800@theboernelife.com
SUMMARY:Home Depot Kids Workshop
DESCRIPTION:Join Home Depot for free kids workshops the first Saturday of every month at 9am – 12pm. Kids will be give the materials and instruction to build various items such as toy trucks\, butterfly houses\, planters\, and more. They’ll receive Home Depot aprons and tools. It’s fun for everyone! \nLearn about this month’s project here.
URL:https://theboernelife.com/events/home-depot-kids-workshop-2/
LOCATION:Home Depot\, 633 W Bandera Rd\, Boerne\, TX\, 78006\, United States
CATEGORIES:Kids and Family
ATTACH;FMTTYPE=image/png:https://theboernelife.com/wp-content/uploads/2024/02/boerne-home-depot-kids-workshop.png
END:VEVENT
BEGIN:VEVENT
DTSTART;TZID=America/Chicago:20260307T100000
DTEND;TZID=America/Chicago:20260307T110000
DTSTAMP:20260423T040932
CREATED:20251030T003118Z
LAST-MODIFIED:20260303T121033Z
UID:10033828-1772877600-1772881200@theboernelife.com
SUMMARY:HCCFIT Saturday Sweat Sesh at Free Roam
DESCRIPTION:Hyrox style event with hangout after at Free Roam Brewery. Sweat\, meet some friends\, and enjoy a post-workout cheers.
URL:https://theboernelife.com/events/hccfit-hyrox-2-2/2026-03-07/
LOCATION:Free Roam Brewing Company\, 325 S Main Street\, Boerne\, TX\, 78006\, United States
CATEGORIES:Outdoors
ATTACH;FMTTYPE=image/png:https://theboernelife.com/wp-content/uploads/2025/10/TBL-FB-Tall-Image-2026-03-03T060939.253.png
ORGANIZER;CN="hill country crossfit":MAILTO:riverag3444@gmail.com
END:VEVENT
BEGIN:VEVENT
DTSTART;TZID=America/Chicago:20260307T100000
DTEND;TZID=America/Chicago:20260307T110000
DTSTAMP:20260423T040932
CREATED:20260223T015611Z
LAST-MODIFIED:20260223T015611Z
UID:10034980-1772877600-1772881200@theboernelife.com
SUMMARY:Toddler Sensory Art: Animals in Art Series at Gina Marie’s Art Studio
DESCRIPTION:Young artists can explore the animal kingdom through hands-on creativity during the Toddler Sensory Art: Animals in Art Series at Gina Marie’s Art Studio\, located at 525 N. School St.\, Boerne\, TX 78006. Designed for children ages 2 to 7\, this engaging spring series combines age-appropriate learning with imaginative art experiences in a small-group setting. \nEach class begins with a short introduction or themed story\, followed by an animal-inspired art project\, sensory play stations\, and a few sweet treats to complete the experience. Sessions are offered in two time slots at 10 am and 12 pm\, with a maximum of eight children per class. Caregivers are required to stay and participate alongside their child. \nEach date in the series highlights a different animal theme\, including Bugs on February 27\, Dogs on March 7\, Cows on April 17\, and Chickens on May 1. Families may register for individual classes or purchase a flexible four-class bundle at a discounted rate. Admission is $28 per session. For registration details and availability\, contact Gina Marie’s Art Studio directly.
URL:https://theboernelife.com/events/toddler-sensory-art-animals-in-art-series-at-gina-maries-art-studio/2026-03-07/1/
LOCATION:Gina Marie’s Art Studio\, 525 N School St\, Boerne\, TX\, 78006\, United States
CATEGORIES:Kids and Family
ATTACH;FMTTYPE=image/jpeg:https://theboernelife.com/wp-content/uploads/2026/02/toddler-sensory-art-animals-in-art-series-at-gina-maries-art-studio.jpg
END:VEVENT
BEGIN:VEVENT
DTSTART;TZID=America/Chicago:20260307T100000
DTEND;TZID=America/Chicago:20260307T160000
DTSTAMP:20260423T040932
CREATED:20260113T062413Z
LAST-MODIFIED:20260302T122412Z
UID:10034190-1772877600-1772899200@theboernelife.com
SUMMARY:Power of the Past 40th Anniversary Show at The AgriCultural Museum & Arts Center
DESCRIPTION:The Power of the Past 40th Anniversary Show celebrates decades of history\, machinery\, and music at The AgriCultural Museum & Arts Center in Boerne. This long-running event brings together classic cars and trucks\, antique tractors\, historic engines\, and other vintage equipment\, offering a full day of exhibits that highlight craftsmanship and innovation from earlier eras. \nLive music will be featured throughout the day with a performance by The Flashbacks of Kerrville\, a band known for classic dance rock spanning the 1950s through the 1990s. Their set adds a lively soundtrack to the event as guests explore the grounds and displays. \nThe show takes place on Saturday\, March 7\, 2026\, from 10 am to 4 pm at 102 City Park Road\, Boerne\, TX. Classic autos that are 40 years and older are eligible for registration\, and vendor participation is still being accepted. Additional details\, including registration and vendor information\, are available at https://theagricultural.org/power-of-the-past/.
URL:https://theboernelife.com/events/power-of-the-past-40th-anniversary-show-at-the-agricultural-museum-arts-center/
LOCATION:The AgriCultural Museum & Arts Center\, 102 City Park Rd.\, Boerne\, TX\, 78006\, United States
CATEGORIES:Kids and Family,Music
ATTACH;FMTTYPE=image/jpeg:https://theboernelife.com/wp-content/uploads/2026/01/power-of-the-past-40th-anniversary-sahow-at-the-agricultural-museum-and-arts-center.jpg
END:VEVENT
BEGIN:VEVENT
DTSTART;TZID=America/Chicago:20260307T120000
DTEND;TZID=America/Chicago:20260307T130000
DTSTAMP:20260423T040932
CREATED:20260223T015611Z
LAST-MODIFIED:20260223T015611Z
UID:10034981-1772884800-1772888400@theboernelife.com
SUMMARY:Toddler Sensory Art: Animals in Art Series at Gina Marie’s Art Studio
DESCRIPTION:Young artists can explore the animal kingdom through hands-on creativity during the Toddler Sensory Art: Animals in Art Series at Gina Marie’s Art Studio\, located at 525 N. School St.\, Boerne\, TX 78006. Designed for children ages 2 to 7\, this engaging spring series combines age-appropriate learning with imaginative art experiences in a small-group setting. \nEach class begins with a short introduction or themed story\, followed by an animal-inspired art project\, sensory play stations\, and a few sweet treats to complete the experience. Sessions are offered in two time slots at 10 am and 12 pm\, with a maximum of eight children per class. Caregivers are required to stay and participate alongside their child. \nEach date in the series highlights a different animal theme\, including Bugs on February 27\, Dogs on March 7\, Cows on April 17\, and Chickens on May 1. Families may register for individual classes or purchase a flexible four-class bundle at a discounted rate. Admission is $28 per session. For registration details and availability\, contact Gina Marie’s Art Studio directly.
URL:https://theboernelife.com/events/toddler-sensory-art-animals-in-art-series-at-gina-maries-art-studio/2026-03-07/2/
LOCATION:Gina Marie’s Art Studio\, 525 N School St\, Boerne\, TX\, 78006\, United States
CATEGORIES:Kids and Family
ATTACH;FMTTYPE=image/jpeg:https://theboernelife.com/wp-content/uploads/2026/02/toddler-sensory-art-animals-in-art-series-at-gina-maries-art-studio.jpg
END:VEVENT
BEGIN:VEVENT
DTSTART;TZID=America/Chicago:20260307T130000
DTEND;TZID=America/Chicago:20260307T143000
DTSTAMP:20260423T040932
CREATED:20260305T003933Z
LAST-MODIFIED:20260305T004438Z
UID:10035177-1772888400-1772893800@theboernelife.com
SUMMARY:Intro to Gundam at The Model Box
DESCRIPTION:There are 16 spots available for this event. There are entry-level Gundam kits and a set of clippers for discount price of $20. This will allow young kids that just want to get into the hobby the perfect opportunity to try it out. \nGundam is a great transition into modeling from something like Legos. Rylan\, their in-house expert\, will start off by sharing with everybody the history of Gundam and what all the different grades are and what that means in the way of complexity and time to assemble. Ideal ages 6-12 for this one! \nThen we’re they’ll start with the simplest version to get everyone going. Reserve your spot by calling (830) 331-9144!
URL:https://theboernelife.com/events/intro-to-gundam-at-the-model-box/
LOCATION:The Model Box\, 1022 N. Main St.\, Boerne\, TX\, 78006\, United States
CATEGORIES:Gaming
ATTACH;FMTTYPE=image/jpeg:https://theboernelife.com/wp-content/uploads/2026/03/642366389_122282933276189020_5995028564117111514_n.jpg
END:VEVENT
BEGIN:VEVENT
DTSTART;TZID=America/Chicago:20260307T140000
DTEND;TZID=America/Chicago:20260307T170000
DTSTAMP:20260423T040932
CREATED:20260223T020332Z
LAST-MODIFIED:20260223T020503Z
UID:10034986-1772892000-1772902800@theboernelife.com
SUMMARY:Chili Cook-Off at Waring Hall
DESCRIPTION:Home cooks and chili enthusiasts will gather for a flavorful afternoon at the Chili Cook-Off on March 7\, 2026\, with turn-in scheduled for 2 pm at Waring Hall\, #11 Waring Road\, Waring\, TX 78074. The event supports the Waring Volunteer Fire Department\, with proceeds helping fund training and essential supplies. \nParticipants can enter their best recipe for a $25 entry fee\, while attendees can enjoy prize drawings and a 50/50 drawing as part of the festivities. The cook-off is organized by the Friends of Waring VFD\, a self-sponsored group dedicated to supporting the department\, and donations are welcomed during the event. \nFor more information about entering or attending\, contact Sam L’Huillier at 906-250-3183 or Dinah Johnson at 210-454-7212.
URL:https://theboernelife.com/events/chili-cook-off-at-waring-hall/
LOCATION:Waring Hall\, 11 Waring Road\, Waring\, TX\, 78074\, United States
CATEGORIES:Food and Drink,Fundraiser
ATTACH;FMTTYPE=image/jpeg:https://theboernelife.com/wp-content/uploads/2026/02/chili-cook-off-at-waring-hall.jpg
END:VEVENT
BEGIN:VEVENT
DTSTART;TZID=America/Chicago:20260307T143000
DTEND;TZID=America/Chicago:20260307T173000
DTSTAMP:20260423T040932
CREATED:20260226T003739Z
LAST-MODIFIED:20260226T003739Z
UID:10035029-1772893800-1772904600@theboernelife.com
SUMMARY:Phillip Chancellor Live at Boerne Community Theatre
DESCRIPTION:An evening of wonder and mind-bending entertainment arrives at Boerne Community Theatre with Phillip Chancellor’s newest show\, presented for three performances only on March 6 and 7. Audiences can experience the show on Friday\, March 6 at 8 pm\, and Saturday\, March 7 at 2:30 pm and 8 pm. \nKnown for captivating performances that leave audiences amazed\, Phillip Chancellor brings a fresh production designed to surprise and entertain. With limited performances scheduled\, theatergoers are encouraged to secure seats early. \nReservations are available at boernetheatre.org or by calling the box office at 830.249.9166. Boerne Community Theatre is located in Boerne\, TX.
URL:https://theboernelife.com/events/phillip-chancellor-live-at-boerne-community-theatre/2026-03-07/1/
LOCATION:Boerne Community Theatre\, 907 E. Blanco Rd.\, Boerne\, TX\, 78006\, United States
CATEGORIES:Arts and Culture
ATTACH;FMTTYPE=image/jpeg:https://theboernelife.com/wp-content/uploads/2026/02/phillip-chancellor-live-at-boerne-community-theatre.jpg
END:VEVENT
BEGIN:VEVENT
DTSTART;TZID=America/Chicago:20260307T170000
DTEND;TZID=America/Chicago:20260307T210000
DTSTAMP:20260423T040932
CREATED:20251003T000336Z
LAST-MODIFIED:20251003T000336Z
UID:10032604-1772902800-1772917200@theboernelife.com
SUMMARY:First Saturdays on Main in Downtown Boerne
DESCRIPTION:Downtown Boerne transforms into a lively hub of activity on the first Saturday of every month during First Saturdays on Main. From 5:00 pm to 9:00 pm\, locals and visitors alike are invited to stroll along Main Street and enjoy extended boutique hours\, exclusive offers\, live music\, and a welcoming atmosphere filled with food\, drinks\, and community spirit. \nShops and local businesses at and around 248 N Main Street (Chateau) stay open late\, offering special deals and showcasing seasonal favorites. Live performances add to the vibrant ambiance\, making it the perfect evening to shop\, dine\, and connect with friends and neighbors. \nWhether you’re there for the music\, the retail therapy\, or the opportunity to celebrate small-town charm\, First Saturdays on Main is a monthly tradition worth marking on your calendar. Admission is free\, and all are welcome.
URL:https://theboernelife.com/events/first-saturdays-on-main-in-downtown-boerne/2026-03-07/
LOCATION:248 N Main St Chateau\, 248 N Main St\, Boerne\, TX\, 78006\, United States
CATEGORIES:Shopping
ATTACH;FMTTYPE=image/jpeg:https://theboernelife.com/wp-content/uploads/2025/10/first-saturdays-on-main-in-downtown-boerne.jpg
END:VEVENT
BEGIN:VEVENT
DTSTART;TZID=America/Chicago:20260307T180000
DTEND;TZID=America/Chicago:20260307T210000
DTSTAMP:20260423T040932
CREATED:20251012T134736Z
LAST-MODIFIED:20260115T125305Z
UID:10034255-1772906400-1772917200@theboernelife.com
SUMMARY:Live Music at Valeria
DESCRIPTION:Live music by Jorge Polomo every Thursday\, Friday and Saturday evening from 6 pm to 9 pm.
URL:https://theboernelife.com/events/live-music-at-valeria-restaurant-3/2026-03-07/
LOCATION:Valeria Restaurant\, 109 Waterview Pkwy\, Ste 105\, Boerne\, TX\, 78006\, United States
CATEGORIES:Music
ATTACH;FMTTYPE=image/jpeg:https://theboernelife.com/wp-content/uploads/2025/09/IMG_0024.jpeg
END:VEVENT
BEGIN:VEVENT
DTSTART;TZID=America/Chicago:20260307T180000
DTEND;TZID=America/Chicago:20260307T210000
DTSTAMP:20260423T040932
CREATED:20260305T044026Z
LAST-MODIFIED:20260305T044026Z
UID:10035180-1772906400-1772917200@theboernelife.com
SUMMARY:Mario Moreno Live at Pinchy’s Lobster & Raw Bar
DESCRIPTION:Texas Country music takes the stage at Pinchy’s Lobster & Raw Bar as recording artist Mario Moreno performs a live acoustic set on March 7\, 2026\, from 6 pm to 9 pm in Boerne\, TX. Known for his Texas Country sound and engaging performances\, Moreno brings an evening of live music to the restaurant’s lively atmosphere. \nGuests can enjoy the show while dining on seafood favorites and sipping drinks in a relaxed setting. The night pairs country music with good food\, friendly service\, and a chance to hit the dance floor while enjoying live entertainment. For additional details about seating and availability\, contact Pinchy’s Lobster & Raw Bar directly.
URL:https://theboernelife.com/events/mario-moreno-live-at-pinchys-lobster-raw-bar/
LOCATION:Pinchy’s Lobster & Raw Bar\, 250 River Rd\, Boerne\, TX\, 78006\, United States
CATEGORIES:Music
ATTACH;FMTTYPE=image/jpeg:https://theboernelife.com/wp-content/uploads/2026/03/mario-moreno-live-at-pinchys-lobster-and-raw-bar.jpg
END:VEVENT
BEGIN:VEVENT
DTSTART;TZID=America/Chicago:20260307T180000
DTEND;TZID=America/Chicago:20260307T210000
DTSTAMP:20260423T040932
CREATED:20260305T050540Z
LAST-MODIFIED:20260305T050540Z
UID:10035190-1772906400-1772917200@theboernelife.com
SUMMARY:Hunter Billingsley Live at Free Roam Brewing Company
DESCRIPTION:An evening of live music takes the stage at Free Roam Brewing Company as Hunter Billingsley performs on March 7\, 2026\, beginning at 6 pm in Boerne\, TX. The performance adds to the brewery’s lively weekend atmosphere\, pairing local music with craft beer and a welcoming Hill Country setting. \nGuests can enjoy the show alongside rotating food trucks and a full lineup of weekly happenings\, including trivia night\, wine specials\, and a dog adoption event scheduled for Sunday. For more information about the event and the brewery’s schedule\, contact Free Roam Brewing Company directly.
URL:https://theboernelife.com/events/hunter-billingsley-live-at-free-roam-brewing-company/
LOCATION:Free Roam Brewing Company\, 325 S Main Street\, Boerne\, TX\, 78006\, United States
CATEGORIES:Music
ATTACH;FMTTYPE=image/jpeg:https://theboernelife.com/wp-content/uploads/2026/03/hunter-billingsley-live-at-free-roam-brewing-company.jpg
END:VEVENT
BEGIN:VEVENT
DTSTART;TZID=America/Chicago:20260307T190000
DTEND;TZID=America/Chicago:20260307T220000
DTSTAMP:20260423T040932
CREATED:20260305T043804Z
LAST-MODIFIED:20260305T043804Z
UID:10035179-1772910000-1772920800@theboernelife.com
SUMMARY:Dark Side Afterdark Presents Vic Vaga “That Rod Guy” at Darkside Brick Oven Pizza Co.
DESCRIPTION:An evening of classic rock favorites takes the stage during Dark Side Afterdark Presents Vic Vaga “That Rod Guy” on Saturday\, March 7\, from 7 pm to 10 pm at Darkside Brick Oven Pizza Co.\, 25 Truss Dr\, Boerne\, TX 78006. The unplugged and seated performance will feature Vic Vaga alongside the Vagablonde Trio\, delivering a night of music inspired by the timeless hits of Rod Stewart along with other beloved classics. \nGuests can enjoy the relaxed atmosphere while listening to familiar tunes performed in an intimate acoustic style. The event offers a laid-back evening of live music paired with Darkside Brick Oven Pizza Co.’s menu of wood-fired pizzas and drinks. For additional information\, contact the venue directly.
URL:https://theboernelife.com/events/dark-side-afterdark-presents-vic-vaga-that-rod-guy-at-darkside-brick-oven-pizza-co/
LOCATION:Darkside Brick Oven Pizza\, 25 Truss Dr\, Boerne\, TX\, 78006\, United States
CATEGORIES:Music
ATTACH;FMTTYPE=image/jpeg:https://theboernelife.com/wp-content/uploads/2026/03/dark-side-afterdark-presents-vic-vaga-that-rod-guy-at-darkside-brick-oven-pizza-co.jpg
END:VEVENT
BEGIN:VEVENT
DTSTART;TZID=America/Chicago:20260307T190000
DTEND;TZID=America/Chicago:20260307T220000
DTSTAMP:20260423T040932
CREATED:20260305T044609Z
LAST-MODIFIED:20260305T044609Z
UID:10035182-1772910000-1772920800@theboernelife.com
SUMMARY:Sonic Waves Live at 259 Brantley’s Bistro & Bar
DESCRIPTION:Live music fills the evening air as Sonic Waves performs on March 7\, 2026\, from 7 pm to 10 pm at 259 Brantley’s Bistro & Bar in Boerne\, TX. Set beneath the shade of the venue’s pecan trees\, the performance offers a relaxed Hill Country atmosphere for a night out with friends. \nGuests can enjoy the music alongside dinner and drinks while taking in the laid-back outdoor setting. The event pairs live entertainment with the restaurant’s menu and welcoming ambiance. For additional information about seating and availability\, contact 259 Brantley’s Bistro & Bar directly.
URL:https://theboernelife.com/events/sonic-waves-live-at-259-brantleys-bistro-bar/
LOCATION:259 Brantley’s Bistro and Bar\, 259 South Main St\, Boerne\, TX\, 78006\, United States
CATEGORIES:Music
ATTACH;FMTTYPE=image/jpeg:https://theboernelife.com/wp-content/uploads/2026/03/sonic-waves-live-at-259-brantleys-bistro-and-bar.jpg
END:VEVENT
BEGIN:VEVENT
DTSTART;TZID=America/Chicago:20260307T190000
DTEND;TZID=America/Chicago:20260307T220000
DTSTAMP:20260423T040932
CREATED:20260305T045029Z
LAST-MODIFIED:20260305T045029Z
UID:10035184-1772910000-1772920800@theboernelife.com
SUMMARY:Live Music with Bill Goodge at Lost Oak Cellars
DESCRIPTION:An easygoing Saturday evening of live music and wine awaits at Lost Oak Cellars as Bill Goodge performs on March 7\, 2026\, from 7 pm to 10 pm in Boerne\, TX. The performance offers a relaxed setting where guests can unwind while enjoying live music in the winery’s welcoming tasting room atmosphere. \nAdmission is free\, with award-winning Texas wines available by the glass or bottle along with food available for purchase. The evening provides a laid-back way to spend a Saturday night surrounded by great music and good company. For additional information\, contact Lost Oak Cellars directly.
URL:https://theboernelife.com/events/live-music-with-bill-goodge-at-lost-oak-cellars/
LOCATION:Lost Oak Cellars\, 111 Rosewood Ave\, Boerne\, TX\, 78006\, United States
CATEGORIES:Music
ATTACH;FMTTYPE=image/jpeg:https://theboernelife.com/wp-content/uploads/2026/03/live-music-with-bill-goodge-at-lost-oak-cellars.jpg
END:VEVENT
BEGIN:VEVENT
DTSTART;TZID=America/Chicago:20260307T200000
DTEND;TZID=America/Chicago:20260307T230000
DTSTAMP:20260423T040932
CREATED:20260226T003739Z
LAST-MODIFIED:20260226T003739Z
UID:10035030-1772913600-1772924400@theboernelife.com
SUMMARY:Phillip Chancellor Live at Boerne Community Theatre
DESCRIPTION:An evening of wonder and mind-bending entertainment arrives at Boerne Community Theatre with Phillip Chancellor’s newest show\, presented for three performances only on March 6 and 7. Audiences can experience the show on Friday\, March 6 at 8 pm\, and Saturday\, March 7 at 2:30 pm and 8 pm. \nKnown for captivating performances that leave audiences amazed\, Phillip Chancellor brings a fresh production designed to surprise and entertain. With limited performances scheduled\, theatergoers are encouraged to secure seats early. \nReservations are available at boernetheatre.org or by calling the box office at 830.249.9166. Boerne Community Theatre is located in Boerne\, TX.
URL:https://theboernelife.com/events/phillip-chancellor-live-at-boerne-community-theatre/2026-03-07/2/
LOCATION:Boerne Community Theatre\, 907 E. Blanco Rd.\, Boerne\, TX\, 78006\, United States
CATEGORIES:Arts and Culture
ATTACH;FMTTYPE=image/jpeg:https://theboernelife.com/wp-content/uploads/2026/02/phillip-chancellor-live-at-boerne-community-theatre.jpg
END:VEVENT
BEGIN:VEVENT
DTSTART;TZID=America/Chicago:20260307T210000
DTEND;TZID=America/Chicago:20260307T233000
DTSTAMP:20260423T040932
CREATED:20260305T045305Z
LAST-MODIFIED:20260305T045305Z
UID:10035185-1772917200-1772926200@theboernelife.com
SUMMARY:Keith Kallina Live at Salvador DOBBS
DESCRIPTION:Live music returns to Salvador DOBBS as Keith Kallina performs on March 7\, 2026\, from 9 pm to 12 mn in Boerne\, TX. A singer-songwriter based in the Brazos Valley\, Kallina has built a strong local following with a sound that blends country roots with classic rock influences. \nHis performances feature original songs filled with storytelling alongside personal takes on favorite cover songs\, creating an engaging night of live entertainment. Guests can enjoy the music while taking in Salvador DOBBS’ lively atmosphere\, signature cocktails\, and welcoming vibe. This event is open to guests 21 and over. For more information\, visit https://www.facebook.com/keithmichaelmusic.
URL:https://theboernelife.com/events/keith-kallina-live-at-salvador-dobbs/
LOCATION:Salvador Dobbs\, 512 River Rd\, Boerne\, TX\, 78006\, United States
CATEGORIES:Music
ATTACH;FMTTYPE=image/jpeg:https://theboernelife.com/wp-content/uploads/2026/03/keith-kallina-live-at-salvador-dobbs.jpg
END:VEVENT
END:VCALENDAR