BEGIN:VCALENDAR
VERSION:2.0
PRODID:-//The Boerne Life - ECPv6.15.15//NONSGML v1.0//EN
CALSCALE:GREGORIAN
METHOD:PUBLISH
X-WR-CALNAME:The Boerne Life
X-ORIGINAL-URL:https://theboernelife.com
X-WR-CALDESC:Events for The Boerne Life
REFRESH-INTERVAL;VALUE=DURATION:PT1H
X-Robots-Tag:noindex
X-PUBLISHED-TTL:PT1H
BEGIN:VTIMEZONE
TZID:America/Chicago
BEGIN:DAYLIGHT
TZOFFSETFROM:-0600
TZOFFSETTO:-0500
TZNAME:CDT
DTSTART:20250309T080000
END:DAYLIGHT
BEGIN:STANDARD
TZOFFSETFROM:-0500
TZOFFSETTO:-0600
TZNAME:CST
DTSTART:20251102T070000
END:STANDARD
BEGIN:DAYLIGHT
TZOFFSETFROM:-0600
TZOFFSETTO:-0500
TZNAME:CDT
DTSTART:20260308T080000
END:DAYLIGHT
BEGIN:STANDARD
TZOFFSETFROM:-0500
TZOFFSETTO:-0600
TZNAME:CST
DTSTART:20261101T070000
END:STANDARD
BEGIN:DAYLIGHT
TZOFFSETFROM:-0600
TZOFFSETTO:-0500
TZNAME:CDT
DTSTART:20270314T080000
END:DAYLIGHT
BEGIN:STANDARD
TZOFFSETFROM:-0500
TZOFFSETTO:-0600
TZNAME:CST
DTSTART:20271107T070000
END:STANDARD
END:VTIMEZONE
BEGIN:VEVENT
DTSTART;VALUE=DATE:20260420
DTEND;VALUE=DATE:20260421
DTSTAMP:20260422T211502
CREATED:20260414T033236Z
LAST-MODIFIED:20260414T033935Z
UID:10037343-1776643200-1776729599@theboernelife.com
SUMMARY:Military Monday Sporting Clays at Joshua Creek Ranch
DESCRIPTION:Military Monday Sporting Clays at Joshua Creek Ranch is part of the ranch’s Summer Days sporting clays program\, offering a special discount for those who serve the community. Beginning April 13\, the program will be available on Mondays year-round at Joshua Creek Ranch. \nActive military members\, veterans\, and first responders can receive a 15 percent discount on sporting clays\, providing an opportunity to enjoy the course at a reduced rate. Set in the scenic Hill Country\, the experience combines outdoor recreation with a welcoming environment for participants of all skill levels. \nValid credentials are required to receive the discount.
URL:https://theboernelife.com/events/military-monday-sporting-clays-at-joshua-creek-ranch/2026-04-20/
LOCATION:Joshua Creek Ranch\, 132 Cravey Rd\, Boerne\, TX\, 78006\, United States
CATEGORIES:Gaming,Sports
END:VEVENT
BEGIN:VEVENT
DTSTART;TZID=America/Chicago:20260420T073000
DTEND;TZID=America/Chicago:20260420T110000
DTSTAMP:20260422T211502
CREATED:20260308T073446Z
LAST-MODIFIED:20260308T073446Z
UID:10035910-1776670200-1776682800@theboernelife.com
SUMMARY:State of Disabilities in the Hill Country Town Hall and Resource Fair at Cana A Ballroom
DESCRIPTION:Community leaders\, service providers\, and residents are invited to attend the State of Disabilities in the Hill Country Town Hall and Resource Fair on April 20\, 2026\, from 7:30 am to 11 am at the Cana A Ballroom\, 202 W. Kronkosky Street\, Boerne\, TX. Presented by LTO Ventures\, the event is the first intergenerational\, cross-disability town hall in the region focused on addressing issues affecting Texans with intellectual or developmental disabilities\, seniors and aging populations\, and veterans with acquired disabilities. \nThe program will feature a panel of experts working on the front lines of disability services and advocacy across Texas and the Hill Country. Speakers include Mark Olson\, Founder\, President and CEO of LTO Ventures and Autumn Hills Village; Olivia Burdick\, CEO of The Center; Victor Medina\, President and Founder of TBI Warrior Foundation; Tony Ritter\, President of Advantage Care Services and President of Providers Alliance for Community Services for Texas (PACSTX); Tod Citron\, CEO of Hill Country Mental Health and Developmental Disabilities Centers; Jenny Cashion\, Head of Delegation for Boerne Blaze Special Olympics; and Brandon Briery\, Ph.D.\, Chief Operations Officer of Children’s Association for Maximum Potential. \nThe event will also include a Resource Fair featuring organizations that provide services and support to individuals with disabilities and their families across the Hill Country. Participants will learn about the growing challenges facing disability services in Texas\, including population growth\, aging demographics\, and increasing demands on funding and staffing\, while exploring strategies and actions that can help address these issues. \nRegistration and breakfast are $25. Net proceeds after expenses will be distributed to the presenting nonprofit organizations. For more information and registration\, visit www.ltoventures.org/townhall.
URL:https://theboernelife.com/events/state-of-disabilities-in-the-hill-country-town-hall-and-resource-fair-at-cana-a-ballroom/
LOCATION:The Cana Ballroom\, 202 W Kronkosky St\, Boerne\, TX\, 78006\, United States
CATEGORIES:General
ATTACH;FMTTYPE=image/jpeg:https://theboernelife.com/wp-content/uploads/2026/03/state-of-disabilities-in-the-hill-country-town-hall-and-resource-fair-at-cana-a-ballroom.jpg
END:VEVENT
BEGIN:VEVENT
DTSTART;TZID=America/Chicago:20260420T100000
DTEND;TZID=America/Chicago:20260420T110000
DTSTAMP:20260422T211502
CREATED:20260307T061921Z
LAST-MODIFIED:20260308T081242Z
UID:10036023-1776679200-1776682800@theboernelife.com
SUMMARY:Tech Time: Log In with Leslie at Patrick Heath Public Library
DESCRIPTION:Technology help is available during Tech Time: Log In with Leslie every Monday from 10 am to 11 am at Patrick Heath Public Library in Boerne\, TX. Leslie Kirk will be in the lobby to assist visitors with everyday technology questions and basic digital tasks. \nThe session offers a relaxed opportunity to receive help with devices\, apps\, and common online tools. This drop-in program is open to anyone needing assistance\, and no registration is required. Walk-ins are welcome. For more information\, contact Patrick Heath Public Library directly.
URL:https://theboernelife.com/events/tech-time-log-in-with-leslie-at-patrick-heath-public-library/2026-04-20/
LOCATION:Patrick Heath Public Library\, 451 N. Main Street\, Boerne\, TX\, 78006\, United States
CATEGORIES:General
ATTACH;FMTTYPE=image/jpeg:https://theboernelife.com/wp-content/uploads/2026/03/tech-time-log-in-with-leslie-at-patrick-heath-public-library.jpg
END:VEVENT
BEGIN:VEVENT
DTSTART;TZID=America/Chicago:20260420T110000
DTEND;TZID=America/Chicago:20260420T130000
DTSTAMP:20260422T211502
CREATED:20260331T065821Z
LAST-MODIFIED:20260331T065821Z
UID:10036892-1776682800-1776690000@theboernelife.com
SUMMARY:Pressed Birth Month Floral Art Workshop at The Downtown DIY
DESCRIPTION:A meaningful and creative experience takes place during the Pressed Birth Month Floral Art Workshop on Monday\, April 20 from 11 am to 1 pm at The Downtown DIY\, 206 W Highland Dr.\, Ste 101\, Boerne\, TX 78006. \nThis guided workshop invites participants to create a personalized piece of artwork using traditional birth month flowers to represent loved ones or special moments. Guests will design their arrangement on high-quality 8×10 textured paper using a curated selection of dried and pressed botanicals\, with the option to add handwritten names\, dates\, scripture\, or notes for a truly custom piece. \nEach participant will receive a frame during the class\, allowing them to leave with a finished\, ready-to-display artwork that makes a thoughtful keepsake or gift. \nNo experience is necessary\, and all materials are included. The cost is $69.95 per person. \nFor more information or to reserve a spot\, visit https://www.thingstodoinboerne.com/studio-calendar.
URL:https://theboernelife.com/events/pressed-birth-month-floral-art-workshop-at-the-downtown-diy/
LOCATION:The Downtown DIY\, 195 S Main St\, Boerne\, TX\, 78006\, United States
CATEGORIES:Arts and Culture
ATTACH;FMTTYPE=image/jpeg:https://theboernelife.com/wp-content/uploads/2026/03/pressed-birth-month-floral-art-workshop-at-the-downtown-diy.jpg
END:VEVENT
BEGIN:VEVENT
DTSTART;TZID=America/Chicago:20260420T160000
DTEND;TZID=America/Chicago:20260420T173000
DTSTAMP:20260422T211502
CREATED:20260307T062625Z
LAST-MODIFIED:20260308T100729Z
UID:10036582-1776700800-1776706200@theboernelife.com
SUMMARY:Mindful Mondays at Patrick Heath Public Library
DESCRIPTION:A calming start to the week awaits during Mindful Mondays every Monday at 4:15 pm at Patrick Heath Public Library in Boerne\, TX. The program continues through April 27\, 2026\, with the exception of March 9\, March 16\, and March 30. \nDuring each session\, the Hub transforms into a relaxing space where participants can unwind and recharge with a different mindful activity. Activities may include yoga\, coloring\, journaling\, positive affirmations\, and other creative ways to slow down and reset. \nThe program offers a welcoming environment for anyone looking to take a break\, focus on well-being\, and begin the week feeling refreshed. For more information\, contact Patrick Heath Public Library directly.
URL:https://theboernelife.com/events/mindful-mondays-at-patrick-heath-public-library/2026-04-20/
LOCATION:Patrick Heath Public Library\, 451 N. Main Street\, Boerne\, TX\, 78006\, United States
CATEGORIES:Health and Wellness
ATTACH;FMTTYPE=image/jpeg:https://theboernelife.com/wp-content/uploads/2026/03/mindful-mondays-at-patrick-heath-public-library.jpg
END:VEVENT
BEGIN:VEVENT
DTSTART;TZID=America/Chicago:20260420T180000
DTEND;TZID=America/Chicago:20260420T210000
DTSTAMP:20260422T211502
CREATED:20251003T105014Z
LAST-MODIFIED:20260225T211537Z
UID:10035003-1776708000-1776718800@theboernelife.com
SUMMARY:Live Music at Valeria Restaurant
DESCRIPTION:Live music with guitar and wonderful vocals by David Selbo every Monday evening from 6-9 pm ranging in style form old school to contemporary music done exquisitely by a true master of music.
URL:https://theboernelife.com/events/live-music-at-valeria-restaurant-2/2026-04-20/
LOCATION:Valeria Restaurant\, 109 Waterview Pkwy\, Ste 105\, Boerne\, TX\, 78006\, United States
CATEGORIES:Music
ATTACH;FMTTYPE=image/jpeg:https://theboernelife.com/wp-content/uploads/2025/09/IMG_9317-copy-scaled.jpg
END:VEVENT
END:VCALENDAR