BEGIN:VCALENDAR
VERSION:2.0
PRODID:-//The Boerne Life - ECPv6.15.15//NONSGML v1.0//EN
CALSCALE:GREGORIAN
METHOD:PUBLISH
X-ORIGINAL-URL:https://theboernelife.com
X-WR-CALDESC:Events for The Boerne Life
REFRESH-INTERVAL;VALUE=DURATION:PT1H
X-Robots-Tag:noindex
X-PUBLISHED-TTL:PT1H
BEGIN:VTIMEZONE
TZID:America/Chicago
BEGIN:DAYLIGHT
TZOFFSETFROM:-0600
TZOFFSETTO:-0500
TZNAME:CDT
DTSTART:20250309T080000
END:DAYLIGHT
BEGIN:STANDARD
TZOFFSETFROM:-0500
TZOFFSETTO:-0600
TZNAME:CST
DTSTART:20251102T070000
END:STANDARD
BEGIN:DAYLIGHT
TZOFFSETFROM:-0600
TZOFFSETTO:-0500
TZNAME:CDT
DTSTART:20260308T080000
END:DAYLIGHT
BEGIN:STANDARD
TZOFFSETFROM:-0500
TZOFFSETTO:-0600
TZNAME:CST
DTSTART:20261101T070000
END:STANDARD
BEGIN:DAYLIGHT
TZOFFSETFROM:-0600
TZOFFSETTO:-0500
TZNAME:CDT
DTSTART:20270314T080000
END:DAYLIGHT
BEGIN:STANDARD
TZOFFSETFROM:-0500
TZOFFSETTO:-0600
TZNAME:CST
DTSTART:20271107T070000
END:STANDARD
END:VTIMEZONE
BEGIN:VEVENT
DTSTART;VALUE=DATE:20260511
DTEND;VALUE=DATE:20260512
DTSTAMP:20260422T015314
CREATED:20260414T033236Z
LAST-MODIFIED:20260414T033935Z
UID:10037346-1778457600-1778543999@theboernelife.com
SUMMARY:Military Monday Sporting Clays at Joshua Creek Ranch
DESCRIPTION:Military Monday Sporting Clays at Joshua Creek Ranch is part of the ranch’s Summer Days sporting clays program\, offering a special discount for those who serve the community. Beginning April 13\, the program will be available on Mondays year-round at Joshua Creek Ranch. \nActive military members\, veterans\, and first responders can receive a 15 percent discount on sporting clays\, providing an opportunity to enjoy the course at a reduced rate. Set in the scenic Hill Country\, the experience combines outdoor recreation with a welcoming environment for participants of all skill levels. \nValid credentials are required to receive the discount.
URL:https://theboernelife.com/events/military-monday-sporting-clays-at-joshua-creek-ranch/2026-05-11/
LOCATION:Joshua Creek Ranch\, 132 Cravey Rd\, Boerne\, TX\, 78006\, United States
CATEGORIES:Gaming,Sports
END:VEVENT
BEGIN:VEVENT
DTSTART;TZID=America/Chicago:20260511T100000
DTEND;TZID=America/Chicago:20260511T110000
DTSTAMP:20260422T015314
CREATED:20260307T061921Z
LAST-MODIFIED:20260308T081242Z
UID:10036026-1778493600-1778497200@theboernelife.com
SUMMARY:Tech Time: Log In with Leslie at Patrick Heath Public Library
DESCRIPTION:Technology help is available during Tech Time: Log In with Leslie every Monday from 10 am to 11 am at Patrick Heath Public Library in Boerne\, TX. Leslie Kirk will be in the lobby to assist visitors with everyday technology questions and basic digital tasks. \nThe session offers a relaxed opportunity to receive help with devices\, apps\, and common online tools. This drop-in program is open to anyone needing assistance\, and no registration is required. Walk-ins are welcome. For more information\, contact Patrick Heath Public Library directly.
URL:https://theboernelife.com/events/tech-time-log-in-with-leslie-at-patrick-heath-public-library/2026-05-11/
LOCATION:Patrick Heath Public Library\, 451 N. Main Street\, Boerne\, TX\, 78006\, United States
CATEGORIES:General
ATTACH;FMTTYPE=image/jpeg:https://theboernelife.com/wp-content/uploads/2026/03/tech-time-log-in-with-leslie-at-patrick-heath-public-library.jpg
END:VEVENT
BEGIN:VEVENT
DTSTART;TZID=America/Chicago:20260511T100000
DTEND;TZID=America/Chicago:20260511T120000
DTSTAMP:20260422T015314
CREATED:20260112T010018Z
LAST-MODIFIED:20260207T012812Z
UID:10034803-1778493600-1778500800@theboernelife.com
SUMMARY:Hill Country Newcomers Monthly Meeting at St. Mark Presbyterian Church Family Life Center
DESCRIPTION:Hill Country Newcomers hosts monthly meetings for women in the Boerne area who are interested in making new connections and becoming involved in local activities. Each gathering features a guest speaker along with a potluck buffet\, creating a welcoming setting for conversation and community. \nThe meeting will  begin at 10 am at the St. Mark Presbyterian Church Family Life Center\, located at 208 W. Bandera Rd.\, Boerne\, TX. The group offers a variety of social opportunities and activities throughout the month\, making it a helpful resource for women who are new to the area or simply looking to expand their social circle.
URL:https://theboernelife.com/events/hill-country-newcomers-monthly-meeting-at-st-mark-presbyterian-church-family-life-center/2026-05-11/
LOCATION:St. Mark Presbyterian Church\, 208 W. Bandera\, Boerne\, TX\, 78006\, United States
CATEGORIES:Women
ATTACH;FMTTYPE=image/jpeg:https://theboernelife.com/wp-content/uploads/2026/01/hill-country-newcomers-monthly-meeting-at-st-mark-presbyterian-church-family-life-center.jpg
END:VEVENT
BEGIN:VEVENT
DTSTART;TZID=America/Chicago:20260511T120000
DTEND;TZID=America/Chicago:20260511T150000
DTSTAMP:20260422T015314
CREATED:20260421T000834Z
LAST-MODIFIED:20260421T000834Z
UID:10037830-1778500800-1778511600@theboernelife.com
SUMMARY:Food for Thought at Patrick Heath Public Library
DESCRIPTION:Food for Thought offers a welcoming discussion group for those who enjoy literary fiction and thoughtful conversation. The meeting will take place on May 11 at 12 pm at the Patrick Heath Public Library. \nFacilitated by Natalie Morgan\, this monthly gathering focuses on a different book each session. The selected title for this month is “Damnation Spring” by Ash Davidson\, providing an opportunity for participants to share insights and engage in meaningful discussion. \nThis program is free and open to the public\, and no registration is required.
URL:https://theboernelife.com/events/food-for-thought-at-patrick-heath-public-library-2/
LOCATION:Patrick Heath Public Library\, 451 N. Main Street\, Boerne\, TX\, 78006\, United States
CATEGORIES:General
ATTACH;FMTTYPE=image/jpeg:https://theboernelife.com/wp-content/uploads/2026/03/food-for-thought-book-discussion-at-patrick-heath-public-library.jpg
END:VEVENT
BEGIN:VEVENT
DTSTART;TZID=America/Chicago:20260511T180000
DTEND;TZID=America/Chicago:20260511T210000
DTSTAMP:20260422T015314
CREATED:20251003T105014Z
LAST-MODIFIED:20260225T211537Z
UID:10035006-1778522400-1778533200@theboernelife.com
SUMMARY:Live Music at Valeria Restaurant
DESCRIPTION:Live music with guitar and wonderful vocals by David Selbo every Monday evening from 6-9 pm ranging in style form old school to contemporary music done exquisitely by a true master of music.
URL:https://theboernelife.com/events/live-music-at-valeria-restaurant-2/2026-05-11/
LOCATION:Valeria Restaurant\, 109 Waterview Pkwy\, Ste 105\, Boerne\, TX\, 78006\, United States
CATEGORIES:Music
ATTACH;FMTTYPE=image/jpeg:https://theboernelife.com/wp-content/uploads/2025/09/IMG_9317-copy-scaled.jpg
END:VEVENT
END:VCALENDAR