BEGIN:VCALENDAR
VERSION:2.0
PRODID:-//The Boerne Life - ECPv6.15.15//NONSGML v1.0//EN
CALSCALE:GREGORIAN
METHOD:PUBLISH
X-WR-CALNAME:The Boerne Life
X-ORIGINAL-URL:https://theboernelife.com
X-WR-CALDESC:Events for The Boerne Life
REFRESH-INTERVAL;VALUE=DURATION:PT1H
X-Robots-Tag:noindex
X-PUBLISHED-TTL:PT1H
BEGIN:VTIMEZONE
TZID:America/Chicago
BEGIN:DAYLIGHT
TZOFFSETFROM:-0600
TZOFFSETTO:-0500
TZNAME:CDT
DTSTART:20250309T080000
END:DAYLIGHT
BEGIN:STANDARD
TZOFFSETFROM:-0500
TZOFFSETTO:-0600
TZNAME:CST
DTSTART:20251102T070000
END:STANDARD
BEGIN:DAYLIGHT
TZOFFSETFROM:-0600
TZOFFSETTO:-0500
TZNAME:CDT
DTSTART:20260308T080000
END:DAYLIGHT
BEGIN:STANDARD
TZOFFSETFROM:-0500
TZOFFSETTO:-0600
TZNAME:CST
DTSTART:20261101T070000
END:STANDARD
BEGIN:DAYLIGHT
TZOFFSETFROM:-0600
TZOFFSETTO:-0500
TZNAME:CDT
DTSTART:20270314T080000
END:DAYLIGHT
BEGIN:STANDARD
TZOFFSETFROM:-0500
TZOFFSETTO:-0600
TZNAME:CST
DTSTART:20271107T070000
END:STANDARD
END:VTIMEZONE
BEGIN:VEVENT
DTSTART;VALUE=DATE:20260512
DTEND;VALUE=DATE:20260513
DTSTAMP:20260421T142222
CREATED:20260414T034451Z
LAST-MODIFIED:20260414T034822Z
UID:10037384-1778544000-1778630399@theboernelife.com
SUMMARY:Two For Tuesday Sporting Clays at Joshua Creek Ranch
DESCRIPTION:Two For Tuesday Sporting Clays at Joshua Creek Ranch is part of the ranch’s Summer Days program\, offering a great opportunity to enjoy the course with a friend. The promotion runs on Tuesdays from April through September at Joshua Creek Ranch. \nGuests who purchase 100 sporting clay targets will receive an additional 100 targets free\, making it ideal for pairs looking to spend time outdoors together. Both participants must be present and shoot on the same Tuesday\, and the offer applies only to 100-target rounds\, with a limit of one free round per Tuesday. \nSet against the scenic backdrop of the Hill Country\, this weekly special provides a fun and social way to experience sporting clays throughout the summer season.
URL:https://theboernelife.com/events/two-for-tuesday-sporting-clays-at-joshua-creek-ranch/2026-05-12/
LOCATION:Joshua Creek Ranch\, 132 Cravey Rd\, Boerne\, TX\, 78006\, United States
CATEGORIES:Gaming
ATTACH;FMTTYPE=image/jpeg:https://theboernelife.com/wp-content/uploads/2026/04/summer-days-sporting-clays-at-joshua-creek-ranch.jpg
END:VEVENT
BEGIN:VEVENT
DTSTART;TZID=America/Chicago:20260512T100000
DTEND;TZID=America/Chicago:20260512T110000
DTSTAMP:20260421T142222
CREATED:20260307T063538Z
LAST-MODIFIED:20260308T081436Z
UID:10036068-1778580000-1778583600@theboernelife.com
SUMMARY:Tech Time: Teacup Techie at Patrick Heath Public Library
DESCRIPTION:Technology help is available during Tech Time: Teacup Techie every Tuesday from 10 am to 11 am at Patrick Heath Public Library in Boerne\, TX. Alicia Owens\, also known as Teacup Techie\, will be in the lobby to assist visitors with everyday technology questions. \nParticipants can receive help with devices\, apps\, and common digital tasks in a relaxed\, supportive setting. The program is offered on a walk-in basis\, and no registration is required. For more information\, contact Patrick Heath Public Library directly.
URL:https://theboernelife.com/events/tech-time-teacup-techie-at-patrick-heath-public-library/2026-05-12/
LOCATION:Patrick Heath Public Library\, 451 N. Main Street\, Boerne\, TX\, 78006\, United States
CATEGORIES:General
ATTACH;FMTTYPE=image/jpeg:https://theboernelife.com/wp-content/uploads/2026/03/tech-time-teacup-techie-at-patrick-heath-public-library.jpg
END:VEVENT
BEGIN:VEVENT
DTSTART;TZID=America/Chicago:20260512T130000
DTEND;TZID=America/Chicago:20260512T180000
DTSTAMP:20260421T142222
CREATED:20260307T064058Z
LAST-MODIFIED:20260307T094229Z
UID:10035241-1778590800-1778608800@theboernelife.com
SUMMARY:Public Memory Lab Open at Patrick Heath Public Library
DESCRIPTION:The Public Memory Lab at Patrick Heath Public Library is open to the community every Tuesday and Thursday from 1 pm to 6 pm in Boerne\, TX. The lab provides access to specialized equipment that allows visitors to digitize personal media such as home VHS tapes\, photographs\, negatives\, and other cherished materials. \nThis resource helps preserve family memories by converting physical media into digital formats that can be easily stored and shared. Visitors interested in attending an orientation should email PHPL Memory Lab Coordinator Sarah Habeeb at shabeeb@boernelibrary.org to schedule an appointment. \nAdditional details about available equipment and services can be found on the Memory Lab webpage: Memory Lab: Maker Space of Memories | Boerne\, TX – Official Website.
URL:https://theboernelife.com/events/public-memory-lab-open-at-patrick-heath-public-library/2026-05-12/
LOCATION:Patrick Heath Public Library\, 451 N. Main Street\, Boerne\, TX\, 78006\, United States
CATEGORIES:Kids and Family
ATTACH;FMTTYPE=image/jpeg:https://theboernelife.com/wp-content/uploads/2026/03/public-memory-lab-open-at-patrick-heath-public-library.jpg
END:VEVENT
BEGIN:VEVENT
DTSTART;TZID=America/Chicago:20260512T153000
DTEND;TZID=America/Chicago:20260512T160000
DTSTAMP:20260421T142222
CREATED:20260118T205632Z
LAST-MODIFIED:20260307T220754Z
UID:10034620-1778599800-1778601600@theboernelife.com
SUMMARY:Paws 4 Reading
DESCRIPTION:Go to the library after school and share a book with a trained\, certified therapy dog! Starts at 3:30 PM.
URL:https://theboernelife.com/events/paws-4-reading-2-2-2/2026-05-12/
LOCATION:Patrick Heath Public Library\, 451 N. Main Street\, Boerne\, TX\, 78006\, United States
CATEGORIES:Kids and Family
ATTACH;FMTTYPE=image/jpeg:https://theboernelife.com/wp-content/uploads/2024/03/Boerne-Library-2.jpg
END:VEVENT
BEGIN:VEVENT
DTSTART;TZID=America/Chicago:20260512T160000
DTEND;TZID=America/Chicago:20260512T190000
DTSTAMP:20260421T142222
CREATED:20251118T133620Z
LAST-MODIFIED:20260401T100721Z
UID:10037199-1778601600-1778612400@theboernelife.com
SUMMARY:Boerne Farmers Market
DESCRIPTION:The Boerne Farmers Market is a hub for locally-sourced produce\, artisan goods\, and prepared foods\, fostering a community that values sustainability and healthy living. It’s a place where local farmers\, homesteaders\, ranchers\, and artisans from the Texas Hill Country come together\, offering more than just shopping but a vibrant community event to explore and enjoy. \nAnd on the first Tuesday of every month\, kids can set up to sell as well! \n 
URL:https://theboernelife.com/events/boerne-farmers-market-2-2-3-3/2026-05-12/
LOCATION:Boerne Farmers Market\, 402 East Blanco Road\, Boerne\, TX\, 78006\, United States
CATEGORIES:Food and Drink,Outdoors
ATTACH;FMTTYPE=image/jpeg:https://theboernelife.com/wp-content/uploads/2024/04/Boerne-Farmers-Market.jpg
END:VEVENT
BEGIN:VEVENT
DTSTART;TZID=America/Chicago:20260512T170000
DTEND;TZID=America/Chicago:20260512T200000
DTSTAMP:20260421T142222
CREATED:20260307T084832Z
LAST-MODIFIED:20260308T082609Z
UID:10036163-1778605200-1778616000@theboernelife.com
SUMMARY:Live Music at Richter Cork & Keg
DESCRIPTION:Evenings at Richter Cork & Keg feature live music and drink specials every Tuesday and Wednesday from 5 pm to 8 pm in Boerne\, TX. The weekly performances offer a relaxed setting where guests can unwind after the day while enjoying live entertainment in the heart of downtown. \nVisitors can gather with friends\, enjoy a glass of wine or a favorite drink\, and listen to local musicians in the venue’s welcoming atmosphere. The midweek event provides an easygoing way to spend the evening with good music\, great company\, and drink specials. For more information\, contact Richter Cork & Keg directly.
URL:https://theboernelife.com/events/live-music-at-richter-cork-keg/2026-05-12/
LOCATION:Richter Cork & Keg\, 153 S Main St\, Boerne\, TX\, 78006\, United States
CATEGORIES:Music
ATTACH;FMTTYPE=image/jpeg:https://theboernelife.com/wp-content/uploads/2026/03/live-music-at-richter-cork-and-keg.jpg
END:VEVENT
BEGIN:VEVENT
DTSTART;TZID=America/Chicago:20260512T173000
DTEND;TZID=America/Chicago:20260512T190000
DTSTAMP:20260421T142222
CREATED:20260420T051956Z
LAST-MODIFIED:20260420T051956Z
UID:10037764-1778607000-1778612400@theboernelife.com
SUMMARY:“Dis-Carded” with Julie Jarvis at The Downtown DIY
DESCRIPTION:“Dis-Carded” with Julie Jarvis offers a relaxed and imaginative workshop focused on mixed-media creativity. The class will take place on Tuesday\, May 12 from 5:30 pm to 7 pm at The Downtown DIY. \nLed by local artist Julie Jarvis\, this monthly workshop explores a variety of creative techniques using materials such as vintage papers\, stamps\, letters\, and repurposed items. Participants are encouraged to transform everyday objects into unique pieces like handmade cards\, junk journals\, or personalized artwork\, all while developing their own artistic style. \nDesigned for both beginners and experienced creatives\, the class provides a supportive environment with access to a wide range of supplies and tools. Guests are also welcome to bring personal memorabilia or photos to incorporate into their projects. \nAdmission is $19.95 per person\, and the workshop is held on the second Tuesday of each month.
URL:https://theboernelife.com/events/dis-carded-with-julie-jarvis-at-the-downtown-diy-2/
LOCATION:The Downtown DIY\, 195 S Main St\, Boerne\, TX\, 78006\, United States
CATEGORIES:Arts and Culture
ATTACH;FMTTYPE=image/jpeg:https://theboernelife.com/wp-content/uploads/2026/03/dis-carded-with-julie-jarvis-at-the-downtown-diy.jpg
END:VEVENT
BEGIN:VEVENT
DTSTART;TZID=America/Chicago:20260512T180000
DTEND;TZID=America/Chicago:20260512T193000
DTSTAMP:20260421T142222
CREATED:20250109T015442Z
LAST-MODIFIED:20250707T221209Z
UID:10029751-1778608800-1778614200@theboernelife.com
SUMMARY:Killer Crafts: True Crime Podcasts and Crafts
DESCRIPTION:Head to the library for a unique blend of creativity and intrigue! We’ve combined two seemingly unrelated passions—true crime and crafting—and the result is an experience that’s both fascinating and fun. For the past couple of years\, true-crime enthusiasts who love to craft have gathered to listen to enthralling crime stories that keep us all on the edge of our seats\, shaking our heads in amazement. While the podcast series spans several months\, newcomers are always welcome to catch up on past episodes and join in on the excitement. Come for the stories\, stay for the community!
URL:https://theboernelife.com/events/true-crim-podcasts-and-crafts-2-2/2026-05-12/
LOCATION:Patrick Heath Public Library\, 451 N. Main Street\, Boerne\, TX\, 78006\, United States
CATEGORIES:Arts and Culture
ATTACH;FMTTYPE=image/png:https://theboernelife.com/wp-content/uploads/2024/03/Killer-Crafts.png
END:VEVENT
BEGIN:VEVENT
DTSTART;TZID=America/Chicago:20260512T180000
DTEND;TZID=America/Chicago:20260512T200000
DTSTAMP:20260421T142222
CREATED:20240208T110320Z
LAST-MODIFIED:20251123T123748Z
UID:10000178-1778608800-1778616000@theboernelife.com
SUMMARY:Trivia Night at Free Roam
DESCRIPTION:Head over to Free Roam Brewing Company for an enthralling evening of live trivia\, brought to you by Challenge Entertainment – Austin & San Antonio Trivia. These engaging trivia nights are held every Tuesday\, beginning at 6:00 PM\, and offer a fun-packed 2-hour experience that’s open to the public. \nEvent Highlights: \n\nWeekly Trivia Nights: Set aside your Tuesdays for the ultimate quiz experience that challenges and entertains.\nFood Truck Delights: A food truck will be on-site\, serving up delicious eats to keep your brain fueled.\nPrizes Galore: Top teams stand a chance to win exciting prizes every week\, making every Tuesday a potentially rewarding experience.\nComplimentary Participation: There’s no cost to join in the fun\, making it a great\, budget-friendly night out.\nOpen to All: Whether a seasoned quiz master or a casual participant\, this event promises a great time for everyone in Boerne.\n\nThe trivia night at Free Roam Brewing Company is a perfect blend of competition\, camaraderie\, and local culture. With no entry fee and plenty of prizes up for grabs\, it’s an inviting scene for trivia buffs\, foodies\, and anyone looking for a memorable night out in Boerne. Join the community and prove you’re a know-it-all at San Antonio Trivia by Challenge Entertainment. Don’t miss out on the fun!
URL:https://theboernelife.com/events/trivia-night-at-free-roam/2026-05-12/
LOCATION:Free Roam Brewing Company\, 325 S Main Street\, Boerne\, TX\, 78006\, United States
CATEGORIES:General
ATTACH;FMTTYPE=image/png:https://theboernelife.com/wp-content/uploads/2024/02/Free-Roam-Trivia.png
END:VEVENT
BEGIN:VEVENT
DTSTART;TZID=America/Chicago:20260512T180000
DTEND;TZID=America/Chicago:20260512T210000
DTSTAMP:20260421T142222
CREATED:20260421T022845Z
LAST-MODIFIED:20260421T022845Z
UID:10037848-1778608800-1778619600@theboernelife.com
SUMMARY:Killer Crafts Discussion Group at Patrick Heath Public Library
DESCRIPTION:Killer Crafts Discussion Group combines creativity with true crime storytelling for a unique and engaging evening. The group will meet on May 12 at 6 pm at the Patrick Heath Public Library. \nParticipants can work on their own crafts while listening to and discussing intriguing true crime stories in a relaxed\, community-focused setting. The ongoing series welcomes both regular attendees and newcomers\, making it easy to jump in and enjoy the experience at any time. \nThis free program offers a creative and social way to connect with others who share an interest in crafting and true crime.
URL:https://theboernelife.com/events/killer-crafts-discussion-group-at-patrick-heath-public-library-3/
LOCATION:Patrick Heath Public Library\, 451 N. Main Street\, Boerne\, TX\, 78006\, United States
CATEGORIES:Arts and Culture
ATTACH;FMTTYPE=image/jpeg:https://theboernelife.com/wp-content/uploads/2026/03/killer-crafts-discussion-group-at-patrick-heath-public-library.jpg
END:VEVENT
BEGIN:VEVENT
DTSTART;TZID=America/Chicago:20260512T190000
DTEND;TZID=America/Chicago:20260512T210000
DTSTAMP:20260421T142222
CREATED:20260121T063741Z
LAST-MODIFIED:20260401T103344Z
UID:10034341-1778612400-1778619600@theboernelife.com
SUMMARY:Art AfterHours – Powder Coating at Hill Country Council for the Arts
DESCRIPTION:Art AfterHours – Powder Coating introduces participants to the process of applying powdered pigment to metal and curing it with heat to create durable\, colorful finishes. This hands-on workshop explores the full process\, beginning with fabricating a metal blank from copper and moving through powder coat application\, curing\, and finishing. Participants will complete a wearable piece by adding jewelry findings\, resulting in a finished accessory designed to complement a variety of styles. \nThe class will take place on May 12 from 7 pm to 9 pm at the Hill Country Council for the Arts\, located at 102 City Park Rd.\, Boerne\, TX 78006. The cost to attend is $35 and includes guided instruction and materials needed to complete the project.
URL:https://theboernelife.com/events/art-afterhours-powder-coating-at-hill-country-council-for-the-arts/
LOCATION:Hill Country Council for the Arts\, 102 City Park Rd\, Boerne\, TX\, 78006\, United States
CATEGORIES:Arts and Culture
ATTACH;FMTTYPE=image/jpeg:https://theboernelife.com/wp-content/uploads/2026/01/art-afterhours-powder-coating-at-hill-country-council-for-the-arts.jpg
END:VEVENT
BEGIN:VEVENT
DTSTART;TZID=America/Chicago:20260512T190000
DTEND;TZID=America/Chicago:20260512T230000
DTSTAMP:20260421T142222
CREATED:20240214T102046Z
LAST-MODIFIED:20241222T133003Z
UID:10003913-1778612400-1778626800@theboernelife.com
SUMMARY:Karaoke at Drink Texas Boerne
DESCRIPTION:Come out for karaoke at 7pm and enjoy happy hour until 9pm. Cold beer\, Texas cocktails\, and friendly bartenders right off the freeway!
URL:https://theboernelife.com/events/karaoke-at-drink-texas-boerne/2026-05-12/
LOCATION:Drink Texas Boerne\, 31138 I-10\, Boerne\, TX\, 78006\, United States
CATEGORIES:Music
ATTACH;FMTTYPE=image/png:https://theboernelife.com/wp-content/uploads/2024/02/Drink-Texas-Boerne-Logo.png
END:VEVENT
END:VCALENDAR