BEGIN:VCALENDAR
VERSION:2.0
PRODID:-//The Boerne Life - ECPv6.15.15//NONSGML v1.0//EN
CALSCALE:GREGORIAN
METHOD:PUBLISH
X-WR-CALNAME:The Boerne Life
X-ORIGINAL-URL:https://theboernelife.com
X-WR-CALDESC:Events for The Boerne Life
REFRESH-INTERVAL;VALUE=DURATION:PT1H
X-Robots-Tag:noindex
X-PUBLISHED-TTL:PT1H
BEGIN:VTIMEZONE
TZID:America/Chicago
BEGIN:DAYLIGHT
TZOFFSETFROM:-0600
TZOFFSETTO:-0500
TZNAME:CDT
DTSTART:20250309T080000
END:DAYLIGHT
BEGIN:STANDARD
TZOFFSETFROM:-0500
TZOFFSETTO:-0600
TZNAME:CST
DTSTART:20251102T070000
END:STANDARD
BEGIN:DAYLIGHT
TZOFFSETFROM:-0600
TZOFFSETTO:-0500
TZNAME:CDT
DTSTART:20260308T080000
END:DAYLIGHT
BEGIN:STANDARD
TZOFFSETFROM:-0500
TZOFFSETTO:-0600
TZNAME:CST
DTSTART:20261101T070000
END:STANDARD
BEGIN:DAYLIGHT
TZOFFSETFROM:-0600
TZOFFSETTO:-0500
TZNAME:CDT
DTSTART:20270314T080000
END:DAYLIGHT
BEGIN:STANDARD
TZOFFSETFROM:-0500
TZOFFSETTO:-0600
TZNAME:CST
DTSTART:20271107T070000
END:STANDARD
END:VTIMEZONE
BEGIN:VEVENT
DTSTART;VALUE=DATE:20260517
DTEND;VALUE=DATE:20260518
DTSTAMP:20260425T133306
CREATED:20260421T030958Z
LAST-MODIFIED:20260421T030958Z
UID:10037854-1778976000-1779062399@theboernelife.com
SUMMARY:Boerne Bock Walk at Participating Breweries
DESCRIPTION:Boerne Bock Walk invites guests to explore the local craft beer scene with a self-guided stroll through participating breweries. The event will take place on May 17 at various locations throughout Boerne. \nParticipating breweries include 28 Songs Brewhouse + Kitchen\, Tusculum Brewing Co.\, Free Roam Brewing Co.\, Dodging Duck Brewhaus\, Cibolo Creek Brewing Co.\, and Hamby’s. \nEach location will feature its own Bock-style beer on tap\, giving guests the opportunity to sample a variety of seasonal brews. Visitors can stop in at any time during regular business hours or take part in a casual downtown stroll between locations. \nThis event offers a relaxed way to experience Boerne’s breweries\, enjoy local flavors\, and spend the day exploring the community.
URL:https://theboernelife.com/events/boerne-bock-walk-at-participating-breweries/
CATEGORIES:Food and Drink
ATTACH;FMTTYPE=image/jpeg:https://theboernelife.com/wp-content/uploads/2026/04/boerne-bock-walk-at-participating-breweries.jpg
END:VEVENT
BEGIN:VEVENT
DTSTART;TZID=America/Chicago:20260517T083000
DTEND;TZID=America/Chicago:20260517T110000
DTSTAMP:20260425T133306
CREATED:20260420T033641Z
LAST-MODIFIED:20260420T033641Z
UID:10037758-1779006600-1779015600@theboernelife.com
SUMMARY:Honey Creek Nature Hike at Guadalupe River State Park
DESCRIPTION:Honey Creek Nature Hike offers a guided outdoor experience exploring one of the last pristine waterways in Texas. The hikes take place on April 5\, 12\, 19\, and 26\, as well as May 3\, 10\, 17\, and 24 from 8:30 am to 11 am at Guadalupe River State Park. \nLed by certified guides and sponsored by The Friends of Guadalupe River State Park and Honey Creek State Natural Area\, this interpretive hike highlights the natural and cultural history of the area. The trail is approximately two miles long and moderately challenging\, with mostly flat terrain along with some rocky sections\, slopes\, and a couple of short\, steep hills. \nParticipants of all ages are welcome\, though dogs are not permitted except for service animals. The group will meet outside the Rust House within the park\, and attendees are encouraged to bring sturdy footwear\, water\, and sun protection. \nRegistration is required. For more information or to sign up\, visit https://fs18.formsite.com/TPWD/3wdmx2s3eu/index.
URL:https://theboernelife.com/events/honey-creek-nature-hike-at-guadalupe-river-state-park-2/2026-05-17/
LOCATION:Guadalupe River State Park\, 3350 Park Road 31\, Spring Branch\, Texas\, 78070
CATEGORIES:Kids and Family,Outdoors
ATTACH;FMTTYPE=image/jpeg:https://theboernelife.com/wp-content/uploads/2026/03/honey-creek-nature-hike-at-guadalupe-river-state-park.jpg
END:VEVENT
BEGIN:VEVENT
DTSTART;TZID=America/Chicago:20260517T090000
DTEND;TZID=America/Chicago:20260517T103000
DTSTAMP:20260425T133306
CREATED:20260308T080710Z
LAST-MODIFIED:20260420T033356Z
UID:10036017-1779008400-1779013800@theboernelife.com
SUMMARY:Guided Bird Walk at Honey Creek Ranch at Guadalupe River State Park
DESCRIPTION:Bird enthusiasts can explore prime migration habitat during the Guided Bird Walk at Honey Creek Ranch\, offered on March 15\, March 29\, April 12\, April 19\, April 26\, May 3\, May 17\, and June 21 from 9 am to 10:30 am at Guadalupe River State Park in Spring Branch\, TX. Led by State Natural Area Superintendent Gilbert\, the program provides a unique opportunity to visit Honey Creek Ranch and observe the diverse bird species that pass through the area during migration season. \nThe guided walk covers approximately two miles of level terrain and is suitable for both experienced birders and those new to birdwatching. Participants will explore natural habitats while learning about the region’s bird populations and the surrounding ecosystem. \nThe program is recommended for ages 10 and older. Dogs are not permitted\, except for service animals. Participants should arrive at Honey Creek Ranch at 8:50 am\, with directions and a map provided by email three days before the event to those who register. Guests are encouraged to bring sturdy footwear\, water\, sun protection\, and binoculars. A limited number of binoculars will be available to borrow. \nAdmission is free with park entry. Park admission is $7 for adults\, and children 12 and under enter free. Visitors must check in at park headquarters at Guadalupe River State Park\, 3350 Park Road 31\, Spring Branch\, TX\, to obtain an entry permit or make a day-use reservation online at texasstateparks.reserveamerica.com. \nRegistration is required for the program. If ADA assistance is needed\, requests should be submitted at least two weeks in advance by emailing accessibility@tpwd.texas.gov. Park programs may be subject to change or cancellation due to inclement weather.
URL:https://theboernelife.com/events/guided-bird-walk-at-honey-creek-ranch-at-guadalupe-river-state-park/2026-05-17/
LOCATION:Guadalupe River State Park\, 3350 Park Road 31\, Spring Branch\, Texas\, 78070
CATEGORIES:Kids and Family,Outdoors
ATTACH;FMTTYPE=image/jpeg:https://theboernelife.com/wp-content/uploads/2026/03/guided-bird-walk-at-honey-creek-ranch-at-guadalupe-river-state-park.jpg
END:VEVENT
BEGIN:VEVENT
DTSTART;TZID=America/Chicago:20260517T100000
DTEND;TZID=America/Chicago:20260517T120000
DTSTAMP:20260425T133306
CREATED:20260420T053229Z
LAST-MODIFIED:20260420T053229Z
UID:10037769-1779012000-1779019200@theboernelife.com
SUMMARY:Floral Watercolor Wreaths at The Downtown DIY
DESCRIPTION:Floral Watercolor Wreaths offers a relaxing and beginner-friendly introduction to watercolor painting. The class will take place on Sunday\, May 17 from 10 am to 12 pm at The Downtown DIY. \nParticipants will learn foundational watercolor techniques\, including brush control and working with materials\, while creating a delicate twig wreath accented with soft\, loose florals. With step-by-step instruction and hands-on guidance\, the class is designed to be approachable for those new to watercolor as well as anyone looking to explore a creative outlet. \nAll materials are provided\, and each participant will leave with a completed watercolor artwork ready to display or gift. Admission is $49.95 per person.
URL:https://theboernelife.com/events/floral-watercolor-wreaths-at-the-downtown-diy/
LOCATION:The Downtown DIY\, 195 S Main St\, Boerne\, TX\, 78006\, United States
CATEGORIES:Arts and Culture
ATTACH;FMTTYPE=image/jpeg:https://theboernelife.com/wp-content/uploads/2026/04/floral-watercolor-wreaths-at-the-downtown-diy.jpg
END:VEVENT
BEGIN:VEVENT
DTSTART;TZID=America/Chicago:20260517T110000
DTEND;TZID=America/Chicago:20260517T140000
DTSTAMP:20260425T133306
CREATED:20260307T055943Z
LAST-MODIFIED:20260308T074518Z
UID:10035932-1779015600-1779026400@theboernelife.com
SUMMARY:Weekend Lunch Tunes at The Dodging Duck Brewhaus
DESCRIPTION:Live music accompanies lunch during Weekend Lunch Tunes at The Dodging Duck Brewhaus every Saturday and Sunday from 11 am to 2 pm in Boerne\, TX. The weekend series features Zydeco and R&B on Saturdays and classic jazz on Sundays\, creating a lively yet relaxed soundtrack for a midday meal. \nGuests can enjoy the music while dining along Cibolo Creek\, pairing the performance with house-brewed beers and items from the brewhaus menu. The event offers a laid-back way to spend a weekend afternoon with great food\, drinks\, and live entertainment. For more information\, contact The Dodging Duck Brewhaus directly.
URL:https://theboernelife.com/events/weekend-lunch-tunes-at-the-dodging-duck-brewhaus/2026-05-17/
LOCATION:The Dodging Duck Brewhaus\, 402 River Rd\, Boerne\, TX\, 78006\, United States
CATEGORIES:Food and Drink,Kids and Family,Music
ATTACH;FMTTYPE=image/jpeg:https://theboernelife.com/wp-content/uploads/2026/03/weekend-lunch-tunes-at-the-dodging-duck-brewhaus.jpg
END:VEVENT
BEGIN:VEVENT
DTSTART;TZID=America/Chicago:20260517T110000
DTEND;TZID=America/Chicago:20260517T140000
DTSTAMP:20260425T133306
CREATED:20260422T010225Z
LAST-MODIFIED:20260422T010225Z
UID:10037980-1779015600-1779026400@theboernelife.com
SUMMARY:The Best Jazz Brunch in Texas with Noah Peterson at Dodging Duck Brewhaus
DESCRIPTION:The Best Jazz Brunch in Texas with Noah Peterson offers a lively Sunday experience filled with great music\, food\, and a relaxed Hill Country atmosphere. This recurring event takes place every Sunday from 11 am to 2 pm at Dodging Duck Brewhaus in Boerne. \nGuests can enjoy live jazz performances led by Noah Peterson\, often joined by Damian Rodriguez on bass and Larry Natwick on keys\, along with occasional surprise guest musicians. The music pairs perfectly with the brewhaus setting\, where visitors can enjoy small-batch beers\, a rotating tap selection\, and a menu featuring favorites and specialty items. \nWith scenic views\, friendly service\, and a welcoming vibe\, this weekly brunch offers a consistent way to unwind and enjoy live jazz in a casual and inviting environment.
URL:https://theboernelife.com/events/the-best-jazz-brunch-in-texas-with-noah-peterson-at-dodging-duck-brewhaus/2026-05-17/
LOCATION:The Dodging Duck Brewhaus\, 402 River Rd\, Boerne\, TX\, 78006\, United States
CATEGORIES:Music
ATTACH;FMTTYPE=image/jpeg:https://theboernelife.com/wp-content/uploads/2026/04/the-best-jazz-brunch-in-texas-with-noah-peterson-at-dodging-duck-brewhaus.jpg
END:VEVENT
BEGIN:VEVENT
DTSTART;TZID=America/Chicago:20260517T140000
DTEND;TZID=America/Chicago:20260517T170000
DTSTAMP:20260425T133306
CREATED:20260421T015742Z
LAST-MODIFIED:20260421T015742Z
UID:10037840-1779026400-1779037200@theboernelife.com
SUMMARY:Sunday Live Music with Carly Jo at Free Roam Brewing Company
DESCRIPTION:Sunday Live Music with Carly Jo offers a relaxed afternoon of live entertainment at Free Roam Brewing Company. The performance will take place on Sunday\, May 17\, 2026 at 2 pm. \nGuests can enjoy Carly Jo’s live performance while spending time with friends in a laid-back brewery setting. The atmosphere provides a great way to unwind and enjoy craft beverages alongside live music.
URL:https://theboernelife.com/events/sunday-live-music-with-carly-jo-at-free-roam-brewing-company/
LOCATION:Free Roam Brewing Company\, 325 S Main Street\, Boerne\, TX\, 78006\, United States
CATEGORIES:Music
ATTACH;FMTTYPE=image/jpeg:https://theboernelife.com/wp-content/uploads/2026/04/sunday-live-music-with-carly-jo-at-free-roam-brewing-company.jpg
END:VEVENT
BEGIN:VEVENT
DTSTART;TZID=America/Chicago:20260517T173000
DTEND;TZID=America/Chicago:20260517T203000
DTSTAMP:20260425T133306
CREATED:20260307T061300Z
LAST-MODIFIED:20260307T102002Z
UID:10035394-1779039000-1779049800@theboernelife.com
SUMMARY:Live Music at The Dodging Duck Brewhaus
DESCRIPTION:Evenings at The Dodging Duck Brewhaus feature live music every Sunday\, Thursday\, Friday\, and Saturday from 5:30 pm to 8:30 pm in Boerne\, TX. Set on the patio across from Cibolo Creek\, the performances provide a relaxed soundtrack for dining and gathering in the heart of the Hill Country. \nGuests can order a favorite dish from the brewhaus menu and pair it with a cold beer while enjoying live entertainment in the outdoor setting. The regular lineup of musicians creates an inviting atmosphere for an easygoing night out with friends or family. For more information about upcoming performers\, contact The Dodging Duck Brewhaus directly.
URL:https://theboernelife.com/events/live-music-at-the-dodging-duck-brewhaus/2026-05-17/
LOCATION:The Dodging Duck Brewhaus\, 402 River Rd\, Boerne\, TX\, 78006\, United States
CATEGORIES:Music
ATTACH;FMTTYPE=image/jpeg:https://theboernelife.com/wp-content/uploads/2026/03/live-music-at-the-dodging-duck-brewhaus.jpg
END:VEVENT
END:VCALENDAR