BEGIN:VCALENDAR
VERSION:2.0
PRODID:-//The Boerne Life - ECPv6.15.15//NONSGML v1.0//EN
CALSCALE:GREGORIAN
METHOD:PUBLISH
X-WR-CALNAME:The Boerne Life
X-ORIGINAL-URL:https://theboernelife.com
X-WR-CALDESC:Events for The Boerne Life
REFRESH-INTERVAL;VALUE=DURATION:PT1H
X-Robots-Tag:noindex
X-PUBLISHED-TTL:PT1H
BEGIN:VTIMEZONE
TZID:America/Chicago
BEGIN:DAYLIGHT
TZOFFSETFROM:-0600
TZOFFSETTO:-0500
TZNAME:CDT
DTSTART:20250309T080000
END:DAYLIGHT
BEGIN:STANDARD
TZOFFSETFROM:-0500
TZOFFSETTO:-0600
TZNAME:CST
DTSTART:20251102T070000
END:STANDARD
BEGIN:DAYLIGHT
TZOFFSETFROM:-0600
TZOFFSETTO:-0500
TZNAME:CDT
DTSTART:20260308T080000
END:DAYLIGHT
BEGIN:STANDARD
TZOFFSETFROM:-0500
TZOFFSETTO:-0600
TZNAME:CST
DTSTART:20261101T070000
END:STANDARD
BEGIN:DAYLIGHT
TZOFFSETFROM:-0600
TZOFFSETTO:-0500
TZNAME:CDT
DTSTART:20270314T080000
END:DAYLIGHT
BEGIN:STANDARD
TZOFFSETFROM:-0500
TZOFFSETTO:-0600
TZNAME:CST
DTSTART:20271107T070000
END:STANDARD
END:VTIMEZONE
BEGIN:VEVENT
DTSTART;VALUE=DATE:20260518
DTEND;VALUE=DATE:20260519
DTSTAMP:20260422T030337
CREATED:20260414T033236Z
LAST-MODIFIED:20260414T033935Z
UID:10037347-1779062400-1779148799@theboernelife.com
SUMMARY:Military Monday Sporting Clays at Joshua Creek Ranch
DESCRIPTION:Military Monday Sporting Clays at Joshua Creek Ranch is part of the ranch’s Summer Days sporting clays program\, offering a special discount for those who serve the community. Beginning April 13\, the program will be available on Mondays year-round at Joshua Creek Ranch. \nActive military members\, veterans\, and first responders can receive a 15 percent discount on sporting clays\, providing an opportunity to enjoy the course at a reduced rate. Set in the scenic Hill Country\, the experience combines outdoor recreation with a welcoming environment for participants of all skill levels. \nValid credentials are required to receive the discount.
URL:https://theboernelife.com/events/military-monday-sporting-clays-at-joshua-creek-ranch/2026-05-18/
LOCATION:Joshua Creek Ranch\, 132 Cravey Rd\, Boerne\, TX\, 78006\, United States
CATEGORIES:Gaming,Sports
END:VEVENT
BEGIN:VEVENT
DTSTART;TZID=America/Chicago:20260518T100000
DTEND;TZID=America/Chicago:20260518T110000
DTSTAMP:20260422T030337
CREATED:20260307T061921Z
LAST-MODIFIED:20260308T081242Z
UID:10036027-1779098400-1779102000@theboernelife.com
SUMMARY:Tech Time: Log In with Leslie at Patrick Heath Public Library
DESCRIPTION:Technology help is available during Tech Time: Log In with Leslie every Monday from 10 am to 11 am at Patrick Heath Public Library in Boerne\, TX. Leslie Kirk will be in the lobby to assist visitors with everyday technology questions and basic digital tasks. \nThe session offers a relaxed opportunity to receive help with devices\, apps\, and common online tools. This drop-in program is open to anyone needing assistance\, and no registration is required. Walk-ins are welcome. For more information\, contact Patrick Heath Public Library directly.
URL:https://theboernelife.com/events/tech-time-log-in-with-leslie-at-patrick-heath-public-library/2026-05-18/
LOCATION:Patrick Heath Public Library\, 451 N. Main Street\, Boerne\, TX\, 78006\, United States
CATEGORIES:General
ATTACH;FMTTYPE=image/jpeg:https://theboernelife.com/wp-content/uploads/2026/03/tech-time-log-in-with-leslie-at-patrick-heath-public-library.jpg
END:VEVENT
BEGIN:VEVENT
DTSTART;TZID=America/Chicago:20260518T110000
DTEND;TZID=America/Chicago:20260518T130000
DTSTAMP:20260422T030337
CREATED:20260420T053707Z
LAST-MODIFIED:20260420T053707Z
UID:10037770-1779102000-1779109200@theboernelife.com
SUMMARY:Broken & Gathered: Mosaic Tray Workshop at The Downtown DIY
DESCRIPTION:Broken & Gathered: Mosaic Tray Workshop offers a hands-on creative experience focused on transforming repurposed materials into a unique piece of home décor. The workshop will take place on Monday\, May 18 from 11 am to 1 pm at The Downtown DIY. \nParticipants will design and create an 8×12 wooden catch-all tray using a curated selection of thrifted ceramic plates. The class introduces the basics of mosaic design\, including arranging patterns\, adhering pieces\, and creating a cohesive finished look. Each tray reflects a mix of textures\, colors\, and patterns\, resulting in a one-of-a-kind piece. \nThis beginner-friendly workshop is ideal for anyone interested in creative\, vintage-inspired projects. All materials are provided\, including the tray base\, ceramic pieces\, and tools. \nAdmission is $69.95 per person.
URL:https://theboernelife.com/events/broken-gathered-mosaic-tray-workshop-at-the-downtown-diy/
LOCATION:The Downtown DIY\, 195 S Main St\, Boerne\, TX\, 78006\, United States
CATEGORIES:Arts and Culture
ATTACH;FMTTYPE=image/jpeg:https://theboernelife.com/wp-content/uploads/2026/04/broken-and-gathered-mosaic-tray-workshop-at-the-downtown-diy.jpg
END:VEVENT
BEGIN:VEVENT
DTSTART;TZID=America/Chicago:20260518T120000
DTEND;TZID=America/Chicago:20260518T130000
DTSTAMP:20260422T030337
CREATED:20260421T032445Z
LAST-MODIFIED:20260421T032445Z
UID:10037933-1779105600-1779109200@theboernelife.com
SUMMARY:Reality Readers Discussion Group – Special Date at Patrick Heath Public Library
DESCRIPTION:Reality Readers Discussion Group – Special Date offers a welcoming space for those who enjoy reading and discussing nonfiction topics such as history\, biographies\, and current events. The meeting will take place on May 18 from 12 pm to 1 pm at the Patrick Heath Public Library. \nFacilitated by Caren Creech\, this monthly discussion group invites participants to share insights and perspectives on a selected book. The featured title for this session is “Notes from a Small Island” by Bill Bryson. \nThis program is free and open to the public\, and no registration is required.
URL:https://theboernelife.com/events/reality-readers-discussion-group-special-date-at-patrick-heath-public-library/
LOCATION:Patrick Heath Public Library\, 451 N. Main Street\, Boerne\, TX\, 78006\, United States
CATEGORIES:Arts and Culture
ATTACH;FMTTYPE=image/jpeg:https://theboernelife.com/wp-content/uploads/2026/04/reality-readers-discussion-group-at-patrick-heath-public-library.jpg
END:VEVENT
BEGIN:VEVENT
DTSTART;TZID=America/Chicago:20260518T153000
DTEND;TZID=America/Chicago:20260518T183000
DTSTAMP:20260422T030337
CREATED:20260422T073652Z
LAST-MODIFIED:20260422T073652Z
UID:10038052-1779118200-1779129000@theboernelife.com
SUMMARY:Women\, Wine\, and Wealth at 7 Upper Balcones Rd
DESCRIPTION:Women\, Wine\, and Wealth offers a relaxed and informative gathering focused on financial education for both individuals and business owners. The event takes place on the last Monday of each month at 7 Upper Balcones Rd\, Boerne\, TX 78006. \nEach session covers a variety of financial topics\, providing practical insights and guidance in an approachable setting. Guests can enjoy a casual atmosphere while learning strategies related to personal finance\, business planning\, and wealth building. \nThis recurring event creates an opportunity to connect\, learn\, and engage in meaningful conversations around financial well-being.
URL:https://theboernelife.com/events/women-wine-and-wealth-at-7-upper-balcones-rd/2026-05-18/
LOCATION:7 Upper Balcones Rd\, Boerne\, TX 78006\, 7 Upper Balcones Rd\, Boerne\, TX\, 78006\, United States
CATEGORIES:Women
ATTACH;FMTTYPE=image/jpeg:https://theboernelife.com/wp-content/uploads/2026/04/women-wine-and-wealth-at-7-upper-balcones-rd.jpg
END:VEVENT
BEGIN:VEVENT
DTSTART;TZID=America/Chicago:20260518T180000
DTEND;TZID=America/Chicago:20260518T210000
DTSTAMP:20260422T030337
CREATED:20251003T105014Z
LAST-MODIFIED:20260225T211537Z
UID:10035007-1779127200-1779138000@theboernelife.com
SUMMARY:Live Music at Valeria Restaurant
DESCRIPTION:Live music with guitar and wonderful vocals by David Selbo every Monday evening from 6-9 pm ranging in style form old school to contemporary music done exquisitely by a true master of music.
URL:https://theboernelife.com/events/live-music-at-valeria-restaurant-2/2026-05-18/
LOCATION:Valeria Restaurant\, 109 Waterview Pkwy\, Ste 105\, Boerne\, TX\, 78006\, United States
CATEGORIES:Music
ATTACH;FMTTYPE=image/jpeg:https://theboernelife.com/wp-content/uploads/2025/09/IMG_9317-copy-scaled.jpg
END:VEVENT
END:VCALENDAR