BEGIN:VCALENDAR
VERSION:2.0
PRODID:-//The Boerne Life - ECPv6.15.15//NONSGML v1.0//EN
CALSCALE:GREGORIAN
METHOD:PUBLISH
X-ORIGINAL-URL:https://theboernelife.com
X-WR-CALDESC:Events for The Boerne Life
REFRESH-INTERVAL;VALUE=DURATION:PT1H
X-Robots-Tag:noindex
X-PUBLISHED-TTL:PT1H
BEGIN:VTIMEZONE
TZID:America/Chicago
BEGIN:DAYLIGHT
TZOFFSETFROM:-0600
TZOFFSETTO:-0500
TZNAME:CDT
DTSTART:20250309T080000
END:DAYLIGHT
BEGIN:STANDARD
TZOFFSETFROM:-0500
TZOFFSETTO:-0600
TZNAME:CST
DTSTART:20251102T070000
END:STANDARD
BEGIN:DAYLIGHT
TZOFFSETFROM:-0600
TZOFFSETTO:-0500
TZNAME:CDT
DTSTART:20260308T080000
END:DAYLIGHT
BEGIN:STANDARD
TZOFFSETFROM:-0500
TZOFFSETTO:-0600
TZNAME:CST
DTSTART:20261101T070000
END:STANDARD
BEGIN:DAYLIGHT
TZOFFSETFROM:-0600
TZOFFSETTO:-0500
TZNAME:CDT
DTSTART:20270314T080000
END:DAYLIGHT
BEGIN:STANDARD
TZOFFSETFROM:-0500
TZOFFSETTO:-0600
TZNAME:CST
DTSTART:20271107T070000
END:STANDARD
END:VTIMEZONE
BEGIN:VEVENT
DTSTART;VALUE=DATE:20260519
DTEND;VALUE=DATE:20260520
DTSTAMP:20260422T011314
CREATED:20260414T034451Z
LAST-MODIFIED:20260414T034822Z
UID:10037385-1779148800-1779235199@theboernelife.com
SUMMARY:Two For Tuesday Sporting Clays at Joshua Creek Ranch
DESCRIPTION:Two For Tuesday Sporting Clays at Joshua Creek Ranch is part of the ranch’s Summer Days program\, offering a great opportunity to enjoy the course with a friend. The promotion runs on Tuesdays from April through September at Joshua Creek Ranch. \nGuests who purchase 100 sporting clay targets will receive an additional 100 targets free\, making it ideal for pairs looking to spend time outdoors together. Both participants must be present and shoot on the same Tuesday\, and the offer applies only to 100-target rounds\, with a limit of one free round per Tuesday. \nSet against the scenic backdrop of the Hill Country\, this weekly special provides a fun and social way to experience sporting clays throughout the summer season.
URL:https://theboernelife.com/events/two-for-tuesday-sporting-clays-at-joshua-creek-ranch/2026-05-19/
LOCATION:Joshua Creek Ranch\, 132 Cravey Rd\, Boerne\, TX\, 78006\, United States
CATEGORIES:Gaming
ATTACH;FMTTYPE=image/jpeg:https://theboernelife.com/wp-content/uploads/2026/04/summer-days-sporting-clays-at-joshua-creek-ranch.jpg
END:VEVENT
BEGIN:VEVENT
DTSTART;TZID=America/Chicago:20260519T090000
DTEND;TZID=America/Chicago:20260519T100000
DTSTAMP:20260422T011314
CREATED:20260422T034351Z
LAST-MODIFIED:20260422T034351Z
UID:10038031-1779181200-1779184800@theboernelife.com
SUMMARY:The Marketing Foundations Series for Small Businesses at Greater Boerne Chamber of Commerce
DESCRIPTION:The Marketing Foundations Series for Small Businesses is a three-part workshop series designed to help entrepreneurs build strong\, effective marketing strategies. The sessions will take place on May 5\, May 12\, and May 19 from 9 am to 10 am at the Greater Boerne Chamber of Commerce\, 121 S Main St\, Boerne\, TX 78006. \nLed by Natalie Alves of Nat Marie Design in collaboration with The UTSA Small Business Development Center\, the series covers essential topics for growing a business. The first session on May 5 focuses on branding and building a cohesive identity that establishes trust. The second session on May 12 explores how to create a website that clearly communicates services and encourages engagement. The final session on May 19 dives into social media and content strategy\, helping attendees develop consistent and purposeful online presence. \nRegistration is required due to limited space. Pricing is $35 for members for all three sessions or $15 per session\, and $90 for non-members for all sessions or $35 per session. The registration fee is non-refundable. Breakfast and coffee will be provided\, and attendees are encouraged to bring materials for note-taking. \nFor more information or to register\, visit https://business.boerne.org/events/details/workshop-series-the-marketing-foundations-series-for-small-businesses-32298 or email steely@boerne.org.
URL:https://theboernelife.com/events/the-marketing-foundations-series-for-small-businesses-at-greater-boerne-chamber-of-commerce/2026-05-19/
LOCATION:Greater Boerne Chamber of Commerce\, 121 S Main St\, Boerne\, TX\, 78006\, United States
CATEGORIES:Business and Networking
ATTACH;FMTTYPE=image/jpeg:https://theboernelife.com/wp-content/uploads/2026/04/the-marketing-foundations-series-for-small-businesses-at-greater-boerne-chamber-of-commerce.jpg
END:VEVENT
BEGIN:VEVENT
DTSTART;TZID=America/Chicago:20260519T090000
DTEND;TZID=America/Chicago:20260519T120000
DTSTAMP:20260422T011314
CREATED:20260309T063400Z
LAST-MODIFIED:20260309T063400Z
UID:10036665-1779181200-1779192000@theboernelife.com
SUMMARY:Family Information Meeting at Crestmont Christian Preparatory School
DESCRIPTION:Families interested in learning more about Crestmont Christian Preparatory School are invited to attend a Family Information Meeting at 631 School Street\, Boerne\, TX 78006. These sessions offer an opportunity to meet the school’s leadership team and learn about its approach to education for students in grades K–12. \nCrestmont Christian Preparatory School uses the University-Model®\, a program designed to combine rigorous academics with strong Christian values while partnering with families in the educational journey. The meetings provide an overview of the school’s curriculum\, culture\, and admissions process. \nUpcoming meetings will be held at 9 am on the following dates: March 26\, April 16\, May 19\, and June 4\, 2026. Walk-ins are welcome\, and families can also learn more or register in advance at www.crestmontprep.org.
URL:https://theboernelife.com/events/family-information-meeting-at-crestmont-christian-preparatory-school/2026-05-19/
LOCATION:Crestmont Christian Preparatory School\, 631 School Street\, Boerne\, TX\, 78006\, United States
CATEGORIES:Kids and Family
ATTACH;FMTTYPE=image/jpeg:https://theboernelife.com/wp-content/uploads/2026/03/family-information-meeting-at-crestmont-christian-preparatory-school.jpg
END:VEVENT
BEGIN:VEVENT
DTSTART;TZID=America/Chicago:20260519T100000
DTEND;TZID=America/Chicago:20260519T110000
DTSTAMP:20260422T011314
CREATED:20260307T063538Z
LAST-MODIFIED:20260308T081436Z
UID:10036069-1779184800-1779188400@theboernelife.com
SUMMARY:Tech Time: Teacup Techie at Patrick Heath Public Library
DESCRIPTION:Technology help is available during Tech Time: Teacup Techie every Tuesday from 10 am to 11 am at Patrick Heath Public Library in Boerne\, TX. Alicia Owens\, also known as Teacup Techie\, will be in the lobby to assist visitors with everyday technology questions. \nParticipants can receive help with devices\, apps\, and common digital tasks in a relaxed\, supportive setting. The program is offered on a walk-in basis\, and no registration is required. For more information\, contact Patrick Heath Public Library directly.
URL:https://theboernelife.com/events/tech-time-teacup-techie-at-patrick-heath-public-library/2026-05-19/
LOCATION:Patrick Heath Public Library\, 451 N. Main Street\, Boerne\, TX\, 78006\, United States
CATEGORIES:General
ATTACH;FMTTYPE=image/jpeg:https://theboernelife.com/wp-content/uploads/2026/03/tech-time-teacup-techie-at-patrick-heath-public-library.jpg
END:VEVENT
BEGIN:VEVENT
DTSTART;TZID=America/Chicago:20260519T103000
DTEND;TZID=America/Chicago:20260519T123000
DTSTAMP:20260422T011314
CREATED:20260421T033008Z
LAST-MODIFIED:20260421T033008Z
UID:10037934-1779186600-1779193800@theboernelife.com
SUMMARY:Mimosas with Dr. McRae at The Dienger Trading Co.
DESCRIPTION:Mimosas with Dr. McRae offers a relaxed and informative brunch experience in a charming downtown setting. The event will take place on May 19 from 10:30 am to 12:30 pm at The Dienger Trading Co. \nGuests can enjoy a selection of brunch bites and bottomless mimosas while hearing skincare insights from Dr. McRae. The event combines a casual dining atmosphere with an opportunity to learn more about skincare in a social and welcoming environment. \nAdmission is $45 per person and includes brunch\, mimosas\, and the full experience.
URL:https://theboernelife.com/events/mimosas-with-dr-mcrae-at-the-dienger-trading-co/
LOCATION:The Dienger Trading Co.\, 210 N Main St\, Boerne\, TX\, 78006\, United States
CATEGORIES:Food and Drink
ATTACH;FMTTYPE=image/jpeg:https://theboernelife.com/wp-content/uploads/2026/04/mimosas-with-dr-mcrae-at-the-dienger-trading-co.jpg
END:VEVENT
BEGIN:VEVENT
DTSTART;TZID=America/Chicago:20260519T130000
DTEND;TZID=America/Chicago:20260519T180000
DTSTAMP:20260422T011314
CREATED:20260307T064058Z
LAST-MODIFIED:20260307T094229Z
UID:10035243-1779195600-1779213600@theboernelife.com
SUMMARY:Public Memory Lab Open at Patrick Heath Public Library
DESCRIPTION:The Public Memory Lab at Patrick Heath Public Library is open to the community every Tuesday and Thursday from 1 pm to 6 pm in Boerne\, TX. The lab provides access to specialized equipment that allows visitors to digitize personal media such as home VHS tapes\, photographs\, negatives\, and other cherished materials. \nThis resource helps preserve family memories by converting physical media into digital formats that can be easily stored and shared. Visitors interested in attending an orientation should email PHPL Memory Lab Coordinator Sarah Habeeb at shabeeb@boernelibrary.org to schedule an appointment. \nAdditional details about available equipment and services can be found on the Memory Lab webpage: Memory Lab: Maker Space of Memories | Boerne\, TX – Official Website.
URL:https://theboernelife.com/events/public-memory-lab-open-at-patrick-heath-public-library/2026-05-19/
LOCATION:Patrick Heath Public Library\, 451 N. Main Street\, Boerne\, TX\, 78006\, United States
CATEGORIES:Kids and Family
ATTACH;FMTTYPE=image/jpeg:https://theboernelife.com/wp-content/uploads/2026/03/public-memory-lab-open-at-patrick-heath-public-library.jpg
END:VEVENT
BEGIN:VEVENT
DTSTART;TZID=America/Chicago:20260519T140000
DTEND;TZID=America/Chicago:20260519T150000
DTSTAMP:20260422T011314
CREATED:20260309T081908Z
LAST-MODIFIED:20260309T081908Z
UID:10036731-1779199200-1779202800@theboernelife.com
SUMMARY:Monthly Coalition Meeting at Patrick Heath Public Library
DESCRIPTION:Community members are invited to attend the Monthly Coalition Meeting on the third Tuesday of each month from 2 pm to 3 pm at Patrick Heath Public Library in Boerne\, TX. Upcoming meeting dates include March 17\, April 21\, May 19\, June 16\, and July 21. \nThe meeting introduces Phil Taylor\, the new Kendall County Community Coalition Coordinator\, and brings together participants working to support community health and awareness initiatives. The coalition will collaborate with the Kendall County Substance Use Subgroup to discuss ongoing efforts and opportunities for community engagement. \nThe gathering provides a space for residents\, partners\, and organizations to connect\, share information\, and contribute to discussions surrounding substance use awareness and community support resources. For more information\, contact Patrick Heath Public Library directly.
URL:https://theboernelife.com/events/monthly-coalition-meeting-at-patrick-heath-public-library/2026-05-19/
LOCATION:Patrick Heath Public Library\, 451 N. Main Street\, Boerne\, TX\, 78006\, United States
CATEGORIES:General
ATTACH;FMTTYPE=image/jpeg:https://theboernelife.com/wp-content/uploads/2026/03/monthly-coalition-meeting-at-patrick-heath-public-library.jpg
END:VEVENT
BEGIN:VEVENT
DTSTART;TZID=America/Chicago:20260519T153000
DTEND;TZID=America/Chicago:20260519T160000
DTSTAMP:20260422T011314
CREATED:20260118T205632Z
LAST-MODIFIED:20260307T220754Z
UID:10034621-1779204600-1779206400@theboernelife.com
SUMMARY:Paws 4 Reading
DESCRIPTION:Go to the library after school and share a book with a trained\, certified therapy dog! Starts at 3:30 PM.
URL:https://theboernelife.com/events/paws-4-reading-2-2-2/2026-05-19/
LOCATION:Patrick Heath Public Library\, 451 N. Main Street\, Boerne\, TX\, 78006\, United States
CATEGORIES:Kids and Family
ATTACH;FMTTYPE=image/jpeg:https://theboernelife.com/wp-content/uploads/2024/03/Boerne-Library-2.jpg
END:VEVENT
BEGIN:VEVENT
DTSTART;TZID=America/Chicago:20260519T160000
DTEND;TZID=America/Chicago:20260519T190000
DTSTAMP:20260422T011314
CREATED:20251118T133620Z
LAST-MODIFIED:20260401T100721Z
UID:10037200-1779206400-1779217200@theboernelife.com
SUMMARY:Boerne Farmers Market
DESCRIPTION:The Boerne Farmers Market is a hub for locally-sourced produce\, artisan goods\, and prepared foods\, fostering a community that values sustainability and healthy living. It’s a place where local farmers\, homesteaders\, ranchers\, and artisans from the Texas Hill Country come together\, offering more than just shopping but a vibrant community event to explore and enjoy. \nAnd on the first Tuesday of every month\, kids can set up to sell as well! \n 
URL:https://theboernelife.com/events/boerne-farmers-market-2-2-3-3/2026-05-19/
LOCATION:Boerne Farmers Market\, 402 East Blanco Road\, Boerne\, TX\, 78006\, United States
CATEGORIES:Food and Drink,Outdoors
ATTACH;FMTTYPE=image/jpeg:https://theboernelife.com/wp-content/uploads/2024/04/Boerne-Farmers-Market.jpg
END:VEVENT
BEGIN:VEVENT
DTSTART;TZID=America/Chicago:20260519T170000
DTEND;TZID=America/Chicago:20260519T200000
DTSTAMP:20260422T011314
CREATED:20260307T084832Z
LAST-MODIFIED:20260308T082609Z
UID:10036165-1779210000-1779220800@theboernelife.com
SUMMARY:Live Music at Richter Cork & Keg
DESCRIPTION:Evenings at Richter Cork & Keg feature live music and drink specials every Tuesday and Wednesday from 5 pm to 8 pm in Boerne\, TX. The weekly performances offer a relaxed setting where guests can unwind after the day while enjoying live entertainment in the heart of downtown. \nVisitors can gather with friends\, enjoy a glass of wine or a favorite drink\, and listen to local musicians in the venue’s welcoming atmosphere. The midweek event provides an easygoing way to spend the evening with good music\, great company\, and drink specials. For more information\, contact Richter Cork & Keg directly.
URL:https://theboernelife.com/events/live-music-at-richter-cork-keg/2026-05-19/
LOCATION:Richter Cork & Keg\, 153 S Main St\, Boerne\, TX\, 78006\, United States
CATEGORIES:Music
ATTACH;FMTTYPE=image/jpeg:https://theboernelife.com/wp-content/uploads/2026/03/live-music-at-richter-cork-and-keg.jpg
END:VEVENT
BEGIN:VEVENT
DTSTART;TZID=America/Chicago:20260519T180000
DTEND;TZID=America/Chicago:20260519T200000
DTSTAMP:20260422T011314
CREATED:20240208T110320Z
LAST-MODIFIED:20251123T123748Z
UID:10000179-1779213600-1779220800@theboernelife.com
SUMMARY:Trivia Night at Free Roam
DESCRIPTION:Head over to Free Roam Brewing Company for an enthralling evening of live trivia\, brought to you by Challenge Entertainment – Austin & San Antonio Trivia. These engaging trivia nights are held every Tuesday\, beginning at 6:00 PM\, and offer a fun-packed 2-hour experience that’s open to the public. \nEvent Highlights: \n\nWeekly Trivia Nights: Set aside your Tuesdays for the ultimate quiz experience that challenges and entertains.\nFood Truck Delights: A food truck will be on-site\, serving up delicious eats to keep your brain fueled.\nPrizes Galore: Top teams stand a chance to win exciting prizes every week\, making every Tuesday a potentially rewarding experience.\nComplimentary Participation: There’s no cost to join in the fun\, making it a great\, budget-friendly night out.\nOpen to All: Whether a seasoned quiz master or a casual participant\, this event promises a great time for everyone in Boerne.\n\nThe trivia night at Free Roam Brewing Company is a perfect blend of competition\, camaraderie\, and local culture. With no entry fee and plenty of prizes up for grabs\, it’s an inviting scene for trivia buffs\, foodies\, and anyone looking for a memorable night out in Boerne. Join the community and prove you’re a know-it-all at San Antonio Trivia by Challenge Entertainment. Don’t miss out on the fun!
URL:https://theboernelife.com/events/trivia-night-at-free-roam/2026-05-19/
LOCATION:Free Roam Brewing Company\, 325 S Main Street\, Boerne\, TX\, 78006\, United States
CATEGORIES:General
ATTACH;FMTTYPE=image/png:https://theboernelife.com/wp-content/uploads/2024/02/Free-Roam-Trivia.png
END:VEVENT
BEGIN:VEVENT
DTSTART;TZID=America/Chicago:20260519T190000
DTEND;TZID=America/Chicago:20260519T210000
DTSTAMP:20260422T011314
CREATED:20260121T064015Z
LAST-MODIFIED:20260401T103446Z
UID:10037234-1779217200-1779224400@theboernelife.com
SUMMARY:Art AfterHours – Stained Glass at Hill Country Council for the Arts
DESCRIPTION:Art AfterHours – Stained Glass offers a two-part workshop that introduces participants to the timeless art of stained glass design and fabrication. This immersive class explores working with richly colored glass tinted with metallic salts\, guiding participants through the full process of creating an original stained glass piece. The experience is well suited for both beginners and those with prior art experience\, providing a balance of technical instruction and creative expression. \nThe workshop takes place over two mornings on May 19 and May 26 from 7 pm to 9 pm at the Hill Country Council for the Arts\, located at 102 City Park Rd.\, Boerne\, TX 78006. During the first session\, participants will select a design and learn safe glass-cutting techniques. The second session focuses on copper foiling\, soldering\, and finishing details to complete the stained glass artwork. \nThe cost for the two-part series is $70 and includes all materials needed to complete the project. This class offers a rare opportunity to explore a luminous art form while creating a finished piece to take home.
URL:https://theboernelife.com/events/art-afterhours-stained-glass-at-hill-country-council-for-the-arts/2026-05-19/
LOCATION:Hill Country Council for the Arts\, 102 City Park Rd\, Boerne\, TX\, 78006\, United States
CATEGORIES:Arts and Culture
ATTACH;FMTTYPE=image/jpeg:https://theboernelife.com/wp-content/uploads/2026/01/art-afterhours-stained-glass-at-hill-country-council-for-the-arts.jpg
END:VEVENT
BEGIN:VEVENT
DTSTART;TZID=America/Chicago:20260519T190000
DTEND;TZID=America/Chicago:20260519T230000
DTSTAMP:20260422T011314
CREATED:20240214T102046Z
LAST-MODIFIED:20241222T133003Z
UID:10003914-1779217200-1779231600@theboernelife.com
SUMMARY:Karaoke at Drink Texas Boerne
DESCRIPTION:Come out for karaoke at 7pm and enjoy happy hour until 9pm. Cold beer\, Texas cocktails\, and friendly bartenders right off the freeway!
URL:https://theboernelife.com/events/karaoke-at-drink-texas-boerne/2026-05-19/
LOCATION:Drink Texas Boerne\, 31138 I-10\, Boerne\, TX\, 78006\, United States
CATEGORIES:Music
ATTACH;FMTTYPE=image/png:https://theboernelife.com/wp-content/uploads/2024/02/Drink-Texas-Boerne-Logo.png
END:VEVENT
END:VCALENDAR