BEGIN:VCALENDAR
VERSION:2.0
PRODID:-//The Boerne Life - ECPv6.15.15//NONSGML v1.0//EN
CALSCALE:GREGORIAN
METHOD:PUBLISH
X-ORIGINAL-URL:https://theboernelife.com
X-WR-CALDESC:Events for The Boerne Life
REFRESH-INTERVAL;VALUE=DURATION:PT1H
X-Robots-Tag:noindex
X-PUBLISHED-TTL:PT1H
BEGIN:VTIMEZONE
TZID:America/Chicago
BEGIN:DAYLIGHT
TZOFFSETFROM:-0600
TZOFFSETTO:-0500
TZNAME:CDT
DTSTART:20250309T080000
END:DAYLIGHT
BEGIN:STANDARD
TZOFFSETFROM:-0500
TZOFFSETTO:-0600
TZNAME:CST
DTSTART:20251102T070000
END:STANDARD
BEGIN:DAYLIGHT
TZOFFSETFROM:-0600
TZOFFSETTO:-0500
TZNAME:CDT
DTSTART:20260308T080000
END:DAYLIGHT
BEGIN:STANDARD
TZOFFSETFROM:-0500
TZOFFSETTO:-0600
TZNAME:CST
DTSTART:20261101T070000
END:STANDARD
BEGIN:DAYLIGHT
TZOFFSETFROM:-0600
TZOFFSETTO:-0500
TZNAME:CDT
DTSTART:20270314T080000
END:DAYLIGHT
BEGIN:STANDARD
TZOFFSETFROM:-0500
TZOFFSETTO:-0600
TZNAME:CST
DTSTART:20271107T070000
END:STANDARD
END:VTIMEZONE
BEGIN:VEVENT
DTSTART;TZID=America/Chicago:20260414T103000
DTEND;TZID=America/Chicago:20260414T123000
DTSTAMP:20260420T215258
CREATED:20260401T100604Z
LAST-MODIFIED:20260401T100604Z
UID:10037193-1776162600-1776169800@theboernelife.com
SUMMARY:Strawberry Social Brunch at The Dienger Trading Co.
DESCRIPTION:A festive spring gathering takes place during the Strawberry Social Brunch on April 14 from 10:30 am to 12:30 pm at The Dienger Trading Co.\, 210 N Main St.\, Boerne\, TX 78006. \nThis seasonal brunch experience combines food\, florals\, and celebration\, featuring a guided floral arrangement class alongside a brunch menu and bottomless mimosas. Guests will create their own fresh arrangement while enjoying a relaxed and charming atmosphere. \nThe event offers a creative and social way to welcome the season\, making it a great outing for friends or a special daytime experience. \nTickets are $45 per person and include brunch\, unlimited mimosas\, and all floral materials. For more information or to reserve a spot\, contact The Dienger Trading Co. directly.
URL:https://theboernelife.com/events/strawberry-social-brunch-at-the-dienger-trading-co/
LOCATION:The Dienger\, 210 N Main St\, Boerne\, TX\, 78006\, United States
CATEGORIES:Food and Drink
ATTACH;FMTTYPE=image/jpeg:https://theboernelife.com/wp-content/uploads/2026/04/strawberry-social-brunch-at-the-dienger-trading-co.jpg
END:VEVENT
BEGIN:VEVENT
DTSTART;TZID=America/Chicago:20260414T160000
DTEND;TZID=America/Chicago:20260414T190000
DTSTAMP:20260420T215258
CREATED:20251118T133620Z
LAST-MODIFIED:20260401T100721Z
UID:10037195-1776182400-1776193200@theboernelife.com
SUMMARY:Boerne Farmers Market
DESCRIPTION:The Boerne Farmers Market is a hub for locally-sourced produce\, artisan goods\, and prepared foods\, fostering a community that values sustainability and healthy living. It’s a place where local farmers\, homesteaders\, ranchers\, and artisans from the Texas Hill Country come together\, offering more than just shopping but a vibrant community event to explore and enjoy. \nAnd on the first Tuesday of every month\, kids can set up to sell as well! \n 
URL:https://theboernelife.com/events/boerne-farmers-market-2-2-3-3/2026-04-14/
LOCATION:Boerne Farmers Market\, 402 East Blanco Road\, Boerne\, TX\, 78006\, United States
CATEGORIES:Food and Drink,Outdoors
ATTACH;FMTTYPE=image/jpeg:https://theboernelife.com/wp-content/uploads/2024/04/Boerne-Farmers-Market.jpg
END:VEVENT
END:VCALENDAR