BEGIN:VCALENDAR
VERSION:2.0
PRODID:-//The Boerne Life - ECPv6.15.15//NONSGML v1.0//EN
CALSCALE:GREGORIAN
METHOD:PUBLISH
X-ORIGINAL-URL:https://theboernelife.com
X-WR-CALDESC:Events for The Boerne Life
REFRESH-INTERVAL;VALUE=DURATION:PT1H
X-Robots-Tag:noindex
X-PUBLISHED-TTL:PT1H
BEGIN:VTIMEZONE
TZID:America/Chicago
BEGIN:DAYLIGHT
TZOFFSETFROM:-0600
TZOFFSETTO:-0500
TZNAME:CDT
DTSTART:20250309T080000
END:DAYLIGHT
BEGIN:STANDARD
TZOFFSETFROM:-0500
TZOFFSETTO:-0600
TZNAME:CST
DTSTART:20251102T070000
END:STANDARD
BEGIN:DAYLIGHT
TZOFFSETFROM:-0600
TZOFFSETTO:-0500
TZNAME:CDT
DTSTART:20260308T080000
END:DAYLIGHT
BEGIN:STANDARD
TZOFFSETFROM:-0500
TZOFFSETTO:-0600
TZNAME:CST
DTSTART:20261101T070000
END:STANDARD
BEGIN:DAYLIGHT
TZOFFSETFROM:-0600
TZOFFSETTO:-0500
TZNAME:CDT
DTSTART:20270314T080000
END:DAYLIGHT
BEGIN:STANDARD
TZOFFSETFROM:-0500
TZOFFSETTO:-0600
TZNAME:CST
DTSTART:20271107T070000
END:STANDARD
END:VTIMEZONE
BEGIN:VEVENT
DTSTART;TZID=America/Chicago:20260127T160000
DTEND;TZID=America/Chicago:20260127T190000
DTSTAMP:20260423T032514
CREATED:20251118T133620Z
LAST-MODIFIED:20260401T100721Z
UID:10033673-1769529600-1769540400@theboernelife.com
SUMMARY:Boerne Farmers Market
DESCRIPTION:The Boerne Farmers Market is a hub for locally-sourced produce\, artisan goods\, and prepared foods\, fostering a community that values sustainability and healthy living. It’s a place where local farmers\, homesteaders\, ranchers\, and artisans from the Texas Hill Country come together\, offering more than just shopping but a vibrant community event to explore and enjoy. \nAnd on the first Tuesday of every month\, kids can set up to sell as well! \n 
URL:https://theboernelife.com/events/boerne-farmers-market-2-2-3-3/2026-01-27/
LOCATION:Boerne Farmers Market\, 402 East Blanco Road\, Boerne\, TX\, 78006\, United States
CATEGORIES:Food and Drink,Outdoors
ATTACH;FMTTYPE=image/jpeg:https://theboernelife.com/wp-content/uploads/2024/04/Boerne-Farmers-Market.jpg
END:VEVENT
BEGIN:VEVENT
DTSTART;TZID=America/Chicago:20260127T180000
DTEND;TZID=America/Chicago:20260127T200000
DTSTAMP:20260423T032514
CREATED:20260114T003736Z
LAST-MODIFIED:20260202T133637Z
UID:10034191-1769536800-1769544000@theboernelife.com
SUMMARY:Mini Heart Cake Decorating Class at Pure Country BBQ & Grill
DESCRIPTION:Mini Heart Cake Decorating Class offers a hands-on\, Valentine’s-inspired baking experience that blends creativity with a relaxed\, social atmosphere. Designed for beginners and those looking for a fun seasonal activity\, the class focuses on decorating a pre-stacked and crumb-coated mini heart cake so participants can jump straight into the creative process. Instruction covers frosting techniques\, simple piping methods\, decorative details\, and finishing touches\, with each guest taking home their completed cake. \nClasses are scheduled for January 27\, February 3\, and February 10\, from 6 pm to 8 pm at Pure Country BBQ & Grill. Each session lasts approximately 75 to 90 minutes and is limited to 10 participants to allow for personalized instruction. No prior cake decorating experience is required. \nAdmission is $65 per person. Drinks will be available for purchase during the class\, with select discounted options offered exclusively for participants. Space is limited\, and advance registration is required. \nhttps://docs.google.com/forms/d/e/1FAIpQLSf473QRb3yRxK2QfGKBq8j-DcR-wlgfp8cA4aPL3cxDPpapCQ/viewform
URL:https://theboernelife.com/events/mini-heart-cake-decorating-class-at-pure-country-bbq-grill/2026-01-27/
LOCATION:Pure Country BBQ & Grill\, 1481 S Main St\, Boerne\, TX\, 78006\, United States
CATEGORIES:Food and Drink
ATTACH;FMTTYPE=image/jpeg:https://theboernelife.com/wp-content/uploads/2026/01/mini-heart-cake-decorating-class-at-pure-country-bbq-and-grill.jpg
END:VEVENT
BEGIN:VEVENT
DTSTART;TZID=America/Chicago:20260128T180000
DTEND;TZID=America/Chicago:20260128T210000
DTSTAMP:20260423T032515
CREATED:20251217T021004Z
LAST-MODIFIED:20260106T213953Z
UID:10033833-1769623200-1769634000@theboernelife.com
SUMMARY:Burns Night at Richter Tavern
DESCRIPTION:Burns Night at Richter Tavern marks the restaurant’s sixth annual celebration of Scotch whisky and Scottish-inspired cuisine with an elevated dining experience in the heart of Boerne. The evening features a chef-prepared four-course meal\, thoughtfully paired with four Scotch cocktails crafted by the Richter Tavern team\, highlighting both tradition and creativity through each course. \nThe event takes place on Wednesday\, January 28\, 2026\, beginning at 6 pm at Richter Tavern\, located at 153 South Main Street\, Boerne\, TX 78006. Admission is $125 per person\, with a $25 deposit required at the time of booking. Tickets are available through ExploreTock\, and availability is limited.
URL:https://theboernelife.com/events/burns-night-at-richter-tavern/
LOCATION:Richter Tavern\, 153 South Main Street\, Boerne\, TX\, 78006\, United States
CATEGORIES:Food and Drink
ATTACH;FMTTYPE=image/jpeg:https://theboernelife.com/wp-content/uploads/2025/12/burns-night-at-richter-tavern.jpg
END:VEVENT
BEGIN:VEVENT
DTSTART;TZID=America/Chicago:20260130T100000
DTEND;TZID=America/Chicago:20260130T110000
DTSTAMP:20260423T032515
CREATED:20260126T115430Z
LAST-MODIFIED:20260126T115430Z
UID:10034371-1769767200-1769770800@theboernelife.com
SUMMARY:Cowboy Breakfast at Town & Country Nursing & Rehabilitation Center
DESCRIPTION:Join Town and Country Nursing and Rehabilitation Center in their front lobby for a Community Cowboy Breakfast on Friday\, January 30th starting at 10am as they help kick off the San Antonio Rodeo. Everyone is invited!For more information\, please call Hilda at 361-827-6677.
URL:https://theboernelife.com/events/cowboy-breakfast-at-town-country-nursing-rehabilitation-center/
LOCATION:Town and Country Nursing and Rehabilitation Center\, 625 N Main St\, Boerne\, TX\, 78006\, United States
CATEGORIES:Food and Drink
ATTACH;FMTTYPE=image/jpeg:https://theboernelife.com/wp-content/uploads/2026/01/618081966_1276757947818988_2462753576251864942_n.jpg
END:VEVENT
BEGIN:VEVENT
DTSTART;TZID=America/Chicago:20260130T210000
DTEND;TZID=America/Chicago:20260130T233000
DTSTAMP:20260423T032515
CREATED:20260126T234013Z
LAST-MODIFIED:20260126T234013Z
UID:10034374-1769806800-1769815800@theboernelife.com
SUMMARY:8th Anniversary Party with Covenants Creek at Salvador DOBBS
DESCRIPTION:Salvador DOBBS will mark eight years of good times and familiar faces with an anniversary celebration featuring live music from local favorite Covenants Creek. The evening is designed as a full-scale party\, building throughout the day and culminating in a late-night performance that keeps the celebration going until midnight. \nThe event takes place on January 30\, 2026\, with doors opening at 3 pm and live music beginning at 9 pm. Guests can enjoy an energetic night out with live music\, cocktails\, and a lively atmosphere as the venue celebrates this milestone anniversary. This event is open to guests ages 21 and over.
URL:https://theboernelife.com/events/8th-anniversary-party-with-covenants-creek-at-salvador-dobbs/
LOCATION:Salvador Dobbs\, 512 River Rd\, Boerne\, TX\, 78006\, United States
CATEGORIES:Food and Drink
ATTACH;FMTTYPE=image/jpeg:https://theboernelife.com/wp-content/uploads/2026/01/8th-anniversary-party-with-covenants-creek-at-salvador-dobbs.jpg
END:VEVENT
BEGIN:VEVENT
DTSTART;TZID=America/Chicago:20260131T180000
DTEND;TZID=America/Chicago:20260131T230000
DTSTAMP:20260423T032515
CREATED:20251129T121558Z
LAST-MODIFIED:20260106T213941Z
UID:10033697-1769882400-1769900400@theboernelife.com
SUMMARY:Boots & Badges Gala Casino Night at The Rock at La Cantera
DESCRIPTION:The 100 Club of San Antonio will kick off 2026 with the 11th Annual Boots & Badges Gala Casino Night\, an evening dedicated to supporting the families of fallen and critically injured first responders in Bexar County and surrounding areas. This night of dining\, entertainment\, and casino-style fun will take place on Saturday\, January 31\, 2026\, at The Rock at La Cantera\, located at 1 Spurs Way in San Antonio. \nDoors will open at 6 pm for a social hour\, followed by dinner\, a presentation\, and casino games from 7 pm to 11 pm. Guests can enjoy placing bets throughout the evening for a chance to win exclusive 100 Club of San Antonio swag. With only 40 tables available\, early reservations are highly encouraged for this popular annual event. \nTable reservations are available now at https://100clubsa.app.neoncrm.com/nx/portal/neonevents/events?path=%2Fportal%2Fevents%2F29471. Guests with questions may contact the organization directly for more information. This gala provides a meaningful way to contribute to a cause dedicated to honoring and assisting first responder families while enjoying a lively night out.
URL:https://theboernelife.com/events/boots-badges-gala-casino-night-at-the-rock-at-la-cantera/
LOCATION:The Rock at La Cantera\, 1 Spurs Way\, San Antonio\, TX\, 78256
CATEGORIES:Food and Drink
ATTACH;FMTTYPE=image/jpeg:https://theboernelife.com/wp-content/uploads/2025/11/boots-and-badges-gala-casino-night-at-the-rock-at-la-cantera.jpg
END:VEVENT
END:VCALENDAR