BEGIN:VCALENDAR
VERSION:2.0
PRODID:-//The Boerne Life - ECPv6.15.15//NONSGML v1.0//EN
CALSCALE:GREGORIAN
METHOD:PUBLISH
X-ORIGINAL-URL:https://theboernelife.com
X-WR-CALDESC:Events for The Boerne Life
REFRESH-INTERVAL;VALUE=DURATION:PT1H
X-Robots-Tag:noindex
X-PUBLISHED-TTL:PT1H
BEGIN:VTIMEZONE
TZID:America/Chicago
BEGIN:DAYLIGHT
TZOFFSETFROM:-0600
TZOFFSETTO:-0500
TZNAME:CDT
DTSTART:20250309T080000
END:DAYLIGHT
BEGIN:STANDARD
TZOFFSETFROM:-0500
TZOFFSETTO:-0600
TZNAME:CST
DTSTART:20251102T070000
END:STANDARD
BEGIN:DAYLIGHT
TZOFFSETFROM:-0600
TZOFFSETTO:-0500
TZNAME:CDT
DTSTART:20260308T080000
END:DAYLIGHT
BEGIN:STANDARD
TZOFFSETFROM:-0500
TZOFFSETTO:-0600
TZNAME:CST
DTSTART:20261101T070000
END:STANDARD
BEGIN:DAYLIGHT
TZOFFSETFROM:-0600
TZOFFSETTO:-0500
TZNAME:CDT
DTSTART:20270314T080000
END:DAYLIGHT
BEGIN:STANDARD
TZOFFSETFROM:-0500
TZOFFSETTO:-0600
TZNAME:CST
DTSTART:20271107T070000
END:STANDARD
END:VTIMEZONE
BEGIN:VEVENT
DTSTART;TZID=America/Chicago:20260203T160000
DTEND;TZID=America/Chicago:20260203T190000
DTSTAMP:20260419T181655
CREATED:20251118T133620Z
LAST-MODIFIED:20260401T100721Z
UID:10033674-1770134400-1770145200@theboernelife.com
SUMMARY:Boerne Farmers Market
DESCRIPTION:The Boerne Farmers Market is a hub for locally-sourced produce\, artisan goods\, and prepared foods\, fostering a community that values sustainability and healthy living. It’s a place where local farmers\, homesteaders\, ranchers\, and artisans from the Texas Hill Country come together\, offering more than just shopping but a vibrant community event to explore and enjoy. \nAnd on the first Tuesday of every month\, kids can set up to sell as well! \n 
URL:https://theboernelife.com/events/boerne-farmers-market-2-2-3-3/2026-02-03/
LOCATION:Boerne Farmers Market\, 402 East Blanco Road\, Boerne\, TX\, 78006\, United States
CATEGORIES:Food and Drink,Outdoors
ATTACH;FMTTYPE=image/jpeg:https://theboernelife.com/wp-content/uploads/2024/04/Boerne-Farmers-Market.jpg
END:VEVENT
BEGIN:VEVENT
DTSTART;TZID=America/Chicago:20260203T180000
DTEND;TZID=America/Chicago:20260203T193000
DTSTAMP:20260419T181655
CREATED:20260204T004522Z
LAST-MODIFIED:20260204T004522Z
UID:10034775-1770141600-1770147000@theboernelife.com
SUMMARY:Cake & Sip Decorating Class at Pure Country BBQ & Grill
DESCRIPTION:A creative and hands-on evening blends cake decorating with a relaxed sipping atmosphere at Pure Country BBQ & Grill just ahead of Valentine’s Day. This Cake & Sip Decorating Class offers a guided introduction to decorating a mini heart cake\, with cakes pre-stacked and crumb coated so participants can focus on the fun\, artistic details right away. The experience is designed for beginners and emphasizes creativity\, technique\, and enjoying the process. \nClasses will be held on February 3 and February 10 from 6:00 pm to 7:30 pm at Pure Country BBQ & Grill in Boerne\, Texas. During the 75–90 minute class\, participants will learn how to frost a crumb-coated cake\, pipe a simple shell border\, use different piping tips for decorative details\, and add finishing touches to complete a Valentine-themed cake. Admission is $65 per person\, space is limited to 10 participants per session\, and each guest will take home their finished cake. Drinks will be available for purchase\, with exclusive discounts offered to class attendees.
URL:https://theboernelife.com/events/cake-sip-decorating-class-at-pure-country-bbq-grill/2026-02-03/
LOCATION:Pure Country BBQ & Grill\, 1481 S Main St\, Boerne\, TX\, 78006\, United States
CATEGORIES:Food and Drink
ATTACH;FMTTYPE=image/jpeg:https://theboernelife.com/wp-content/uploads/2026/02/cake-and-sip-decorating-class-at-pure-country-bbq-and-grill.jpg
END:VEVENT
BEGIN:VEVENT
DTSTART;TZID=America/Chicago:20260203T180000
DTEND;TZID=America/Chicago:20260203T200000
DTSTAMP:20260419T181655
CREATED:20260114T003736Z
LAST-MODIFIED:20260202T133637Z
UID:10034192-1770141600-1770148800@theboernelife.com
SUMMARY:Mini Heart Cake Decorating Class at Pure Country BBQ & Grill
DESCRIPTION:Mini Heart Cake Decorating Class offers a hands-on\, Valentine’s-inspired baking experience that blends creativity with a relaxed\, social atmosphere. Designed for beginners and those looking for a fun seasonal activity\, the class focuses on decorating a pre-stacked and crumb-coated mini heart cake so participants can jump straight into the creative process. Instruction covers frosting techniques\, simple piping methods\, decorative details\, and finishing touches\, with each guest taking home their completed cake. \nClasses are scheduled for January 27\, February 3\, and February 10\, from 6 pm to 8 pm at Pure Country BBQ & Grill. Each session lasts approximately 75 to 90 minutes and is limited to 10 participants to allow for personalized instruction. No prior cake decorating experience is required. \nAdmission is $65 per person. Drinks will be available for purchase during the class\, with select discounted options offered exclusively for participants. Space is limited\, and advance registration is required. \nhttps://docs.google.com/forms/d/e/1FAIpQLSf473QRb3yRxK2QfGKBq8j-DcR-wlgfp8cA4aPL3cxDPpapCQ/viewform
URL:https://theboernelife.com/events/mini-heart-cake-decorating-class-at-pure-country-bbq-grill/2026-02-03/
LOCATION:Pure Country BBQ & Grill\, 1481 S Main St\, Boerne\, TX\, 78006\, United States
CATEGORIES:Food and Drink
ATTACH;FMTTYPE=image/jpeg:https://theboernelife.com/wp-content/uploads/2026/01/mini-heart-cake-decorating-class-at-pure-country-bbq-and-grill.jpg
END:VEVENT
BEGIN:VEVENT
DTSTART;TZID=America/Chicago:20260204T180000
DTEND;TZID=America/Chicago:20260204T200000
DTSTAMP:20260419T181655
CREATED:20250608T212515Z
LAST-MODIFIED:20250804T104304Z
UID:10029403-1770228000-1770235200@theboernelife.com
SUMMARY:Open Mic Night at Cibolo Creek Brewing
DESCRIPTION:Want to test your skills on the CCB stage? Come on down the first Wednesday of the month for open mic night! Bring your guitar\, plug in and play for the Biergarten!
URL:https://theboernelife.com/events/open-mic-night-at-cibolo-creek-brewing-2/2026-02-04/
LOCATION:Cibolo Creek Brewing Company\, 448 South Main St\, Boerne\, TX\, 78006\, United States
CATEGORIES:Food and Drink,Music
ATTACH;FMTTYPE=image/jpeg:https://theboernelife.com/wp-content/uploads/2024/03/live-music-cibolo-creek-brewing.jpg
END:VEVENT
BEGIN:VEVENT
DTSTART;TZID=America/Chicago:20260204T190000
DTEND;TZID=America/Chicago:20260204T220000
DTSTAMP:20260419T181655
CREATED:20260109T061941Z
LAST-MODIFIED:20260110T000526Z
UID:10034146-1770231600-1770242400@theboernelife.com
SUMMARY:Valentine\, Vows\, and Victim at DeVino Cellars
DESCRIPTION:A new live mystery experience comes to Boerne as Boerne Community Theatre\, in partnership with DeVino Cellars\, presents Valentine\, Vows\, and Victim. This interactive performance invites guests to become part of the story as the mystery unfolds\, blending live theater with an intimate wine bar setting for an engaging evening of suspense and intrigue. \nThe show will take place on Wednesday\, February 4\, beginning at 7 pm at DeVino Cellars\, located at 1109 S. Main St.\, Suite 101\, Boerne\, TX 78006. Tickets are $40 per person. Wine\, soft drinks\, snacks\, and charcuterie boards will be available for purchase during the event. \nReservations are required and can be made online at https://boernecommunitytheatre.ludus.com/200512854.
URL:https://theboernelife.com/events/valentine-vows-and-victim-at-devino-cellars/
LOCATION:DeVino Cellars\, 1109 S Main St\, Boerne\, TX\, 78006\, United States
CATEGORIES:Food and Drink
ATTACH;FMTTYPE=image/jpeg:https://theboernelife.com/wp-content/uploads/2026/01/valentine-vows-and-victim-at-devino-cellars.jpg
END:VEVENT
BEGIN:VEVENT
DTSTART;TZID=America/Chicago:20260205T173000
DTEND;TZID=America/Chicago:20260205T203000
DTSTAMP:20260419T181655
CREATED:20260112T032859Z
LAST-MODIFIED:20260112T032859Z
UID:10034176-1770312600-1770323400@theboernelife.com
SUMMARY:The 2026 Lincoln Reagan Dinner at The Bevy Hotel Boerne
DESCRIPTION:The 2026 Lincoln Reagan Dinner brings an evening of conversation and community gathering to The Bevy Hotel Boerne. This annual dinner provides attendees with an opportunity to come together for a formal evening program centered on civic engagement and shared values. \nThe event will take place on Thursday\, February 5\, 2026\, from 5:30 pm to 8:30 pm at The Bevy Hotel Boerne. Tickets are required and available in advance. \nAdditional details and ticket purchases are available at https://www.kcrptx.com/lrdinner.
URL:https://theboernelife.com/events/the-2026-lincoln-reagan-dinner-at-the-bevy-hotel-boerne/
LOCATION:The Bevy Hotel Boerne\, 101 Herff Rd\, Boerne\, TX\, 78006\, United States
CATEGORIES:Food and Drink
ATTACH;FMTTYPE=image/jpeg:https://theboernelife.com/wp-content/uploads/2026/01/the-2026-lincoln-reagan-dinner-at-the-bevy-hotel-boerne.jpg
END:VEVENT
BEGIN:VEVENT
DTSTART;TZID=America/Chicago:20260206T170000
DTEND;TZID=America/Chicago:20260206T190000
DTSTAMP:20260419T181655
CREATED:20260204T001902Z
LAST-MODIFIED:20260204T001923Z
UID:10034770-1770397200-1770404400@theboernelife.com
SUMMARY:Galentine’s Cake Class at Girls Night In
DESCRIPTION:A playful and creative cake decorating experience sets the tone for a Galentine’s celebration at Girls Night In. Hosted by Flour Power\, this interactive class guides guests through decorating their own cakes with hands-on instruction\, frosting techniques\, and fun toppings in a stylish\, pink-themed setting. The atmosphere is designed for a relaxed evening of creativity and connection\, making it a fun option for friends celebrating together or anyone looking for a unique night out. \nThe Galentine’s Cake Class will take place on February 6 from 5:00 pm to 7:00 pm at Girls Night In in Boerne\, Texas. Admission is $40 per person. Tickets must be purchased in advance by messaging Flour Power directly on Instagram\, with the link to their profile provided for registration and additional details.
URL:https://theboernelife.com/events/galentines-cake-class-at-girls-night-in/
LOCATION:Girls Night In\, 170 S Main St\, Suite 202\, Boerne\, TX\, 78006\, United States
CATEGORIES:Food and Drink
ATTACH;FMTTYPE=image/jpeg:https://theboernelife.com/wp-content/uploads/2026/02/galentines-cake-class-at-girls-night-in.jpg
END:VEVENT
BEGIN:VEVENT
DTSTART;VALUE=DATE:20260207
DTEND;VALUE=DATE:20260208
DTSTAMP:20260419T181655
CREATED:20260105T072740Z
LAST-MODIFIED:20260106T213935Z
UID:10034027-1770422400-1770508799@theboernelife.com
SUMMARY:4th Annual Kick Up Your Heels Gala Fundraiser at Kendall County Fairgrounds
DESCRIPTION:The Kendall County Fair Association will host its 4th Annual Kick Up Your Heels Gala Fundraiser on Saturday\, February 7\, 2026\, at the Kendall County Fairgrounds in Boerne\, Texas. This annual gala supports ongoing improvements to the Fair Association’s historic 55-acre property\, with all proceeds going directly toward facility upgrades and community programs. \nThe Kendall County Fair Association is a 501(c)(3) nonprofit organization that is 100 percent volunteer run and does not receive funding from state\, county\, or city sources. Fundraising events like this gala play a critical role in maintaining the grounds\, supporting scholarship programs\, and giving back to the community. This year’s primary goal is to raise funds to add air conditioning to the large hall\, helping make the facility more comfortable year-round in the Texas heat. \nGeneral admission is $50 per person. Reserved tables for six are available for $450\, while VIP sponsor tables are offered at $1\,000. Sponsorship opportunities are also available\, including entertainment sponsorships\, VIP sponsorship tables\, live auction donations\, raffle basket contributions\, and table centerpiece sponsorships. All sponsorships and donations are tax deductible\, and a 501(c)(3) tax receipt will be provided. \nThe event will take place at the Kendall County Fairgrounds in Boerne\, TX. Additional details about sponsorships and participation opportunities are available through the Kendall County Fair Association.
URL:https://theboernelife.com/events/4th-annual-kick-up-your-heels-gala-fundraiser-at-kendall-county-fairgrounds/
LOCATION:Kendall County Fairgrounds\, 1307 River Road\, Boerne\, TX\, 78006\, United States
CATEGORIES:Food and Drink,Fundraiser
ATTACH;FMTTYPE=image/jpeg:https://theboernelife.com/wp-content/uploads/2026/01/4th-annual-kick-up-your-heels-gala-fundraiser-at-kendall-county-fairgrounds.jpg
END:VEVENT
BEGIN:VEVENT
DTSTART;TZID=America/Chicago:20260207T110000
DTEND;TZID=America/Chicago:20260207T123000
DTSTAMP:20260419T181655
CREATED:20260204T002532Z
LAST-MODIFIED:20260204T002532Z
UID:10034771-1770462000-1770467400@theboernelife.com
SUMMARY:Brunch Essentials Cocktail Workshop at Camp Bar & Feed
DESCRIPTION:A late-morning mixology experience brings classic brunch cocktails into focus at Camp Bar & Feed in Boerne. This hands-on workshop explores the techniques and flavors behind two brunch favorites\, the French 75 and a bespoke cold brew martini\, with guidance on how to tailor each drink to individual taste preferences. The experience is designed to blend learning with enjoyment in a relaxed\, social setting. \nThe Brunch Essentials Cocktail Workshop will take place on February 7 from 11:00 am to 12:30 pm at Camp Bar & Feed in Boerne\, Texas. Admission is $40 per person and includes instruction\, ingredients for crafting two cocktails\, and locally made pastries selected to pair with the drinks. Space is limited\, and advance registration is recommended.
URL:https://theboernelife.com/events/brunch-essentials-cocktail-workshop-at-camp-bar-feed/
LOCATION:Camp Bar and Feed\, 421 S Main St\, Boerne\, TX\, 78006\, United States
CATEGORIES:Food and Drink
ATTACH;FMTTYPE=image/jpeg:https://theboernelife.com/wp-content/uploads/2026/02/brunch-essentials-cocktail-workshop-at-camp-bar-and-feed.jpg
END:VEVENT
BEGIN:VEVENT
DTSTART;TZID=America/Chicago:20260208T110000
DTEND;TZID=America/Chicago:20260208T120000
DTSTAMP:20260419T181655
CREATED:20260204T012614Z
LAST-MODIFIED:20260204T012614Z
UID:10034779-1770548400-1770552000@theboernelife.com
SUMMARY:Galentine’s BINGO at Handmade on Main
DESCRIPTION:A cheerful morning of games and friendship brings Galentine’s BINGO to Handmade on Main with a playful\, feel-good gathering designed to celebrate connection. Hosted by Art & Soul\, this event features five lively rounds of BINGO paired with a lemonade bar\, sweet treats\, and prizes awarded throughout the hour. The atmosphere is relaxed and welcoming\, making it just as enjoyable for solo guests as it is for groups of friends. \nGalentine’s BINGO will take place on February 8 from 11:00 am to 12:00 pm at Handmade on Main in Boerne\, Texas. Tickets are $20 per person and include entry to all five rounds of BINGO. Following the games\, guests can enjoy private shopping time with a 10 percent discount on purchases. Space is limited\, and advance tickets are recommended to secure a seat.
URL:https://theboernelife.com/events/galentines-bingo-at-handmade-on-main/
LOCATION:Handmade on Main\, 347 N Main St\, Boerne\, TX\, 78006\, United States
CATEGORIES:Food and Drink
ATTACH;FMTTYPE=image/jpeg:https://theboernelife.com/wp-content/uploads/2026/02/galentines-bingo-at-handmade-on-main.jpg
END:VEVENT
BEGIN:VEVENT
DTSTART;TZID=America/Chicago:20260208T160000
DTEND;TZID=America/Chicago:20260208T190000
DTSTAMP:20260419T181655
CREATED:20260106T072942Z
LAST-MODIFIED:20260108T205313Z
UID:10034033-1770566400-1770577200@theboernelife.com
SUMMARY:Cake Frame Craft Night at Downtown DIY
DESCRIPTION:Downtown DIY will host a festive evening of crafting\, drinks\, and friendship on Sunday\, February 8\, 2026\, from 4 to 7 pm. Guests can enjoy crafting their own cake frame keepsake\, perfect for displaying memories in a cute and sparkly way. The event also includes festive drinks and snacks\, along with professional photos by Leslie Gilbert\, printed the same night. \nThis experience offers a fun and memorable night out with friends\, combining creativity\, social time\, and keepsakes. Seating is limited. Downtown DIY is located at 123 Main St\, Boerne\, TX 78006.
URL:https://theboernelife.com/events/cake-frame-craft-night-at-downtown-diy/
LOCATION:The Downtown DIY\, 195 S Main St\, Boerne\, TX\, 78006\, United States
CATEGORIES:Food and Drink
ATTACH;FMTTYPE=image/jpeg:https://theboernelife.com/wp-content/uploads/2026/01/cake-frame-craft-night-at-downtown-diy.jpg
END:VEVENT
BEGIN:VEVENT
DTSTART;TZID=America/Chicago:20260208T160000
DTEND;TZID=America/Chicago:20260208T190000
DTSTAMP:20260419T181655
CREATED:20260204T004128Z
LAST-MODIFIED:20260204T004128Z
UID:10034774-1770566400-1770577200@theboernelife.com
SUMMARY:Galentine’s Day Craft Party: Sweet Memories & Faux Cake Frames at The Downtown DIY
DESCRIPTION:A stylish evening of creativity and connection sets the tone for this Galentine’s Day celebration at The Downtown DIY. Designed as an elevated craft and social experience\, the event blends hands-on creativity with festive cocktails\, sweet treats\, and a professional photo moment\, creating memories guests can take home the same night. The atmosphere is relaxed and social\, with no crafting experience needed to enjoy the process. \nThe event will take place on February 8 from 4:00 pm to 7:00 pm at The Downtown DIY in Boerne\, Texas. Each guest will enjoy themed cocktails and desserts\, a mini professional photo session with Leslie Gilbert Photography\, and a printed keepsake photo. Participants will also create a whimsical faux “cake frame\,” starting with a blank 4×6 frame and decorating it with faux frosting\, sprinkles\, glitter\, ribbons\, and embellishments to display their photo. Admission is $99.95 per person and includes all materials and experiences. This event is well suited for friends\, sisters\, mother-daughter pairs\, or groups looking for a creative and memorable Galentine’s outing.
URL:https://theboernelife.com/events/galentines-day-craft-party-sweet-memories-faux-cake-frames-at-the-downtown-diy/
LOCATION:The Downtown DIY\, 195 S Main St\, Boerne\, TX\, 78006\, United States
CATEGORIES:Food and Drink
ATTACH;FMTTYPE=image/jpeg:https://theboernelife.com/wp-content/uploads/2026/02/galentines-day-craft-party-sweet-memories-and-faux-cake-frames-at-the-downtown-diy.jpg
END:VEVENT
BEGIN:VEVENT
DTSTART;TZID=America/Chicago:20260208T180000
DTEND;TZID=America/Chicago:20260208T200000
DTSTAMP:20260419T181655
CREATED:20260204T003429Z
LAST-MODIFIED:20260204T003429Z
UID:10034773-1770573600-1770580800@theboernelife.com
SUMMARY:Valentine’s Cookie Decorating Class at Girls Night In
DESCRIPTION:A festive and creative evening of cookie decorating takes place at Girls Night In with a hands-on class hosted by Veronica’s Dazzling Desserts. Guests can learn decorating techniques while creating beautifully themed Valentine’s cookies in the chic\, pink-inspired setting that Girls Night In is known for. The experience is designed to be relaxed and social\, making it a great option for a girls’ night\, a small celebration\, or a creative night out. \nThe class will be held on February 8 from 6:00 pm to 8:00 pm at Girls Night In in Boerne\, Texas. Admission is $35 per person and includes all decorating supplies\, complimentary wine\, and snacks. Space is limited\, and advance booking is required through the provided registration link.
URL:https://theboernelife.com/events/valentines-cookie-decorating-class-at-girls-night-in/
LOCATION:Girls Night In\, 170 S Main St\, Suite 202\, Boerne\, TX\, 78006\, United States
CATEGORIES:Food and Drink
ATTACH;FMTTYPE=image/jpeg:https://theboernelife.com/wp-content/uploads/2026/02/valentines-cookie-decorating-class-at-girls-night-in.jpg
END:VEVENT
END:VCALENDAR