BEGIN:VCALENDAR
VERSION:2.0
PRODID:-//The Boerne Life - ECPv6.15.15//NONSGML v1.0//EN
CALSCALE:GREGORIAN
METHOD:PUBLISH
X-WR-CALNAME:The Boerne Life
X-ORIGINAL-URL:https://theboernelife.com
X-WR-CALDESC:Events for The Boerne Life
REFRESH-INTERVAL;VALUE=DURATION:PT1H
X-Robots-Tag:noindex
X-PUBLISHED-TTL:PT1H
BEGIN:VTIMEZONE
TZID:America/Chicago
BEGIN:DAYLIGHT
TZOFFSETFROM:-0600
TZOFFSETTO:-0500
TZNAME:CDT
DTSTART:20250309T080000
END:DAYLIGHT
BEGIN:STANDARD
TZOFFSETFROM:-0500
TZOFFSETTO:-0600
TZNAME:CST
DTSTART:20251102T070000
END:STANDARD
BEGIN:DAYLIGHT
TZOFFSETFROM:-0600
TZOFFSETTO:-0500
TZNAME:CDT
DTSTART:20260308T080000
END:DAYLIGHT
BEGIN:STANDARD
TZOFFSETFROM:-0500
TZOFFSETTO:-0600
TZNAME:CST
DTSTART:20261101T070000
END:STANDARD
BEGIN:DAYLIGHT
TZOFFSETFROM:-0600
TZOFFSETTO:-0500
TZNAME:CDT
DTSTART:20270314T080000
END:DAYLIGHT
BEGIN:STANDARD
TZOFFSETFROM:-0500
TZOFFSETTO:-0600
TZNAME:CST
DTSTART:20271107T070000
END:STANDARD
END:VTIMEZONE
BEGIN:VEVENT
DTSTART;TZID=America/Chicago:20260331T180000
DTEND;TZID=America/Chicago:20260331T220000
DTSTAMP:20260420T115955
CREATED:20260330T234436Z
LAST-MODIFIED:20260330T234436Z
UID:10036839-1774980000-1774994400@theboernelife.com
SUMMARY:Purse Bingo at The Kendall Inn
DESCRIPTION:Enjoy a fun and meaningful night out at Purse Bingo on Tuesday\, March 31 at The Kendall Inn\, 209 Lohmann St.\, Boerne\, TX 78006. Doors open at 6:00 pm for dinner\, with bingo games beginning at 7:00 pm. \nHosted by the Kendall County Aggie Moms Club\, this lively event combines exciting rounds of bingo with the chance to win fabulous purses—all while supporting the club’s scholarship fund for local students. \nGuests are invited to gather friends\, neighbors\, and coworkers for an evening filled with great food\, fun prizes\, and a welcoming atmosphere. Whether you’re a seasoned bingo player or just looking for a fun social night\, this event offers something for everyone. \nSpots are limited and expected to fill quickly. Registration and additional details are available at https://kendallcountyaggiemoms.membershiptoolkit.com/packet/t65999278.
URL:https://theboernelife.com/events/purse-bingo-at-the-kendall-inn/
LOCATION:The Kendall Inn\, 209 Lohmann St.\, Boerne\, TX\, 78006\, United States
CATEGORIES:Fundraiser
END:VEVENT
BEGIN:VEVENT
DTSTART;TZID=America/Chicago:20260411T110000
DTEND;TZID=America/Chicago:20260411T160000
DTSTAMP:20260420T115955
CREATED:20260325T165932Z
LAST-MODIFIED:20260326T035154Z
UID:10036820-1775905200-1775923200@theboernelife.com
SUMMARY:Why Old Places Matter Tour-Comfort\, Texas
DESCRIPTION:Join the Comfort Heritage Foundation as they host their “Why Old Places Matter” tour where you will visit beautiful places that reflect the cultural significance of a most well-preserved historic district in Comfort\, Texas. \nInspired by the book\, “Why Old Places Matter” by Thompson M. Mayes\, this tour offers a rich\, engaging experience that connects you to the legacy of the founders who made history here in Comfort. This is a self-paced\, walkable and drivable tour of historic architecture\, detailed craftsmanship and the stories left behind. \nTicket purchases available for $35 (plus fees) each on our website and available day of the event at the Heritage Archives Building. Tickets are non-refundable. \nThis tour is being underwritten by our great sponsors\, America Reclaimed and Security State Bank & Trust. \nThe Comfort Heritage Foundation (CHF) is a tax-exempt chartered foundation to promote and encourage\, for the betterment of the community\, the preservation and conservation of Comfort’s historical heritage\, including historical structures\, archives\, cultural values\, traditions and its natural beauty.
URL:https://theboernelife.com/events/why-old-places-matter-tour-comfort-texas/
LOCATION:Comfort Heritage Foundation\, 640 High Street\, Comfort\, 78013
CATEGORIES:Fundraiser
ATTACH;FMTTYPE=image/jpeg:https://theboernelife.com/wp-content/uploads/2026/03/Rack-Card-Back.jpg
ORGANIZER;CN="Comfort Heritage Foundation":MAILTO:mschultz999@gmail.com
END:VEVENT
BEGIN:VEVENT
DTSTART;TZID=America/Chicago:20260411T110000
DTEND;TZID=America/Chicago:20260411T160000
DTSTAMP:20260420T115955
CREATED:20260326T053210Z
LAST-MODIFIED:20260326T053251Z
UID:10036823-1775905200-1775923200@theboernelife.com
SUMMARY:Why Old Places Matter Tour at Comfort Heritage Foundation
DESCRIPTION:Step into the past during the Why Old Places Matter Tour on Saturday\, April 11 from 11 am to 4 pm\, hosted by the Comfort Heritage Foundation at 640 High Street\, Comfort\, TX. \nThis self-paced\, docent-assisted tour invites guests to explore one of Texas’ most well-preserved historic districts. Participants can enjoy a mix of walkable and driveable stops\, visiting historic homes\, buildings\, and sites that showcase remarkable architecture\, craftsmanship\, and the stories of Comfort’s early founders. \nDesigned for history buffs\, architecture enthusiasts\, and curious visitors alike\, the tour offers a meaningful way to connect with the town’s cultural heritage. Guests are encouraged to make a day—or even a weekend—of it by exploring local inns\, restaurants\, and wineries throughout Comfort. \nOn the day of the event\, tickets can be exchanged for wristbands and tour booklets at the Comfort Heritage Foundation. The wristband grants access to all tour locations\, which can be visited in any order. \nGeneral admission tickets are $35. Guests may also purchase a donated ticket\, which will be provided to first responders\, school administrators\, and nonprofit volunteers. Online registration ends April 10\, though tickets will still be available for purchase on the day of the event. \nThis all-ages event requires children under 12 to be accompanied by an adult. As a self-guided tour\, participants assume responsibility for their safety while visiting the properties. \nProceeds support the Comfort Heritage Foundation\, a volunteer-run organization dedicated to preserving the town’s historic structures\, traditions\, and cultural legacy. For more information\, contact the Comfort Heritage Foundation directly.
URL:https://theboernelife.com/events/why-old-places-matter-tour-at-comfort-heritage-foundation/
LOCATION:Comfort Heritage Foundation\, 640 High Street\, Comfort\, 78013
CATEGORIES:Fundraiser
ATTACH;FMTTYPE=image/jpeg:https://theboernelife.com/wp-content/uploads/2026/03/why-old-places-matter-tour-at-comfort-heritage-foundation.jpg
END:VEVENT
BEGIN:VEVENT
DTSTART;TZID=America/Chicago:20260424T180000
DTEND;TZID=America/Chicago:20260424T220000
DTSTAMP:20260420T115955
CREATED:20260410T010510Z
LAST-MODIFIED:20260411T013621Z
UID:10037273-1777053600-1777068000@theboernelife.com
SUMMARY:Comfort Little Theater Production 2026
DESCRIPTION:It’s SHOWTIME\, Comfort! \nThe Comfort Little Theater proudly presents its 94th production:\nEverything’s Bigger in Texas or Come and Fake It!\, \nApril 24 & 25 and May 1 & 2\nWaring Fire Hall – Waring Theater District\nDoors & ticket sales at 6:00 PM with Music beginning at 6:30 PM\nShow starts at 7:30 PM \nFirst come\, first save! \nExpect a night of laughs\, local flavor\, and a little risqué fun (PG-17!)\nThis year’s show includes:\n-Literary moments\n-A trip to our your local Redneck Day Spa\n-A visit with the Real Housewives of Center Point\n-A return visit from the Waring Fishermen\n-And a whole lotta laughs!\n-Beer by donation\n-Set-ups sold by Waring Area Community Association\n-Snacks & food available from the Comfort High School Travel Club \nTickets:\n$5 Adults | $10 Kids | $50 Crying Babies (no joke ) \nAll proceeds go right back into our community—supporting local charities\, groups\, and scholarships.\nFollow us here for updates & sneak peeks! \nThe Comfort Little Theater (that’s us!)\nTag your friends\, grab your seat early\, and get ready for a night you won’t forget! \nReserved seating may be available for parties of 8 or more – please contact Phil Saur @ 830-796-1690 for information.
URL:https://theboernelife.com/events/comfort-little-theater-production-2026/2026-04-24/
LOCATION:Waring Hall\, 11 Waring Road\, Waring\, TX\, 78074\, United States
CATEGORIES:Arts and Culture,Fundraiser,Music
ATTACH;FMTTYPE=image/jpeg:https://theboernelife.com/wp-content/uploads/2026/04/FB-image.jpg
END:VEVENT
BEGIN:VEVENT
DTSTART;TZID=America/Chicago:20260425T160000
DTEND;TZID=America/Chicago:20260425T200000
DTSTAMP:20260420T115955
CREATED:20260226T005202Z
LAST-MODIFIED:20260226T005219Z
UID:10035034-1777132800-1777147200@theboernelife.com
SUMMARY:Hill Country Wild Game Charity Dinner at The Kendall County Youth Agriculture and Equestrian Center
DESCRIPTION:An evening of hearty fare and heartfelt giving returns with the Hill Country Wild Game Charity Dinner on April 25\, 2026\, from 4 pm to 8 pm at The Kendall County Youth Agriculture and Equestrian Center\, 648 FM 289\, Comfort\, TX 78013. Hosted by St. John Lutheran Church & School\, this annual event raises funds for local and international charities that support programs improving lives throughout the community. \nGuests can enjoy an all-you-can-eat spread of wild game dishes while taking part in door prizes\, silent and live auctions\, and kids’ games designed for family-friendly fun. The 2026 event marks the 23rd anniversary of the dinner\, which has raised more than $700\,000 to date for charitable organizations and nonprofit groups in need. \nTickets are $35 for adults and $5 for children when purchased prior to April 20. After April 20 and at the door\, tickets are $50. For more information or to RSVP\, contact Shari Hahn at 830-249-3651 or visit Hill Country Wild Game Charity Dinner – St. John Lutheran Church – Boerne\, TX.
URL:https://theboernelife.com/events/hill-country-wild-game-charity-dinner-at-the-kendall-county-youth-agriculture-and-equestrian-center/
LOCATION:Kendall County Youth Agriculture & Equestrian Center\, 648 FM 289\, Comfort\, TX\, 78006\, United States
CATEGORIES:Fundraiser
ATTACH;FMTTYPE=image/jpeg:https://theboernelife.com/wp-content/uploads/2026/02/hill-country-wild-game-charity-dinner-at-the-kendall-county-youth-agriculture-and-equestrian-center.jpg
END:VEVENT
BEGIN:VEVENT
DTSTART;TZID=America/Chicago:20260425T180000
DTEND;TZID=America/Chicago:20260425T220000
DTSTAMP:20260420T115955
CREATED:20260410T010510Z
LAST-MODIFIED:20260411T013621Z
UID:10037274-1777140000-1777154400@theboernelife.com
SUMMARY:Comfort Little Theater Production 2026
DESCRIPTION:It’s SHOWTIME\, Comfort! \nThe Comfort Little Theater proudly presents its 94th production:\nEverything’s Bigger in Texas or Come and Fake It!\, \nApril 24 & 25 and May 1 & 2\nWaring Fire Hall – Waring Theater District\nDoors & ticket sales at 6:00 PM with Music beginning at 6:30 PM\nShow starts at 7:30 PM \nFirst come\, first save! \nExpect a night of laughs\, local flavor\, and a little risqué fun (PG-17!)\nThis year’s show includes:\n-Literary moments\n-A trip to our your local Redneck Day Spa\n-A visit with the Real Housewives of Center Point\n-A return visit from the Waring Fishermen\n-And a whole lotta laughs!\n-Beer by donation\n-Set-ups sold by Waring Area Community Association\n-Snacks & food available from the Comfort High School Travel Club \nTickets:\n$5 Adults | $10 Kids | $50 Crying Babies (no joke ) \nAll proceeds go right back into our community—supporting local charities\, groups\, and scholarships.\nFollow us here for updates & sneak peeks! \nThe Comfort Little Theater (that’s us!)\nTag your friends\, grab your seat early\, and get ready for a night you won’t forget! \nReserved seating may be available for parties of 8 or more – please contact Phil Saur @ 830-796-1690 for information.
URL:https://theboernelife.com/events/comfort-little-theater-production-2026/2026-04-25/
LOCATION:Waring Hall\, 11 Waring Road\, Waring\, TX\, 78074\, United States
CATEGORIES:Arts and Culture,Fundraiser,Music
ATTACH;FMTTYPE=image/jpeg:https://theboernelife.com/wp-content/uploads/2026/04/FB-image.jpg
END:VEVENT
BEGIN:VEVENT
DTSTART;TZID=America/Chicago:20260501T180000
DTEND;TZID=America/Chicago:20260501T220000
DTSTAMP:20260420T115955
CREATED:20260410T010510Z
LAST-MODIFIED:20260411T013621Z
UID:10037275-1777658400-1777672800@theboernelife.com
SUMMARY:Comfort Little Theater Production 2026
DESCRIPTION:It’s SHOWTIME\, Comfort! \nThe Comfort Little Theater proudly presents its 94th production:\nEverything’s Bigger in Texas or Come and Fake It!\, \nApril 24 & 25 and May 1 & 2\nWaring Fire Hall – Waring Theater District\nDoors & ticket sales at 6:00 PM with Music beginning at 6:30 PM\nShow starts at 7:30 PM \nFirst come\, first save! \nExpect a night of laughs\, local flavor\, and a little risqué fun (PG-17!)\nThis year’s show includes:\n-Literary moments\n-A trip to our your local Redneck Day Spa\n-A visit with the Real Housewives of Center Point\n-A return visit from the Waring Fishermen\n-And a whole lotta laughs!\n-Beer by donation\n-Set-ups sold by Waring Area Community Association\n-Snacks & food available from the Comfort High School Travel Club \nTickets:\n$5 Adults | $10 Kids | $50 Crying Babies (no joke ) \nAll proceeds go right back into our community—supporting local charities\, groups\, and scholarships.\nFollow us here for updates & sneak peeks! \nThe Comfort Little Theater (that’s us!)\nTag your friends\, grab your seat early\, and get ready for a night you won’t forget! \nReserved seating may be available for parties of 8 or more – please contact Phil Saur @ 830-796-1690 for information.
URL:https://theboernelife.com/events/comfort-little-theater-production-2026/2026-05-01/
LOCATION:Waring Hall\, 11 Waring Road\, Waring\, TX\, 78074\, United States
CATEGORIES:Arts and Culture,Fundraiser,Music
ATTACH;FMTTYPE=image/jpeg:https://theboernelife.com/wp-content/uploads/2026/04/FB-image.jpg
END:VEVENT
BEGIN:VEVENT
DTSTART;TZID=America/Chicago:20260502T180000
DTEND;TZID=America/Chicago:20260502T220000
DTSTAMP:20260420T115955
CREATED:20260410T010510Z
LAST-MODIFIED:20260411T013621Z
UID:10037276-1777744800-1777759200@theboernelife.com
SUMMARY:Comfort Little Theater Production 2026
DESCRIPTION:It’s SHOWTIME\, Comfort! \nThe Comfort Little Theater proudly presents its 94th production:\nEverything’s Bigger in Texas or Come and Fake It!\, \nApril 24 & 25 and May 1 & 2\nWaring Fire Hall – Waring Theater District\nDoors & ticket sales at 6:00 PM with Music beginning at 6:30 PM\nShow starts at 7:30 PM \nFirst come\, first save! \nExpect a night of laughs\, local flavor\, and a little risqué fun (PG-17!)\nThis year’s show includes:\n-Literary moments\n-A trip to our your local Redneck Day Spa\n-A visit with the Real Housewives of Center Point\n-A return visit from the Waring Fishermen\n-And a whole lotta laughs!\n-Beer by donation\n-Set-ups sold by Waring Area Community Association\n-Snacks & food available from the Comfort High School Travel Club \nTickets:\n$5 Adults | $10 Kids | $50 Crying Babies (no joke ) \nAll proceeds go right back into our community—supporting local charities\, groups\, and scholarships.\nFollow us here for updates & sneak peeks! \nThe Comfort Little Theater (that’s us!)\nTag your friends\, grab your seat early\, and get ready for a night you won’t forget! \nReserved seating may be available for parties of 8 or more – please contact Phil Saur @ 830-796-1690 for information.
URL:https://theboernelife.com/events/comfort-little-theater-production-2026/2026-05-02/
LOCATION:Waring Hall\, 11 Waring Road\, Waring\, TX\, 78074\, United States
CATEGORIES:Arts and Culture,Fundraiser,Music
ATTACH;FMTTYPE=image/jpeg:https://theboernelife.com/wp-content/uploads/2026/04/FB-image.jpg
END:VEVENT
END:VCALENDAR