BEGIN:VCALENDAR
VERSION:2.0
PRODID:-//The Boerne Life - ECPv6.15.15//NONSGML v1.0//EN
CALSCALE:GREGORIAN
METHOD:PUBLISH
X-WR-CALNAME:The Boerne Life
X-ORIGINAL-URL:https://theboernelife.com
X-WR-CALDESC:Events for The Boerne Life
REFRESH-INTERVAL;VALUE=DURATION:PT1H
X-Robots-Tag:noindex
X-PUBLISHED-TTL:PT1H
BEGIN:VTIMEZONE
TZID:America/Chicago
BEGIN:DAYLIGHT
TZOFFSETFROM:-0600
TZOFFSETTO:-0500
TZNAME:CDT
DTSTART:20240310T080000
END:DAYLIGHT
BEGIN:STANDARD
TZOFFSETFROM:-0500
TZOFFSETTO:-0600
TZNAME:CST
DTSTART:20241103T070000
END:STANDARD
BEGIN:DAYLIGHT
TZOFFSETFROM:-0600
TZOFFSETTO:-0500
TZNAME:CDT
DTSTART:20250309T080000
END:DAYLIGHT
BEGIN:STANDARD
TZOFFSETFROM:-0500
TZOFFSETTO:-0600
TZNAME:CST
DTSTART:20251102T070000
END:STANDARD
BEGIN:DAYLIGHT
TZOFFSETFROM:-0600
TZOFFSETTO:-0500
TZNAME:CDT
DTSTART:20260308T080000
END:DAYLIGHT
BEGIN:STANDARD
TZOFFSETFROM:-0500
TZOFFSETTO:-0600
TZNAME:CST
DTSTART:20261101T070000
END:STANDARD
END:VTIMEZONE
BEGIN:VEVENT
DTSTART;TZID=America/Chicago:20251019T180000
DTEND;TZID=America/Chicago:20251019T220000
DTSTAMP:20260422T204926
CREATED:20250921T231615Z
LAST-MODIFIED:20251017T144446Z
UID:10032034-1760896800-1760911200@theboernelife.com
SUMMARY:Boerne Champion FFA Burger Bash at 28 Songs Brewhouse + Kitchen
DESCRIPTION:Head out to 28 Songs Brewhouse + Kitchen for the Boerne Champion FFA Burger Bash on Sunday\, October 19\, from 6 pm to 10 pm. This lively event is packed with food\, fun\, and community spirit—all in support of the Boerne Champion FFA. \nGuests can enjoy burger plates served with a side\, pickle\, cookie\, and tea or lemonade. The evening will also feature live music\, mechanical bull riding\, a corn hole tournament\, watermelon eating contest\, and axe throwing. \n28 Songs Brewhouse + Kitchen is located at 110 Market Ave\, Boerne\, TX 78006. All are welcome to attend this fun-filled night celebrating local youth and agriculture.
URL:https://theboernelife.com/events/boerne-champion-ffa-burger-bash-at-28-songs-brewhouse-kitchen/
LOCATION:28 Songs Brewhouse + Kitchen\, 110 Market Ave\, Boerne\, TX\, 78006\, United States
CATEGORIES:Food and Drink,Fundraiser
ATTACH;FMTTYPE=image/jpeg:https://theboernelife.com/wp-content/uploads/2025/09/boerne-champion-ffa-burger-bash-at-28-songs-brewhouse-kitchen.jpg
END:VEVENT
BEGIN:VEVENT
DTSTART;TZID=America/Chicago:20251018T170000
DTEND;TZID=America/Chicago:20251018T200000
DTSTAMP:20260422T204926
CREATED:20250923T034622Z
LAST-MODIFIED:20250923T034622Z
UID:10032507-1760806800-1760817600@theboernelife.com
SUMMARY:Wild Game Dinner at Kendall County Youth Ag & Equestrian Center
DESCRIPTION:Guests can enjoy a night of incredible food and community celebration at the Wild Game Dinner\, the premier fundraiser for the Kendall County Jr. Livestock Association. This annual event supports local youth through scholarships\, leadership camps\, and educational programs centered on agriculture. \nThe dinner features a wide variety of wild game prepared by returning and new cook teams. Favorites from past years include bacon-wrapped quail\, fried alligator and axis\, and wild boar chili verde\, all served in a casual\, festive atmosphere. This year’s dinner will take place on October 18\, with gates opening at 5 pm at the Kendall County Youth Ag & Equestrian Center\, located at 648 FM 289 in Comfort\, Texas. \nSponsorship opportunities are available by contacting KendallCoWGD@gmail.com.
URL:https://theboernelife.com/events/wild-game-dinner-at-kendall-county-youth-ag-equestrian-center/
LOCATION:Kendall County Youth Agriculture & Equestrian Center\, 648 FM 289\, Comfort\, TX\, 78006\, United States
CATEGORIES:Fundraiser
ATTACH;FMTTYPE=image/jpeg:https://theboernelife.com/wp-content/uploads/2025/09/wild-game-dinner-at-kendall-county-youth-ag-and-equestrian-center.jpg
END:VEVENT
BEGIN:VEVENT
DTSTART;TZID=America/Chicago:20251018T090000
DTEND;TZID=America/Chicago:20251018T120000
DTSTAMP:20260422T204926
CREATED:20251015T175107Z
LAST-MODIFIED:20251016T020238Z
UID:10033008-1760778000-1760788800@theboernelife.com
SUMMARY:Just a Little 5K
DESCRIPTION:Join us for the inaugural Just a Little 5K on Saturday\, October 18\, 2025\, in the charming town of Boerne! This uplifting event is dedicated to raising awareness for dwarfism and supporting children with disabilities. Lace up your running shoes and be part of a community focused on making a difference\, as we come together to promote inclusivity and understanding. \nWhether you’re a seasoned runner or looking to enjoy a fun day out with family and friends\, the 5K race offers an exciting opportunity to celebrate strength\, resilience\, and unity. Don’t miss your chance to make an impact while enjoying the scenic surroundings of Boerne. Sign up today and help us make this event a memorable one! \nThrough the link below you can register\, buy an optional T-shirt\, and add a donation if you’d like: https://runsignup.com/Race/TX/Boerne/JustALittle5K
URL:https://theboernelife.com/events/just-a-little-5k/
LOCATION:Boerne Main Plaza\, 100 N. Main Street\, Boerne\, TX\, 78006\, United States
CATEGORIES:Fundraiser,Health and Wellness
ATTACH;FMTTYPE=image/jpeg:https://theboernelife.com/wp-content/uploads/2025/10/555624603_10231409811973914_1079440679486963882_n.jpg
END:VEVENT
BEGIN:VEVENT
DTSTART;TZID=America/Chicago:20251004T090000
DTEND;TZID=America/Chicago:20251004T120000
DTSTAMP:20260422T204926
CREATED:20251003T001237Z
LAST-MODIFIED:20251003T001237Z
UID:10032628-1759568400-1759579200@theboernelife.com
SUMMARY:Fall Bake Sale and Pumpkin Sale at Comfort Golden Age Center
DESCRIPTION:The Comfort Golden Age Center is hosting a delightful Fall Bake Sale and Pumpkin Sale on Saturday\, October 4\, beginning at 9:00 am and continuing until everything is sold out. This seasonal fundraiser will be held at 626 and 628 Front Street in Comfort\, Texas. \nGuests can shop a variety of homemade baked goods and pick out the perfect pumpkins in all shapes and sizes—just in time for fall decorating and holiday baking. Proceeds from the sale will benefit the Comfort Golden Age Center\, supporting local programs and services for seniors in the community. \nFor more information\, contact 830-995-3032 or email info@comfortgac.org. Come early for the best selection!
URL:https://theboernelife.com/events/fall-bake-sale-and-pumpkin-sale-at-comfort-golden-age-center/
LOCATION:Comfort Golden Age Center\, 626 and 628 Front Street\, Comfort\, TX\, 78013\, United States
CATEGORIES:Fundraiser
ATTACH;FMTTYPE=image/jpeg:https://theboernelife.com/wp-content/uploads/2025/10/fall-bake-sale-and-pumpkin-sale-at-comfort-golden-age-center.jpg
END:VEVENT
BEGIN:VEVENT
DTSTART;TZID=America/Chicago:20251004T080000
DTEND;TZID=America/Chicago:20251004T170000
DTSTAMP:20260422T204926
CREATED:20250928T101141Z
LAST-MODIFIED:20251003T163847Z
UID:10032536-1759564800-1759597200@theboernelife.com
SUMMARY:Fall Super Exotic Wildlife Auction at The Bevy Hotel
DESCRIPTION:WildLife Partners will host its Fall Super Exotic Wildlife Auction on Friday\, October 3 and Saturday\, October 4 at The Bevy Hotel in Boerne\, TX. This two-day event is a major gathering in the exotic wildlife industry\, bringing together landowners\, ranchers\, breeders\, investors\, and conservationists for a high-energy\, community-driven experience. \nFriday evening features the Stocker Special Auction with 50 lots of high-quality stocker inventory. Doors open at 5:00 pm\, and the auction begins at 7:00 pm. Saturday’s main event—the Super Exotic Wildlife Auction—will open at 3:00 pm with vendor booths and networking until 5:00 pm\, followed by the auction of over 100 premium lots of ranch-raised exotic animals\, including rare breeders and high-demand species. \nWildLife Partners is recognized as a national leader in for-profit wildlife conservation\, with operations across four Texas ranches and an inventory of more than 5\,000 animals. This auction highlights their innovative approach to wildlife management and investment. \nFood\, drinks\, live entertainment\, and vendor exhibits will be available throughout the weekend. Seating is limited and pre-registration is required. \nThe Bevy Hotel is located at 101 Herff Road\, Boerne\, TX 78006. For additional details or to register\, visit https://wlpauction.com/.
URL:https://theboernelife.com/events/fall-super-exotic-wildlife-auction-at-the-bevy-hotel/2025-10-04/
LOCATION:The Bevy Hotel Boerne\, 101 Herff Rd\, Boerne\, TX\, 78006\, United States
CATEGORIES:Fundraiser
ATTACH;FMTTYPE=image/jpeg:https://theboernelife.com/wp-content/uploads/2025/09/fall-super-exotic-wildlife-auction-at-the-bevy-hotel.jpg
END:VEVENT
BEGIN:VEVENT
DTSTART;TZID=America/Chicago:20251003T170000
DTEND;TZID=America/Chicago:20251003T223000
DTSTAMP:20260422T204926
CREATED:20250928T101141Z
LAST-MODIFIED:20251003T163847Z
UID:10032535-1759510800-1759530600@theboernelife.com
SUMMARY:Fall Super Exotic Wildlife Auction at The Bevy Hotel
DESCRIPTION:WildLife Partners will host its Fall Super Exotic Wildlife Auction on Friday\, October 3 and Saturday\, October 4 at The Bevy Hotel in Boerne\, TX. This two-day event is a major gathering in the exotic wildlife industry\, bringing together landowners\, ranchers\, breeders\, investors\, and conservationists for a high-energy\, community-driven experience. \nFriday evening features the Stocker Special Auction with 50 lots of high-quality stocker inventory. Doors open at 5:00 pm\, and the auction begins at 7:00 pm. Saturday’s main event—the Super Exotic Wildlife Auction—will open at 3:00 pm with vendor booths and networking until 5:00 pm\, followed by the auction of over 100 premium lots of ranch-raised exotic animals\, including rare breeders and high-demand species. \nWildLife Partners is recognized as a national leader in for-profit wildlife conservation\, with operations across four Texas ranches and an inventory of more than 5\,000 animals. This auction highlights their innovative approach to wildlife management and investment. \nFood\, drinks\, live entertainment\, and vendor exhibits will be available throughout the weekend. Seating is limited and pre-registration is required. \nThe Bevy Hotel is located at 101 Herff Road\, Boerne\, TX 78006. For additional details or to register\, visit https://wlpauction.com/.
URL:https://theboernelife.com/events/fall-super-exotic-wildlife-auction-at-the-bevy-hotel/2025-10-03/
LOCATION:The Bevy Hotel Boerne\, 101 Herff Rd\, Boerne\, TX\, 78006\, United States
CATEGORIES:Fundraiser
ATTACH;FMTTYPE=image/jpeg:https://theboernelife.com/wp-content/uploads/2025/09/fall-super-exotic-wildlife-auction-at-the-bevy-hotel.jpg
END:VEVENT
BEGIN:VEVENT
DTSTART;TZID=America/Chicago:20250927T170000
DTEND;TZID=America/Chicago:20250927T200000
DTSTAMP:20260422T204926
CREATED:20250917T140004Z
LAST-MODIFIED:20250917T224146Z
UID:10030940-1758992400-1759003200@theboernelife.com
SUMMARY:Saddle Up for Strays-Dog Rescue Fundraiser
DESCRIPTION:Texas Round Up Animal Alliance (TRUAA)\, a small\, big-hearted\, non-profit dog rescue organization based in Center Point\, is hosting their annual fundraiser event on September 27\, 2025 called Saddle Up For Strays. All proceeds will be used to support their lifesaving programs and ongoing safety net for county animal shelters who need private rescues like ours to help ease their overcrowding.\nThe event is on Saturday\, September 27 from 5:00 pm to 8:00 pm at the Potterosa Barn located at 6780 Highway 27 in Comfort\, TX. This will be a comforting event where our loving and generous community can share in the lifesaving mission of TRUAA. The event will feature a hearty chuckwagon dinner\, live music from Duran Duo\, dancing in the barn\, a live silent auction and more!\nGet your tickets by visiting TRUAA’s website at: www.texasroundupanimalalliance.org and click on the “Saddle Up For Strays” tab.\nThank you to our Chuck Wagon & Urban Cowboy sponsors\, Amy and Busty Underwood\, Five Cross Services\, LLC. and Aflac-Potter District
URL:https://theboernelife.com/events/saddle-up-for-strays-dog-rescue-fundraiser/
LOCATION:Potterosa Barn\, 6780 Highway 27\, Comfort\, 78013
CATEGORIES:Fundraiser
ATTACH;FMTTYPE=image/png:https://theboernelife.com/wp-content/uploads/2025/09/SUFS-Flyer.png
END:VEVENT
BEGIN:VEVENT
DTSTART;TZID=America/Chicago:20250920T080000
DTEND;TZID=America/Chicago:20250920T120000
DTSTAMP:20260422T204926
CREATED:20250902T234940Z
LAST-MODIFIED:20250908T053746Z
UID:10030543-1758355200-1758369600@theboernelife.com
SUMMARY:Eaglettes Community Yard Sale
DESCRIPTION:Come and turn your junk into someone else’s treasures or come and shop to see what you may find! For only a minimum of a $35 donation\, you can come and sell your stuff in a 10×10 spot. All donations are to send the Eaglettes to competition!
URL:https://theboernelife.com/events/eaglettes-community-yard-sale/
LOCATION:Voss Middle School\, 45 Voss Parkway\, Boerne\, TX\, 78006\, United States
CATEGORIES:Fundraiser
ATTACH;FMTTYPE=image/png:https://theboernelife.com/wp-content/uploads/2025/09/inbound4468875279902510637.png
ORGANIZER;CN="Voss Eaglettes":MAILTO:Tatiana.ontiveros@boerneisd.net
END:VEVENT
BEGIN:VEVENT
DTSTART;TZID=America/Chicago:20250918T120000
DTEND;TZID=America/Chicago:20250918T130000
DTSTAMP:20260422T204926
CREATED:20250804T205614Z
LAST-MODIFIED:20250804T205614Z
UID:10030155-1758196800-1758200400@theboernelife.com
SUMMARY:Christian Journey Courses Luncheon Fundraiser at First United Methodist Church
DESCRIPTION:Support local transformation programs and learn how Christian Journey Courses is helping inmates and probationers break cycles of dysfunction and find a new beginning. This luncheon fundraiser\, titled “Unlocking the Prison of the Mind\,” will share stories of impact\, offer a silent auction\, and provide insight into CJC’s life-changing work in Kendall and Bandera Counties. \nThe event takes place on Thursday\, September 18\, 2025\, from 12 pm to 1 pm at First United Methodist Church\, 205 James St.\, Boerne\, TX. Doors open at 11 am for the silent auction. Admission is free\, but registration is required by September 12. \nTo register or learn more\, visit www.cjcboerne.org/luncheon-fundraiser or call (830) 331-9916 ext. 2. All proceeds support CJC’s community and inmate programs for 2026 and beyond.
URL:https://theboernelife.com/events/christian-journey-courses-luncheon-fundraiser-at-first-united-methodist-church/
LOCATION:First United Methodist Church Boerne\, 205 James St\, Boerne\, TX\, 78006\, United States
CATEGORIES:Fundraiser
ATTACH;FMTTYPE=image/jpeg:https://theboernelife.com/wp-content/uploads/2025/08/TBL-FB-Tall-Image-68.jpg
END:VEVENT
BEGIN:VEVENT
DTSTART;TZID=America/Chicago:20250916T113000
DTEND;TZID=America/Chicago:20250916T200000
DTSTAMP:20260422T204926
CREATED:20250915T050606Z
LAST-MODIFIED:20250915T050620Z
UID:10030924-1758022200-1758052800@theboernelife.com
SUMMARY:Sweet Song of Life – Annual Fundraising Gala for Hill Country Pregnancy Care Center
DESCRIPTION:Join Hill Country Pregnancy Care Center for Sweet Song of Life: A Melody of Love\, the annual fundraising gala supporting families across the Hill Country. Taking place on Tuesday\, September 16\, 2025\, the event offers two options to attend: \nLuncheon: 11:30 am – 1:00 pm (catered by Smoke in the Hills)\nDinner: 6:00 pm – 8:00 pm (catered by Hungry Horse) \nGuests will enjoy a catered meal\, hear inspiring client stories\, and learn more about the life-changing work of HCPCC. This event is an opportunity to support no-cost pregnancy and parenting services for families in need throughout the community. \nEvent Details:\n– Free to attend; registration required\n– Business casual dress recommended\n– Limited seating available\n– Registration closes September 2 \nLocation:\nHill Country Pregnancy Care Center\n202 Spring Creek Rd\, Boerne\, TX 78006 \nTo register or learn more\, visit hcpccgala.org.\nFor questions\, contact events@hcpcctexas.org or call 830-249-9717.
URL:https://theboernelife.com/events/sweet-song-of-life-annual-fundraising-gala-for-hill-country-pregnancy-care-center/
LOCATION:Hill Country Pregnancy Care Center\, 202 Spring Creek Rd\, Boerne\, TX\, 78006\, United States
CATEGORIES:Fundraiser
ATTACH;FMTTYPE=image/jpeg:https://theboernelife.com/wp-content/uploads/2025/09/sweet-song-of-life-annual-fundraising-gala-for-hill-country-pregnancy-care-center.jpg
END:VEVENT
BEGIN:VEVENT
DTSTART;TZID=America/Chicago:20250913T140000
DTEND;TZID=America/Chicago:20250913T170000
DTSTAMP:20260422T204926
CREATED:20250909T234900Z
LAST-MODIFIED:20250909T234900Z
UID:10030871-1757772000-1757782800@theboernelife.com
SUMMARY:Benefit Concert & Auction for Essence & Saving Grace
DESCRIPTION:Get ready for an afternoon of powerful harmony and heartfelt community spirit at the Benefit Concert & Auction in support of Essence and Saving Grace—two outstanding quartets representing Region 10 at the Sweet Adelines International Quartet Contest this fall in Columbus\, Ohio. \nThe event will take place on Saturday\, September 13\, 2025\, at Boerne Church of Christ\, located at 1 Upper Balcones Rd\, Boerne\, TX. Doors and the silent auction open at 1:30 pm\, with the concert beginning at 2:00 pm. \nGuests will enjoy performances by award-winning barbershop quartets including:\n– Essence\n– Saving Grace\n– Sterling\n– Hot Note\n– Blue Baris \nThis uplifting concert is free and open to the public\, with a suggested donation of $20. Attendees can also participate in raffles and a silent auction\, all while supporting talented local singers on their journey to the international stage. \nCan’t attend in person? Tune in live on Facebook at showtime—no sign-up required. \nTo show your support with official merchandise\, visit:\nwww.customquartetstuff.com/collections/essence\nwww.customquartetstuff.com/collections/saving-grace \nLet’s help these incredible quartets cross the Columbus finish line in full harmony!
URL:https://theboernelife.com/events/benefit-concert-auction-for-essence-saving-grace/
LOCATION:Boerne Church of Christ\, 1 Upper Balcones Rd\, Boerne\, TX\, 78006\, United States
CATEGORIES:Fundraiser
ATTACH;FMTTYPE=image/jpeg:https://theboernelife.com/wp-content/uploads/2025/09/benefit-concert-and-auction-for-essence-and-saving-grace.jpg
END:VEVENT
END:VCALENDAR