BEGIN:VCALENDAR
VERSION:2.0
PRODID:-//The Boerne Life - ECPv6.15.15//NONSGML v1.0//EN
CALSCALE:GREGORIAN
METHOD:PUBLISH
X-ORIGINAL-URL:https://theboernelife.com
X-WR-CALDESC:Events for The Boerne Life
REFRESH-INTERVAL;VALUE=DURATION:PT1H
X-Robots-Tag:noindex
X-PUBLISHED-TTL:PT1H
BEGIN:VTIMEZONE
TZID:America/Chicago
BEGIN:DAYLIGHT
TZOFFSETFROM:-0600
TZOFFSETTO:-0500
TZNAME:CDT
DTSTART:20250309T080000
END:DAYLIGHT
BEGIN:STANDARD
TZOFFSETFROM:-0500
TZOFFSETTO:-0600
TZNAME:CST
DTSTART:20251102T070000
END:STANDARD
BEGIN:DAYLIGHT
TZOFFSETFROM:-0600
TZOFFSETTO:-0500
TZNAME:CDT
DTSTART:20260308T080000
END:DAYLIGHT
BEGIN:STANDARD
TZOFFSETFROM:-0500
TZOFFSETTO:-0600
TZNAME:CST
DTSTART:20261101T070000
END:STANDARD
BEGIN:DAYLIGHT
TZOFFSETFROM:-0600
TZOFFSETTO:-0500
TZNAME:CDT
DTSTART:20270314T080000
END:DAYLIGHT
BEGIN:STANDARD
TZOFFSETFROM:-0500
TZOFFSETTO:-0600
TZNAME:CST
DTSTART:20271107T070000
END:STANDARD
END:VTIMEZONE
BEGIN:VEVENT
DTSTART;VALUE=DATE:20260129
DTEND;VALUE=DATE:20260130
DTSTAMP:20260420T060043
CREATED:20251229T040411Z
LAST-MODIFIED:20251229T040411Z
UID:10033911-1769644800-1769731199@theboernelife.com
SUMMARY:Fair Oaks Ranch 2026 State of the City Address at Spring Creek United Methodist Church
DESCRIPTION:The Fair Oaks Ranch 2026 State of the City Address provides an opportunity for residents and community members to hear directly from Mayor Greg Maxton and the City Council about the year ahead. The program will outline upcoming capital improvement projects\, the city’s approach to financial stewardship\, and key initiatives focused on preserving Fair Oaks Ranch’s unique character while supporting thoughtful\, sustainable growth. \nThe address will take place on January 29\, 2026\, at Spring Creek United Methodist Church in Fair Oaks Ranch\, Texas. Additional event details are expected to be shared closer to the date.
URL:https://theboernelife.com/events/fair-oaks-ranch-2026-state-of-the-city-address-at-spring-creek-united-methodist-church/
LOCATION:Spring Creek UMC\, 9200 Dietz Elkhorn\, Fair Oaks Ranch\, Texas\, 78015
CATEGORIES:General
ATTACH;FMTTYPE=image/jpeg:https://theboernelife.com/wp-content/uploads/2025/12/fair-oaks-ranch-2026-state-of-the-city-address-at-spring-creek-united-methodist-church.jpg
END:VEVENT
BEGIN:VEVENT
DTSTART;TZID=America/Chicago:20260129T150000
DTEND;TZID=America/Chicago:20260129T160000
DTSTAMP:20260420T060043
CREATED:20240321T111822Z
LAST-MODIFIED:20251229T121634Z
UID:10013125-1769698800-1769702400@theboernelife.com
SUMMARY:Tech Help in the Lobby
DESCRIPTION:Have a tech question you can’t find the answer to? Visit the Tech Help table in the library and get free assistance. Walk-ins only. No appointments.
URL:https://theboernelife.com/events/tech-help-in-the-lobby/2026-01-29/
LOCATION:Patrick Heath Public Library\, 451 N. Main Street\, Boerne\, TX\, 78006\, United States
CATEGORIES:General
ATTACH;FMTTYPE=image/jpeg:https://theboernelife.com/wp-content/uploads/2024/02/Library-Tech-Help.jpg
END:VEVENT
BEGIN:VEVENT
DTSTART;TZID=America/Chicago:20260129T180000
DTEND;TZID=America/Chicago:20260129T200000
DTSTAMP:20260420T060043
CREATED:20260107T152042Z
LAST-MODIFIED:20260107T152042Z
UID:10034062-1769709600-1769716800@theboernelife.com
SUMMARY:National Puzzle Day Competition
DESCRIPTION:January 29 is National Puzzle Day! \nIt’s the perfect day to give your brain a little workout! Did you know that working on a jigsaw puzzle uses both sides of your brain? This can improve memory\, cognitive function\, and problem-solving abilities! \n\nDoors Open at 6 pm\, PUZZLING begins at 6:30 pm!\nSign up a team of 4 OR Sign up individually and we’ll match you with a team\nSNACKS WILL BE SERVED!\nLimited to 10 teams of 4 (40 people)\n\nRegister Here: https://tinyurl.com/phplpuzzle26
URL:https://theboernelife.com/events/national-puzzle-day-competition/
LOCATION:Patrick Heath Public Library\, 451 N. Main Street\, Boerne\, TX\, 78006\, United States
CATEGORIES:General
ATTACH;FMTTYPE=image/png:https://theboernelife.com/wp-content/uploads/2026/01/National-Puzzle-Day_Y4kj.png
END:VEVENT
END:VCALENDAR