BEGIN:VCALENDAR
VERSION:2.0
PRODID:-//The Boerne Life - ECPv6.15.15//NONSGML v1.0//EN
CALSCALE:GREGORIAN
METHOD:PUBLISH
X-WR-CALNAME:The Boerne Life
X-ORIGINAL-URL:https://theboernelife.com
X-WR-CALDESC:Events for The Boerne Life
REFRESH-INTERVAL;VALUE=DURATION:PT1H
X-Robots-Tag:noindex
X-PUBLISHED-TTL:PT1H
BEGIN:VTIMEZONE
TZID:America/Chicago
BEGIN:DAYLIGHT
TZOFFSETFROM:-0600
TZOFFSETTO:-0500
TZNAME:CDT
DTSTART:20230312T080000
END:DAYLIGHT
BEGIN:STANDARD
TZOFFSETFROM:-0500
TZOFFSETTO:-0600
TZNAME:CST
DTSTART:20231105T070000
END:STANDARD
BEGIN:DAYLIGHT
TZOFFSETFROM:-0600
TZOFFSETTO:-0500
TZNAME:CDT
DTSTART:20240310T080000
END:DAYLIGHT
BEGIN:STANDARD
TZOFFSETFROM:-0500
TZOFFSETTO:-0600
TZNAME:CST
DTSTART:20241103T070000
END:STANDARD
BEGIN:DAYLIGHT
TZOFFSETFROM:-0600
TZOFFSETTO:-0500
TZNAME:CDT
DTSTART:20250309T080000
END:DAYLIGHT
BEGIN:STANDARD
TZOFFSETFROM:-0500
TZOFFSETTO:-0600
TZNAME:CST
DTSTART:20251102T070000
END:STANDARD
END:VTIMEZONE
BEGIN:VEVENT
DTSTART;TZID=America/Chicago:20241104T100000
DTEND;TZID=America/Chicago:20241104T110000
DTSTAMP:20260421T030929
CREATED:20240602T122459Z
LAST-MODIFIED:20250217T110953Z
UID:10017447-1730714400-1730718000@theboernelife.com
SUMMARY:Tech Time
DESCRIPTION:Leslie Kirk will be in the lobby each Monday\, from 10am to 11am to help you with your technology questions. Walk-ins only.
URL:https://theboernelife.com/events/tech-time/2024-11-04/
LOCATION:Patrick Heath Public Library\, 451 N. Main Street\, Boerne\, TX\, 78006\, United States
CATEGORIES:General
ATTACH;FMTTYPE=image/jpeg:https://theboernelife.com/wp-content/uploads/2024/02/Library-Tech-Help.jpg
END:VEVENT
BEGIN:VEVENT
DTSTART;TZID=America/Chicago:20241105T070000
DTEND;TZID=America/Chicago:20241105T190000
DTSTAMP:20260421T030929
CREATED:20241104T001912Z
LAST-MODIFIED:20241105T115701Z
UID:10022866-1730790000-1730833200@theboernelife.com
SUMMARY:Election Day 2024: General Election in Kendall County
DESCRIPTION:Tuesday\, November 5th is Election Day! This is your last chance to vote for the next President of the United States\, among other important positions. \nOn Election Day\, Kendall County voters have the flexibility to cast their ballots at any designated Vote Center location across the county\, thanks to the Countywide Polling Place Program. Polls will be open from 7 a.m. to 7 p.m.\, making it convenient to vote at a location that best suits your day. \nAvailable Vote Center Locations include: \n\nCity Hall (Training Room)\, 447 N Main Street\, Boerne\nFirst Baptist Church (HUB)\, 631 S School Street\, Boerne\nBergheim Volunteer Fire Department\, 1 Old Curry Creek Road\, Bergheim\nBurdick Community Center\, 119 Old San Antonio Road\, Boerne\nKendall County Fairgrounds (New Dance Hall)\, 1307 River Road\, Boerne\nKendalia Community Center\, 2610 FM 473\, Kendalia\nBoerne Bible Church\, 1026 E Blanco Road\, Boerne\nSisterdale Community Center\, 2 Sisterdale-Lindendale Road\, Sisterdale\nComfort Baptist Church\, 100 Amber Drive\, Comfort\nWaring Fire House\, 11 Waring Road\, Boerne\nNineteen:Ten Church\, 130 FM 1376\, Boerne\n\nPlease note that locations are subject to change. Make your vote count at the most convenient location for you!
URL:https://theboernelife.com/events/election-day-2024-general-election-in-kendall-county/
LOCATION:Boerne City Hall\, 447 North Main Street\, Boerne\, TX\, 78006\, United States
CATEGORIES:General
ATTACH;FMTTYPE=image/jpeg:https://theboernelife.com/wp-content/uploads/2024/11/Boerne-City-Hall-1.jpg
END:VEVENT
BEGIN:VEVENT
DTSTART;TZID=America/Chicago:20241105T180000
DTEND;TZID=America/Chicago:20241105T200000
DTSTAMP:20260421T030929
CREATED:20240208T110320Z
LAST-MODIFIED:20251123T123748Z
UID:10000099-1730829600-1730836800@theboernelife.com
SUMMARY:Trivia Night at Free Roam
DESCRIPTION:Head over to Free Roam Brewing Company for an enthralling evening of live trivia\, brought to you by Challenge Entertainment – Austin & San Antonio Trivia. These engaging trivia nights are held every Tuesday\, beginning at 6:00 PM\, and offer a fun-packed 2-hour experience that’s open to the public. \nEvent Highlights: \n\nWeekly Trivia Nights: Set aside your Tuesdays for the ultimate quiz experience that challenges and entertains.\nFood Truck Delights: A food truck will be on-site\, serving up delicious eats to keep your brain fueled.\nPrizes Galore: Top teams stand a chance to win exciting prizes every week\, making every Tuesday a potentially rewarding experience.\nComplimentary Participation: There’s no cost to join in the fun\, making it a great\, budget-friendly night out.\nOpen to All: Whether a seasoned quiz master or a casual participant\, this event promises a great time for everyone in Boerne.\n\nThe trivia night at Free Roam Brewing Company is a perfect blend of competition\, camaraderie\, and local culture. With no entry fee and plenty of prizes up for grabs\, it’s an inviting scene for trivia buffs\, foodies\, and anyone looking for a memorable night out in Boerne. Join the community and prove you’re a know-it-all at San Antonio Trivia by Challenge Entertainment. Don’t miss out on the fun!
URL:https://theboernelife.com/events/trivia-night-at-free-roam/2024-11-05/
LOCATION:Free Roam Brewing Company\, 325 S Main Street\, Boerne\, TX\, 78006\, United States
CATEGORIES:General
ATTACH;FMTTYPE=image/png:https://theboernelife.com/wp-content/uploads/2024/02/Free-Roam-Trivia.png
END:VEVENT
BEGIN:VEVENT
DTSTART;TZID=America/Chicago:20241106T130000
DTEND;TZID=America/Chicago:20241106T140000
DTSTAMP:20260421T030929
CREATED:20240221T121952Z
LAST-MODIFIED:20241230T022511Z
UID:10013513-1730898000-1730901600@theboernelife.com
SUMMARY:Ask Alison for Tech Help
DESCRIPTION:Need help with your personal technology? Alison Topper is in the lobby each week to help! No appointments necessary!
URL:https://theboernelife.com/events/ask-alison-for-tech-help/2024-11-06/
LOCATION:Patrick Heath Public Library\, 451 N. Main Street\, Boerne\, TX\, 78006\, United States
CATEGORIES:General
ATTACH;FMTTYPE=image/jpeg:https://theboernelife.com/wp-content/uploads/2024/02/Library-Tech-Help.jpg
END:VEVENT
BEGIN:VEVENT
DTSTART;TZID=America/Chicago:20241106T183000
DTEND;TZID=America/Chicago:20241106T203000
DTSTAMP:20260421T030929
CREATED:20240925T165042Z
LAST-MODIFIED:20250618T105925Z
UID:10022448-1730917800-1730925000@theboernelife.com
SUMMARY:Trivia Night at Sauced
DESCRIPTION:Every Wednesday\, head out to Sauced Wing Bar for trivia night with Austin! It starts at six thirty-ish. Arrive early and you can hit Happy Hour!
URL:https://theboernelife.com/events/trivia-night-at-sauced/2024-11-06/
LOCATION:Sauced Wing Bar\, 215 W Bandera Rd #101\, Boerne\, TX\, 78006\, United States
CATEGORIES:General
ATTACH;FMTTYPE=image/jpeg:https://theboernelife.com/wp-content/uploads/2024/09/Sauced-Wing-Bar-Trivia.jpg
END:VEVENT
BEGIN:VEVENT
DTSTART;TZID=America/Chicago:20241107T150000
DTEND;TZID=America/Chicago:20241107T160000
DTSTAMP:20260421T030929
CREATED:20240321T111822Z
LAST-MODIFIED:20251229T121634Z
UID:10013061-1730991600-1730995200@theboernelife.com
SUMMARY:Tech Help in the Lobby
DESCRIPTION:Have a tech question you can’t find the answer to? Visit the Tech Help table in the library and get free assistance. Walk-ins only. No appointments.
URL:https://theboernelife.com/events/tech-help-in-the-lobby/2024-11-07/
LOCATION:Patrick Heath Public Library\, 451 N. Main Street\, Boerne\, TX\, 78006\, United States
CATEGORIES:General
ATTACH;FMTTYPE=image/jpeg:https://theboernelife.com/wp-content/uploads/2024/02/Library-Tech-Help.jpg
END:VEVENT
BEGIN:VEVENT
DTSTART;VALUE=DATE:20241109
DTEND;VALUE=DATE:20241111
DTSTAMP:20260421T030929
CREATED:20240908T130104Z
LAST-MODIFIED:20251229T125636Z
UID:10021946-1731110400-1731283199@theboernelife.com
SUMMARY:Boerne Market Days
DESCRIPTION:Market Days in Boerne takes place at the central Main Plaza on the second weekend of the month\, right in the historic heart of the town. \nAvailable from 10 am to 5 pm on Saturdays and 10 am to 4 pm on Sundays\, this event has become a hallmark of quality open-air shopping in Boerne. You’ll find everything from local artists and craftsmen to merchants\, all set to the tune of authentic Texas music. \nEnjoy a fun day exploring the market’s booths\, offering everything from unique jewelry and artwork to handcrafted goods\, plants\, collectibles\, and antiques. Have lunch at one of the food trucks or tables\, and usually there’s a mobile bar set up as well! If not\, grab a to-go beer down the street and bring it over!
URL:https://theboernelife.com/events/boerne-market-days/2024-11-09/
LOCATION:Boerne Main Plaza\, 100 N. Main Street\, Boerne\, TX\, 78006\, United States
CATEGORIES:General
ATTACH;FMTTYPE=image/jpeg:https://theboernelife.com/wp-content/uploads/2024/02/Boerne-Market-Days.jpg
END:VEVENT
END:VCALENDAR