BEGIN:VCALENDAR
VERSION:2.0
PRODID:-//The Boerne Life - ECPv6.15.15//NONSGML v1.0//EN
CALSCALE:GREGORIAN
METHOD:PUBLISH
X-ORIGINAL-URL:https://theboernelife.com
X-WR-CALDESC:Events for The Boerne Life
REFRESH-INTERVAL;VALUE=DURATION:PT1H
X-Robots-Tag:noindex
X-PUBLISHED-TTL:PT1H
BEGIN:VTIMEZONE
TZID:America/Chicago
BEGIN:DAYLIGHT
TZOFFSETFROM:-0600
TZOFFSETTO:-0500
TZNAME:CDT
DTSTART:20250309T080000
END:DAYLIGHT
BEGIN:STANDARD
TZOFFSETFROM:-0500
TZOFFSETTO:-0600
TZNAME:CST
DTSTART:20251102T070000
END:STANDARD
BEGIN:DAYLIGHT
TZOFFSETFROM:-0600
TZOFFSETTO:-0500
TZNAME:CDT
DTSTART:20260308T080000
END:DAYLIGHT
BEGIN:STANDARD
TZOFFSETFROM:-0500
TZOFFSETTO:-0600
TZNAME:CST
DTSTART:20261101T070000
END:STANDARD
BEGIN:DAYLIGHT
TZOFFSETFROM:-0600
TZOFFSETTO:-0500
TZNAME:CDT
DTSTART:20270314T080000
END:DAYLIGHT
BEGIN:STANDARD
TZOFFSETFROM:-0500
TZOFFSETTO:-0600
TZNAME:CST
DTSTART:20271107T070000
END:STANDARD
END:VTIMEZONE
BEGIN:VEVENT
DTSTART;TZID=America/Chicago:20260203T180000
DTEND;TZID=America/Chicago:20260203T200000
DTSTAMP:20260421T122247
CREATED:20240208T110320Z
LAST-MODIFIED:20251123T123748Z
UID:10000164-1770141600-1770148800@theboernelife.com
SUMMARY:Trivia Night at Free Roam
DESCRIPTION:Head over to Free Roam Brewing Company for an enthralling evening of live trivia\, brought to you by Challenge Entertainment – Austin & San Antonio Trivia. These engaging trivia nights are held every Tuesday\, beginning at 6:00 PM\, and offer a fun-packed 2-hour experience that’s open to the public. \nEvent Highlights: \n\nWeekly Trivia Nights: Set aside your Tuesdays for the ultimate quiz experience that challenges and entertains.\nFood Truck Delights: A food truck will be on-site\, serving up delicious eats to keep your brain fueled.\nPrizes Galore: Top teams stand a chance to win exciting prizes every week\, making every Tuesday a potentially rewarding experience.\nComplimentary Participation: There’s no cost to join in the fun\, making it a great\, budget-friendly night out.\nOpen to All: Whether a seasoned quiz master or a casual participant\, this event promises a great time for everyone in Boerne.\n\nThe trivia night at Free Roam Brewing Company is a perfect blend of competition\, camaraderie\, and local culture. With no entry fee and plenty of prizes up for grabs\, it’s an inviting scene for trivia buffs\, foodies\, and anyone looking for a memorable night out in Boerne. Join the community and prove you’re a know-it-all at San Antonio Trivia by Challenge Entertainment. Don’t miss out on the fun!
URL:https://theboernelife.com/events/trivia-night-at-free-roam/2026-02-03/
LOCATION:Free Roam Brewing Company\, 325 S Main Street\, Boerne\, TX\, 78006\, United States
CATEGORIES:General
ATTACH;FMTTYPE=image/png:https://theboernelife.com/wp-content/uploads/2024/02/Free-Roam-Trivia.png
END:VEVENT
BEGIN:VEVENT
DTSTART;TZID=America/Chicago:20260203T190000
DTEND;TZID=America/Chicago:20260203T210000
DTSTAMP:20260421T122247
CREATED:20260112T012402Z
LAST-MODIFIED:20260112T012402Z
UID:10034161-1770145200-1770152400@theboernelife.com
SUMMARY:Wolf Den TCG Armoury at Wolf Den Gaming
DESCRIPTION:Wolf Den TCG Armoury is a weekly organized play event for Flesh and Blood players\, offering a consistent opportunity to compete\, practice\, and connect with the local gaming community. The event is played in the Silver Age format and welcomes players looking for a structured but approachable weekly tournament experience. \nArmoury nights take place every Tuesday from January 13 through March 3 from 7 pm to 9 pm\, and continue every Tuesday from March 10 through March 31 from 6 pm to 8 pm. The cost to participate is approximately $10 per event. Prizing includes two participation packs for each player\, one additional pack added to the prize pool for top standings\, and Armoury promo cards while supplies last. \nThe event is hosted at Wolf Den Gaming\, located at 28604 W I-10\, Boerne\, TX 78006. Food is often available\, with Papa John’s pizza typically offered for an additional $2 for two slices per person\, depending on availability and attendance. Because this is an ongoing weekly event\, participants are encouraged to contact the store directly for the most up-to-date information by calling 830-336-2471.
URL:https://theboernelife.com/events/wolf-den-tcg-armoury-at-wolf-den-gaming/2026-02-03/
LOCATION:Wolf Den Gaming\, 28604 Interstate 10 W\, Boerne\, TX\, 78006\, United States
CATEGORIES:General
ATTACH;FMTTYPE=image/jpeg:https://theboernelife.com/wp-content/uploads/2026/01/wolf-den-tcg-armoury-at-wolf-den-gaming.jpg
END:VEVENT
BEGIN:VEVENT
DTSTART;TZID=America/Chicago:20260204T130000
DTEND;TZID=America/Chicago:20260204T140000
DTSTAMP:20260421T122247
CREATED:20240221T121952Z
LAST-MODIFIED:20241230T022511Z
UID:10013578-1770210000-1770213600@theboernelife.com
SUMMARY:Ask Alison for Tech Help
DESCRIPTION:Need help with your personal technology? Alison Topper is in the lobby each week to help! No appointments necessary!
URL:https://theboernelife.com/events/ask-alison-for-tech-help/2026-02-04/
LOCATION:Patrick Heath Public Library\, 451 N. Main Street\, Boerne\, TX\, 78006\, United States
CATEGORIES:General
ATTACH;FMTTYPE=image/jpeg:https://theboernelife.com/wp-content/uploads/2024/02/Library-Tech-Help.jpg
END:VEVENT
BEGIN:VEVENT
DTSTART;TZID=America/Chicago:20260204T140000
DTEND;TZID=America/Chicago:20260204T160000
DTSTAMP:20260421T122247
CREATED:20260124T082707Z
LAST-MODIFIED:20260124T082707Z
UID:10034362-1770213600-1770220800@theboernelife.com
SUMMARY:Open House at Sarah Hardin Design
DESCRIPTION:An afternoon of design inspiration will highlight the release of Sarah Hardin Design’s feature in Cottages & Bungalows during a special open house in Comfort. Guests can tour the featured home and view the thoughtfully curated details and design elements showcased in the publication\, offering a close-up look at the craftsmanship and creative vision behind the space. \nThe open house will take place on February 4\, 2026\, from 2 pm to 4 pm at 426 7th Street\, Comfort\, TX 78013. This event offers an opportunity to experience the featured design in person and explore the home at a relaxed pace.
URL:https://theboernelife.com/events/open-house-at-sarah-hardin-design/
LOCATION:426 7th Street\, Comfort\, TX 78013\, 426 7th Street\, Comfort\, TX\, 78013\, United States
CATEGORIES:General
ATTACH;FMTTYPE=image/jpeg:https://theboernelife.com/wp-content/uploads/2026/01/open-house-at-sarah-hardin-design.jpg
END:VEVENT
BEGIN:VEVENT
DTSTART;TZID=America/Chicago:20260204T190000
DTEND;TZID=America/Chicago:20260204T210000
DTSTAMP:20260421T122247
CREATED:20250530T143331Z
LAST-MODIFIED:20251027T102940Z
UID:10033220-1770231600-1770238800@theboernelife.com
SUMMARY:Trivia Night at The Lion & Rose
DESCRIPTION:Looking for some Wednesday night fun? Head out to The Lion & Rose in Leon Springs for some trivia fun! And while you’re at it\, have some food\, drink a beer\, and enjoy an authentic British-style pub experience!
URL:https://theboernelife.com/events/trivia-night-at-the-lion-rose/2026-02-04/
LOCATION:The Lion & Rose\, 23330 W I-10\, San Antonio\, TX\, 78257\, United States
CATEGORIES:General
ATTACH;FMTTYPE=image/jpeg:https://theboernelife.com/wp-content/uploads/2025/05/lion-and-rose-trivia.jpg
END:VEVENT
BEGIN:VEVENT
DTSTART;TZID=America/Chicago:20260205T150000
DTEND;TZID=America/Chicago:20260205T160000
DTSTAMP:20260421T122247
CREATED:20240321T111822Z
LAST-MODIFIED:20251229T121634Z
UID:10013126-1770303600-1770307200@theboernelife.com
SUMMARY:Tech Help in the Lobby
DESCRIPTION:Have a tech question you can’t find the answer to? Visit the Tech Help table in the library and get free assistance. Walk-ins only. No appointments.
URL:https://theboernelife.com/events/tech-help-in-the-lobby/2026-02-05/
LOCATION:Patrick Heath Public Library\, 451 N. Main Street\, Boerne\, TX\, 78006\, United States
CATEGORIES:General
ATTACH;FMTTYPE=image/jpeg:https://theboernelife.com/wp-content/uploads/2024/02/Library-Tech-Help.jpg
END:VEVENT
END:VCALENDAR