BEGIN:VCALENDAR
VERSION:2.0
PRODID:-//The Boerne Life - ECPv6.15.15//NONSGML v1.0//EN
CALSCALE:GREGORIAN
METHOD:PUBLISH
X-WR-CALNAME:The Boerne Life
X-ORIGINAL-URL:https://theboernelife.com
X-WR-CALDESC:Events for The Boerne Life
REFRESH-INTERVAL;VALUE=DURATION:PT1H
X-Robots-Tag:noindex
X-PUBLISHED-TTL:PT1H
BEGIN:VTIMEZONE
TZID:America/Chicago
BEGIN:DAYLIGHT
TZOFFSETFROM:-0600
TZOFFSETTO:-0500
TZNAME:CDT
DTSTART:20250309T080000
END:DAYLIGHT
BEGIN:STANDARD
TZOFFSETFROM:-0500
TZOFFSETTO:-0600
TZNAME:CST
DTSTART:20251102T070000
END:STANDARD
BEGIN:DAYLIGHT
TZOFFSETFROM:-0600
TZOFFSETTO:-0500
TZNAME:CDT
DTSTART:20260308T080000
END:DAYLIGHT
BEGIN:STANDARD
TZOFFSETFROM:-0500
TZOFFSETTO:-0600
TZNAME:CST
DTSTART:20261101T070000
END:STANDARD
BEGIN:DAYLIGHT
TZOFFSETFROM:-0600
TZOFFSETTO:-0500
TZNAME:CDT
DTSTART:20270314T080000
END:DAYLIGHT
BEGIN:STANDARD
TZOFFSETFROM:-0500
TZOFFSETTO:-0600
TZNAME:CST
DTSTART:20271107T070000
END:STANDARD
END:VTIMEZONE
BEGIN:VEVENT
DTSTART;TZID=America/Chicago:20260217T180000
DTEND;TZID=America/Chicago:20260217T200000
DTSTAMP:20260424T045821
CREATED:20240208T110320Z
LAST-MODIFIED:20251123T123748Z
UID:10000166-1771351200-1771358400@theboernelife.com
SUMMARY:Trivia Night at Free Roam
DESCRIPTION:Head over to Free Roam Brewing Company for an enthralling evening of live trivia\, brought to you by Challenge Entertainment – Austin & San Antonio Trivia. These engaging trivia nights are held every Tuesday\, beginning at 6:00 PM\, and offer a fun-packed 2-hour experience that’s open to the public. \nEvent Highlights: \n\nWeekly Trivia Nights: Set aside your Tuesdays for the ultimate quiz experience that challenges and entertains.\nFood Truck Delights: A food truck will be on-site\, serving up delicious eats to keep your brain fueled.\nPrizes Galore: Top teams stand a chance to win exciting prizes every week\, making every Tuesday a potentially rewarding experience.\nComplimentary Participation: There’s no cost to join in the fun\, making it a great\, budget-friendly night out.\nOpen to All: Whether a seasoned quiz master or a casual participant\, this event promises a great time for everyone in Boerne.\n\nThe trivia night at Free Roam Brewing Company is a perfect blend of competition\, camaraderie\, and local culture. With no entry fee and plenty of prizes up for grabs\, it’s an inviting scene for trivia buffs\, foodies\, and anyone looking for a memorable night out in Boerne. Join the community and prove you’re a know-it-all at San Antonio Trivia by Challenge Entertainment. Don’t miss out on the fun!
URL:https://theboernelife.com/events/trivia-night-at-free-roam/2026-02-17/
LOCATION:Free Roam Brewing Company\, 325 S Main Street\, Boerne\, TX\, 78006\, United States
CATEGORIES:General
ATTACH;FMTTYPE=image/png:https://theboernelife.com/wp-content/uploads/2024/02/Free-Roam-Trivia.png
END:VEVENT
BEGIN:VEVENT
DTSTART;TZID=America/Chicago:20260217T190000
DTEND;TZID=America/Chicago:20260217T210000
DTSTAMP:20260424T045821
CREATED:20260112T012402Z
LAST-MODIFIED:20260112T012402Z
UID:10034163-1771354800-1771362000@theboernelife.com
SUMMARY:Wolf Den TCG Armoury at Wolf Den Gaming
DESCRIPTION:Wolf Den TCG Armoury is a weekly organized play event for Flesh and Blood players\, offering a consistent opportunity to compete\, practice\, and connect with the local gaming community. The event is played in the Silver Age format and welcomes players looking for a structured but approachable weekly tournament experience. \nArmoury nights take place every Tuesday from January 13 through March 3 from 7 pm to 9 pm\, and continue every Tuesday from March 10 through March 31 from 6 pm to 8 pm. The cost to participate is approximately $10 per event. Prizing includes two participation packs for each player\, one additional pack added to the prize pool for top standings\, and Armoury promo cards while supplies last. \nThe event is hosted at Wolf Den Gaming\, located at 28604 W I-10\, Boerne\, TX 78006. Food is often available\, with Papa John’s pizza typically offered for an additional $2 for two slices per person\, depending on availability and attendance. Because this is an ongoing weekly event\, participants are encouraged to contact the store directly for the most up-to-date information by calling 830-336-2471.
URL:https://theboernelife.com/events/wolf-den-tcg-armoury-at-wolf-den-gaming/2026-02-17/
LOCATION:Wolf Den Gaming\, 28604 Interstate 10 W\, Boerne\, TX\, 78006\, United States
CATEGORIES:General
ATTACH;FMTTYPE=image/jpeg:https://theboernelife.com/wp-content/uploads/2026/01/wolf-den-tcg-armoury-at-wolf-den-gaming.jpg
END:VEVENT
BEGIN:VEVENT
DTSTART;TZID=America/Chicago:20260218T130000
DTEND;TZID=America/Chicago:20260218T140000
DTSTAMP:20260424T045821
CREATED:20240221T121952Z
LAST-MODIFIED:20241230T022511Z
UID:10013580-1771419600-1771423200@theboernelife.com
SUMMARY:Ask Alison for Tech Help
DESCRIPTION:Need help with your personal technology? Alison Topper is in the lobby each week to help! No appointments necessary!
URL:https://theboernelife.com/events/ask-alison-for-tech-help/2026-02-18/
LOCATION:Patrick Heath Public Library\, 451 N. Main Street\, Boerne\, TX\, 78006\, United States
CATEGORIES:General
ATTACH;FMTTYPE=image/jpeg:https://theboernelife.com/wp-content/uploads/2024/02/Library-Tech-Help.jpg
END:VEVENT
BEGIN:VEVENT
DTSTART;TZID=America/Chicago:20260218T190000
DTEND;TZID=America/Chicago:20260218T210000
DTSTAMP:20260424T045821
CREATED:20250530T143331Z
LAST-MODIFIED:20251027T102940Z
UID:10033222-1771441200-1771448400@theboernelife.com
SUMMARY:Trivia Night at The Lion & Rose
DESCRIPTION:Looking for some Wednesday night fun? Head out to The Lion & Rose in Leon Springs for some trivia fun! And while you’re at it\, have some food\, drink a beer\, and enjoy an authentic British-style pub experience!
URL:https://theboernelife.com/events/trivia-night-at-the-lion-rose/2026-02-18/
LOCATION:The Lion & Rose\, 23330 W I-10\, San Antonio\, TX\, 78257\, United States
CATEGORIES:General
ATTACH;FMTTYPE=image/jpeg:https://theboernelife.com/wp-content/uploads/2025/05/lion-and-rose-trivia.jpg
END:VEVENT
BEGIN:VEVENT
DTSTART;TZID=America/Chicago:20260219T150000
DTEND;TZID=America/Chicago:20260219T160000
DTSTAMP:20260424T045821
CREATED:20240321T111822Z
LAST-MODIFIED:20251229T121634Z
UID:10013128-1771513200-1771516800@theboernelife.com
SUMMARY:Tech Help in the Lobby
DESCRIPTION:Have a tech question you can’t find the answer to? Visit the Tech Help table in the library and get free assistance. Walk-ins only. No appointments.
URL:https://theboernelife.com/events/tech-help-in-the-lobby/2026-02-19/
LOCATION:Patrick Heath Public Library\, 451 N. Main Street\, Boerne\, TX\, 78006\, United States
CATEGORIES:General
ATTACH;FMTTYPE=image/jpeg:https://theboernelife.com/wp-content/uploads/2024/02/Library-Tech-Help.jpg
END:VEVENT
BEGIN:VEVENT
DTSTART;TZID=America/Chicago:20260219T170000
DTEND;TZID=America/Chicago:20260219T210000
DTSTAMP:20260424T045821
CREATED:20260209T051805Z
LAST-MODIFIED:20260209T051805Z
UID:10034817-1771520400-1771534800@theboernelife.com
SUMMARY:Thursday Night D&D One-Shot at Heroes Hideout Boerne
DESCRIPTION:A rotating Dungeons & Dragons one-shot adventure takes place every Thursday evening at Heroes Hideout Boerne\, offering a welcoming experience for both brand-new and seasoned players. Each session features a self-contained adventure that changes weekly\, making it easy to jump in without a long-term commitment while still enjoying a full tabletop roleplaying experience. \nThe Thursday Night D&D One-Shot runs for approximately four hours and begins at 5:00 pm. Seats are $10 per person and space is limited\, so advance registration is recommended. Games are held at Heroes Hideout Boerne\, located at 1026 N. Main Street\, Boerne\, Texas 78006. Players can reserve a spot and find additional details by visiting https://calendly.com/boernehideout/thursday-night-d-d-one-shot?month=2026-02.
URL:https://theboernelife.com/events/thursday-night-dd-one-shot-at-heroes-hideout-boerne/2026-02-19/
LOCATION:Heroes Hideout Boerne\, 1026 N Main St\, Boerne\, TX\, 78006\, United States
CATEGORIES:General
ATTACH;FMTTYPE=image/jpeg:https://theboernelife.com/wp-content/uploads/2026/02/thursday-night-d-d-one-shot-at-heroes-hideout-boerne.jpg
END:VEVENT
BEGIN:VEVENT
DTSTART;TZID=America/Chicago:20260219T190000
DTEND;TZID=America/Chicago:20260219T223000
DTSTAMP:20260424T045821
CREATED:20260223T010846Z
LAST-MODIFIED:20260223T010846Z
UID:10034932-1771527600-1771540200@theboernelife.com
SUMMARY:Weekly Switcholio at Tusculum Brewing Company
DESCRIPTION:Competitive cornhole takes over Tusculum Brewing Company each Thursday during the Weekly Switcholio tournament series at 108 Newton Alley\, Boerne\, TX 78006-2475. Players can warm up during open boards beginning at 6 pm\, with check-in at 6:30 pm and Round Robin Switch play starting promptly at 7 pm on select dates throughout the season. \nThe tournament features four games of round robin play followed by a switch double elimination bracket\, guaranteeing a total of six games. Teams are formed through a 50/50 pairing format\, matching a random top-half player with a random bottom-half player. If there is an odd number of participants\, a ghost player will be manually placed. An airmail competition takes place between round robin and bracket play for added excitement. \nThe entry fee is $15\, with 70 percent payout awarded to the top three finishers. Tournament times vary throughout the year: February 12 through March 5 runs from 7 pm to 10:30 pm; March 12 through October 29 runs from 6 pm to 9:30 pm; and November 5 through December 17 returns to 7 pm to 10:30 pm. For updated event information\, visit Boerne Ambush on Facebook or go to BoerneAmbush.com.
URL:https://theboernelife.com/events/weekly-switcholio-at-tusculum-brewing-company/2026-02-19/
LOCATION:Tusculum Brewing Company\, 236 S Main Street\, Boerne\, TX\, 78006\, United States
CATEGORIES:General
ATTACH;FMTTYPE=image/jpeg:https://theboernelife.com/wp-content/uploads/2026/02/weekly-switcholio-at-tusculum-brewing-company.jpg
END:VEVENT
BEGIN:VEVENT
DTSTART;TZID=America/Chicago:20260221T100000
DTEND;TZID=America/Chicago:20260221T120000
DTSTAMP:20260424T045821
CREATED:20260218T014910Z
LAST-MODIFIED:20260218T014910Z
UID:10034896-1771668000-1771675200@theboernelife.com
SUMMARY:Kerrville All-Stars Presentation at Patrick Heath Public Library
DESCRIPTION:Black baseball history in the Texas Hill Country takes center stage during the Kerrville All-Stars Presentation on February 21 from 10:00 am to 12:00 pm at Patrick Heath Public Library\, 451 North Main Street\, Boerne\, Texas 78006. \nLocal historians Dick Butler and Clifton Fifer Jr. will share the story of the Kerrville All-Stars\, a Black baseball team from the area that was managed by Clifton Fifer Sr. The program will explore the broader history of Black baseball in the Hill Country while offering a personal\, firsthand account from the son of one of the team’s players. Attendees can expect a meaningful look back at an important chapter of regional sports and community history. \nCoffee and pastries will be available to enjoy before the presentation begins\, creating a relaxed setting for conversation and reflection. \nFor more information\, contact Patrick Heath Public Library at 830-249-3053 or visit boernelibrary.org.
URL:https://theboernelife.com/events/kerrville-all-stars-presentation-at-patrick-heath-public-library/
LOCATION:Patrick Heath Public Library\, 451 N. Main Street\, Boerne\, TX\, 78006\, United States
CATEGORIES:General
ATTACH;FMTTYPE=image/jpeg:https://theboernelife.com/wp-content/uploads/2026/02/kerrville-all-stars-presentation-at-patrick-heath-public-library.jpg
END:VEVENT
BEGIN:VEVENT
DTSTART;TZID=America/Chicago:20260221T100000
DTEND;TZID=America/Chicago:20260221T170000
DTSTAMP:20260424T045821
CREATED:20251219T073328Z
LAST-MODIFIED:20260119T230441Z
UID:10033877-1771668000-1771693200@theboernelife.com
SUMMARY:Boerne Home & Outdoor Living Show  at the Bevy Hotel
DESCRIPTION:The Boerne Home & Outdoor Living Show showcases ideas\, inspiration\, and resources for improving spaces both inside and out. Held at The Menger Ballroom at the Bevy Hotel\, the show features a wide range of exhibitors presenting products and services tailored to homeowners\, along with interactive attractions designed to spark creativity and practical solutions for home and outdoor living projects. \nThe event takes place on Saturday\, February 21\, 2026\, from 10 am to 5 pm\, and continues Sunday\, February 22\, 2026\, from 11 am to 4 pm. Advanced tickets are required for entry and are available at no cost\, with tickets available at the door for $5. Throughout the weekend\, attendees can explore exhibitor displays\, discover featured vendors\, and attend expert-led seminars covering topics from DIY projects to current home and garden trends. \nAdditional details\, including exhibitor information\, seminar schedules\, and directions\, are available through the event’s official channels.
URL:https://theboernelife.com/events/boerne-home-outdoor-living-show-at-the-menger-ballroom-at-the-bevy-hotel/2026-02-21/
LOCATION:The Bevy Hotel Boerne\, 101 Herff Rd\, Boerne\, TX\, 78006\, United States
CATEGORIES:General
ATTACH;FMTTYPE=image/jpeg:https://theboernelife.com/wp-content/uploads/2025/12/boerne-home-and-outdoor-living-show-at-the-menger-ballroom-at-the-bevy-hotel.jpg
END:VEVENT
BEGIN:VEVENT
DTSTART;TZID=America/Chicago:20260222T110000
DTEND;TZID=America/Chicago:20260222T160000
DTSTAMP:20260424T045821
CREATED:20251219T073328Z
LAST-MODIFIED:20260119T230441Z
UID:10033878-1771758000-1771776000@theboernelife.com
SUMMARY:Boerne Home & Outdoor Living Show  at the Bevy Hotel
DESCRIPTION:The Boerne Home & Outdoor Living Show showcases ideas\, inspiration\, and resources for improving spaces both inside and out. Held at The Menger Ballroom at the Bevy Hotel\, the show features a wide range of exhibitors presenting products and services tailored to homeowners\, along with interactive attractions designed to spark creativity and practical solutions for home and outdoor living projects. \nThe event takes place on Saturday\, February 21\, 2026\, from 10 am to 5 pm\, and continues Sunday\, February 22\, 2026\, from 11 am to 4 pm. Advanced tickets are required for entry and are available at no cost\, with tickets available at the door for $5. Throughout the weekend\, attendees can explore exhibitor displays\, discover featured vendors\, and attend expert-led seminars covering topics from DIY projects to current home and garden trends. \nAdditional details\, including exhibitor information\, seminar schedules\, and directions\, are available through the event’s official channels.
URL:https://theboernelife.com/events/boerne-home-outdoor-living-show-at-the-menger-ballroom-at-the-bevy-hotel/2026-02-22/
LOCATION:The Bevy Hotel Boerne\, 101 Herff Rd\, Boerne\, TX\, 78006\, United States
CATEGORIES:General
ATTACH;FMTTYPE=image/jpeg:https://theboernelife.com/wp-content/uploads/2025/12/boerne-home-and-outdoor-living-show-at-the-menger-ballroom-at-the-bevy-hotel.jpg
END:VEVENT
BEGIN:VEVENT
DTSTART;TZID=America/Chicago:20260222T120000
DTEND;TZID=America/Chicago:20260222T160000
DTSTAMP:20260424T045821
CREATED:20260217T231133Z
LAST-MODIFIED:20260217T231133Z
UID:10034895-1771761600-1771776000@theboernelife.com
SUMMARY:Open House at 151 Iverness
DESCRIPTION:Our partner Charley Wasson with Sunflower Real Estate will be hosting an open house at 151 Inverness in Boerne on Sunday\, February 22 from 12 pm to 4 pm. \nBuilt in 2022\, this 3-bedroom\, 2.5-bath home offers a smart\, flexible layout with a dedicated downstairs study\, an additional built-in workspace near the kitchen\, and an upstairs loft that works perfectly as a second living area or game room. The open-concept kitchen features a large island\, gas cooktop\, built-in oven and microwave\, and plenty of natural light throughout. \nThe primary suite includes a double vanity\, separate tub and shower\, and upgraded tile finishes. Out back\, there are no direct rear neighbors\, giving you extra privacy along with a covered patio and fully fenced yard. \nLocated in the highly desirable Southglen community\, residents enjoy a pool\, playground\, grilling area\, and access to Boerne ISD schools\, all with convenient backroad access to Boerne and Fair Oaks Ranch and quick drives to IH-10\, La Cantera\, The Rim\, and Lemon Creek. \nHomes in this neighborhood have been moving quickly. Stop by Sunday or connect with Charley to learn more and view the full listing and virtual tour. \nLearn more: https://www.myboernehome.com/blog/151-inverness-boerne-tx-78015/
URL:https://theboernelife.com/events/open-house-at-151-iverness/
LOCATION:151 Inverness\, 151 Inverness\, Boerne\, tx\, 78015
CATEGORIES:General
ATTACH;FMTTYPE=image/jpeg:https://theboernelife.com/wp-content/uploads/2026/02/TBL-FB-Post-2026-02-17T170954.618.jpg
END:VEVENT
BEGIN:VEVENT
DTSTART;TZID=America/Chicago:20260222T170000
DTEND;TZID=America/Chicago:20260222T180000
DTSTAMP:20260424T045821
CREATED:20260218T020732Z
LAST-MODIFIED:20260218T020732Z
UID:10034899-1771779600-1771783200@theboernelife.com
SUMMARY:Sound Meditation at San Antonio Yoga in Boerne
DESCRIPTION:An immersive evening of sound and stillness comes to Boerne with Sound Meditation on Sunday\, February 22 from 5:00 pm to 6:00 pm at San Antonio Yoga in Boerne\, 101 Oak Ridge Drive\, Boerne\, TX 78006. \nLed by Singing Bowl Lady\, this hour-long experience features quartz crystal singing bowls in a powerful\, multi-layered sonic meditation. The tones and vibrations are designed to calm the mind\, energize the body\, and create a deeply relaxing meditative state. Blending elements of music and mindfulness\, the session offers a full-body sound bath intended to soothe\, restore\, and recharge. \nParticipants are asked to bring their own mat\, blanket\, pillows\, or anything needed to feel comfortable during the session. The experience is open to ages 14 and up. Please note that bowl sessions are not recommended for individuals with pacemakers or for pregnancies under 12 weeks. \nTickets are $40 per person. Reservations are required and can be made at https://singingbowllady.timetap.com by selecting the class date and completing payment. All sales are final. Rescheduling is permitted with at least 72 hours’ notice and must be used within six months of the original session date.
URL:https://theboernelife.com/events/sound-meditation-at-san-antonio-yoga-in-boerne/
LOCATION:San Antonio Yoga in Boerne\, 101 Oak Ridge Drive\, Boerne\, TX\, 78006\, United States
CATEGORIES:General
ATTACH;FMTTYPE=image/jpeg:https://theboernelife.com/wp-content/uploads/2026/02/sound-meditation-at-san-antonio-yoga-in-boerne.jpg
END:VEVENT
END:VCALENDAR