BEGIN:VCALENDAR
VERSION:2.0
PRODID:-//The Boerne Life - ECPv6.15.15//NONSGML v1.0//EN
CALSCALE:GREGORIAN
METHOD:PUBLISH
X-WR-CALNAME:The Boerne Life
X-ORIGINAL-URL:https://theboernelife.com
X-WR-CALDESC:Events for The Boerne Life
REFRESH-INTERVAL;VALUE=DURATION:PT1H
X-Robots-Tag:noindex
X-PUBLISHED-TTL:PT1H
BEGIN:VTIMEZONE
TZID:America/Chicago
BEGIN:DAYLIGHT
TZOFFSETFROM:-0600
TZOFFSETTO:-0500
TZNAME:CDT
DTSTART:20240310T080000
END:DAYLIGHT
BEGIN:STANDARD
TZOFFSETFROM:-0500
TZOFFSETTO:-0600
TZNAME:CST
DTSTART:20241103T070000
END:STANDARD
BEGIN:DAYLIGHT
TZOFFSETFROM:-0600
TZOFFSETTO:-0500
TZNAME:CDT
DTSTART:20250309T080000
END:DAYLIGHT
BEGIN:STANDARD
TZOFFSETFROM:-0500
TZOFFSETTO:-0600
TZNAME:CST
DTSTART:20251102T070000
END:STANDARD
BEGIN:DAYLIGHT
TZOFFSETFROM:-0600
TZOFFSETTO:-0500
TZNAME:CDT
DTSTART:20260308T080000
END:DAYLIGHT
BEGIN:STANDARD
TZOFFSETFROM:-0500
TZOFFSETTO:-0600
TZNAME:CST
DTSTART:20261101T070000
END:STANDARD
BEGIN:DAYLIGHT
TZOFFSETFROM:-0600
TZOFFSETTO:-0500
TZNAME:CDT
DTSTART:20270314T080000
END:DAYLIGHT
BEGIN:STANDARD
TZOFFSETFROM:-0500
TZOFFSETTO:-0600
TZNAME:CST
DTSTART:20271107T070000
END:STANDARD
END:VTIMEZONE
BEGIN:VEVENT
DTSTART;TZID=America/Chicago:20251030T180000
DTEND;TZID=America/Chicago:20251030T200000
DTSTAMP:20260424T051248
CREATED:20251028T150408Z
LAST-MODIFIED:20251028T150408Z
UID:10033248-1761847200-1761854400@theboernelife.com
SUMMARY:Meet the Candidates at Tusculum Brewing
DESCRIPTION:Get ready for election season with a special “Meet the Candidates” event happening Thursday\, October 30\, 2025\, from 6 to 8 pm at Tusculum Brewing Co.\, 236 S. Main Street in Boerne. This community gathering offers the chance to meet local and statewide Republican candidates\, including several contenders for Congressional District 21. \nAttendees can sign petitions to help candidates qualify for the 2026 ballot\, learn more about the races ahead\, and enjoy food and beverages available for purchase. The event is open to the public\, and all candidates are encouraged to bring their petitions and campaign materials. \nExpected guests include Daniel Betts\, Jason Cahill\, Weston Martinez\, Paul Rojas\, Heather Tessmer\, Trey Trainor\, Mike Wheeler\, and tentatively\, Mark Teixeira. \nMore information and the full list of confirmed attendees can be found at boerneradio.com.
URL:https://theboernelife.com/events/meet-the-candidates-at-tusculum-brewing/
LOCATION:Tusculum Brewing Company\, 236 S Main Street\, Boerne\, TX\, 78006\, United States
CATEGORIES:Local Government
END:VEVENT
BEGIN:VEVENT
DTSTART;TZID=America/Chicago:20251104T173000
DTEND;TZID=America/Chicago:20251104T193000
DTSTAMP:20260424T051248
CREATED:20241203T125852Z
LAST-MODIFIED:20250107T112845Z
UID:10024400-1762277400-1762284600@theboernelife.com
SUMMARY:Historic Landmark Commission Meeting
DESCRIPTION:The Historic Landmark Commission meets on the first Tuesday of each month at 5:30 p.m.\, with special meetings held as needed. These meetings take place in the Council Chambers at City Hall\, located at 447 N. Main Street in Boerne. \nThe commission works to promote historical preservation in the city by investigating and reviewing matters related to the protection\, enhancement\, and use of historic landmarks\, districts\, and structures. Their responsibilities include reviewing applications for historic landmark designation\, construction and restoration permits in historic districts\, historic preservation tax exemptions\, and making recommendations on amendments to historic districts. \nFor questions about applications or historic preservation\, contact Sara Varvarigos\, the staff liaison\, at (830) 248-1630 or via email. Applications must be submitted through the SmartGov portal\, as paper applications are no longer accepted. \nFor more information on meeting agendas\, minutes\, and video streams\, visit here. Meetings are open to the public\, and community participation is encouraged.
URL:https://theboernelife.com/events/historic-landmark-commission-meeting/2025-11-04/
LOCATION:Boerne City Hall\, 447 North Main Street\, Boerne\, TX\, 78006\, United States
CATEGORIES:Local Government
ATTACH;FMTTYPE=image/jpeg:https://theboernelife.com/wp-content/uploads/2024/11/Boerne-City-Hall-1.jpg
END:VEVENT
BEGIN:VEVENT
DTSTART;TZID=America/Chicago:20260112T180000
DTEND;TZID=America/Chicago:20260112T200000
DTSTAMP:20260424T051248
CREATED:20250103T065652Z
LAST-MODIFIED:20260110T115811Z
UID:10034149-1768240800-1768248000@theboernelife.com
SUMMARY:Planning and Zoning Commission Meeting at Boerne City Hall
DESCRIPTION:The Planning and Zoning Commission meets on Monday from 6 pm to 8 pm at Boerne City Hall\, located at 447 N. Main Street\, Boerne\, TX. \nThe Commission typically meets to discuss and guide planning and zoning matters that shape the growth and development of Boerne. These meetings are open to the public and provide an opportunity to stay informed about local decisions. \nFor those unable to attend in person\, live and recorded meetings are available online. This is an important chance to learn more about the community’s planning initiatives. You can learn more here. \n 
URL:https://theboernelife.com/events/planning-and-zoning-commission-meeting-at-boerne-city-hall/2026-01-12/
LOCATION:Boerne City Hall\, 447 North Main Street\, Boerne\, TX\, 78006\, United States
CATEGORIES:Local Government
ATTACH;FMTTYPE=image/jpeg:https://theboernelife.com/wp-content/uploads/2024/11/Boerne-City-Hall-1.jpg
END:VEVENT
BEGIN:VEVENT
DTSTART;TZID=America/Chicago:20260113T180000
DTEND;TZID=America/Chicago:20260113T200000
DTSTAMP:20260424T051248
CREATED:20250825T104634Z
LAST-MODIFIED:20260126T113115Z
UID:10034148-1768327200-1768334400@theboernelife.com
SUMMARY:City Council Meeting
DESCRIPTION:The City of Boerne holds City Council meetings twice a month\, on the second and fourth Tuesday evenings of each month. Meetings begin at 6 pm\, and typically last about an hour or two\, depending on public comments and size of agenda. \nCity Council meetings are held at Boerne City Hall\, at 447 North Main Street. \nYou can find agendas here. \nThe public is welcome to attend. You can also watch online after-the-fact here.
URL:https://theboernelife.com/events/city-council-meeting/2026-01-13/
LOCATION:Boerne City Hall\, 447 North Main Street\, Boerne\, TX\, 78006\, United States
CATEGORIES:Local Government
ATTACH;FMTTYPE=image/jpeg:https://theboernelife.com/wp-content/uploads/2024/11/Boerne-City-Hall-1.jpg
END:VEVENT
BEGIN:VEVENT
DTSTART;TZID=America/Chicago:20260127T180000
DTEND;TZID=America/Chicago:20260127T190000
DTSTAMP:20260424T051248
CREATED:20260126T112859Z
LAST-MODIFIED:20260126T112859Z
UID:10034369-1769536800-1769540400@theboernelife.com
SUMMARY:Meet the Republican Candidates for Primaries at BMSN
DESCRIPTION:On Tuesday\, the Republican candidates for county offices will gather for a community forum at Boerne Middle School North. Doors open at 5:30\, event begins at 6 pm.
URL:https://theboernelife.com/events/meet-the-republican-candidates-for-primaries-at-bmsn/
LOCATION:Boerne Middle School North\, 240 Johns Rd\, Boerne\, TX\, 78006\, United States
CATEGORIES:Local Government
ATTACH;FMTTYPE=image/png:https://theboernelife.com/wp-content/uploads/2026/01/boerne-5.png
END:VEVENT
BEGIN:VEVENT
DTSTART;TZID=America/Chicago:20260127T180000
DTEND;TZID=America/Chicago:20260127T200000
DTSTAMP:20260424T051248
CREATED:20250825T104634Z
LAST-MODIFIED:20260126T113115Z
UID:10034370-1769536800-1769544000@theboernelife.com
SUMMARY:City Council Meeting
DESCRIPTION:The City of Boerne holds City Council meetings twice a month\, on the second and fourth Tuesday evenings of each month. Meetings begin at 6 pm\, and typically last about an hour or two\, depending on public comments and size of agenda. \nCity Council meetings are held at Boerne City Hall\, at 447 North Main Street. \nYou can find agendas here. \nThe public is welcome to attend. You can also watch online after-the-fact here.
URL:https://theboernelife.com/events/city-council-meeting/2026-01-27/
LOCATION:Boerne City Hall\, 447 North Main Street\, Boerne\, TX\, 78006\, United States
CATEGORIES:Local Government
ATTACH;FMTTYPE=image/jpeg:https://theboernelife.com/wp-content/uploads/2024/11/Boerne-City-Hall-1.jpg
END:VEVENT
END:VCALENDAR