BEGIN:VCALENDAR
VERSION:2.0
PRODID:-//The Boerne Life - ECPv6.15.15//NONSGML v1.0//EN
CALSCALE:GREGORIAN
METHOD:PUBLISH
X-WR-CALNAME:The Boerne Life
X-ORIGINAL-URL:https://theboernelife.com
X-WR-CALDESC:Events for The Boerne Life
REFRESH-INTERVAL;VALUE=DURATION:PT1H
X-Robots-Tag:noindex
X-PUBLISHED-TTL:PT1H
BEGIN:VTIMEZONE
TZID:America/Chicago
BEGIN:DAYLIGHT
TZOFFSETFROM:-0600
TZOFFSETTO:-0500
TZNAME:CDT
DTSTART:20230312T080000
END:DAYLIGHT
BEGIN:STANDARD
TZOFFSETFROM:-0500
TZOFFSETTO:-0600
TZNAME:CST
DTSTART:20231105T070000
END:STANDARD
BEGIN:DAYLIGHT
TZOFFSETFROM:-0600
TZOFFSETTO:-0500
TZNAME:CDT
DTSTART:20240310T080000
END:DAYLIGHT
BEGIN:STANDARD
TZOFFSETFROM:-0500
TZOFFSETTO:-0600
TZNAME:CST
DTSTART:20241103T070000
END:STANDARD
BEGIN:DAYLIGHT
TZOFFSETFROM:-0600
TZOFFSETTO:-0500
TZNAME:CDT
DTSTART:20250309T080000
END:DAYLIGHT
BEGIN:STANDARD
TZOFFSETFROM:-0500
TZOFFSETTO:-0600
TZNAME:CST
DTSTART:20251102T070000
END:STANDARD
END:VTIMEZONE
BEGIN:VEVENT
DTSTART;TZID=America/Chicago:20240625T170000
DTEND;TZID=America/Chicago:20240625T190000
DTSTAMP:20260421T140241
CREATED:20240617T213603Z
LAST-MODIFIED:20240617T213606Z
UID:10018591-1719334800-1719342000@theboernelife.com
SUMMARY:Boerne Farmers Market
DESCRIPTION:The Boerne Farmers Market is a hub for locally-sourced produce\, artisan goods\, and prepared foods\, fostering a community that values sustainability and healthy living. It’s a place where local farmers\, homesteaders\, ranchers\, and artisans from the Texas Hill Country come together\, offering more than just shopping but a vibrant community event to explore and enjoy. \nThere’s also now a Kids Market\, where young entrepreneurs can sell their goods. You can learn more about how to get your kids involved in that here. 
URL:https://theboernelife.com/events/boerne-farmers-market-2/2024-06-25/
LOCATION:Boerne Farmers Market\, 402 East Blanco Road\, Boerne\, TX\, 78006\, United States
CATEGORIES:Food and Drink,Outdoors
ATTACH;FMTTYPE=image/jpeg:https://theboernelife.com/wp-content/uploads/2024/04/Boerne-Farmers-Market.jpg
END:VEVENT
BEGIN:VEVENT
DTSTART;TZID=America/Chicago:20240625T183000
DTEND;TZID=America/Chicago:20240625T203000
DTSTAMP:20260421T140241
CREATED:20240624T125028Z
LAST-MODIFIED:20240625T230032Z
UID:10018888-1719340200-1719347400@theboernelife.com
SUMMARY:Comedy Night at Pure Country BBQ & Grill
DESCRIPTION:Get ready for an unforgettable night featuring top headliners\, regional favorites\, and more. This one-night event offers limited seating\, so be sure to arrive early to snag the best spots. Doors open at 5:30 p.m.\, and the show kicks off at 6:30 p.m. Please note\, this event is recommended for those 18 and older due to mature content. For more information\, visit DeeceComedy.com.
URL:https://theboernelife.com/events/comedy-hour-at-pure-country-bbq-grill/
LOCATION:Pure Country BBQ & Grill\, 1481 S Main St\, Boerne\, TX\, 78006\, United States
CATEGORIES:Arts and Culture,Outdoors
ATTACH;FMTTYPE=image/jpeg:https://theboernelife.com/wp-content/uploads/2024/06/Comedy-Hour.jpg
END:VEVENT
END:VCALENDAR