BEGIN:VCALENDAR
VERSION:2.0
PRODID:-//The Boerne Life - ECPv6.15.15//NONSGML v1.0//EN
CALSCALE:GREGORIAN
METHOD:PUBLISH
X-WR-CALNAME:The Boerne Life
X-ORIGINAL-URL:https://theboernelife.com
X-WR-CALDESC:Events for The Boerne Life
REFRESH-INTERVAL;VALUE=DURATION:PT1H
X-Robots-Tag:noindex
X-PUBLISHED-TTL:PT1H
BEGIN:VTIMEZONE
TZID:America/Chicago
BEGIN:DAYLIGHT
TZOFFSETFROM:-0600
TZOFFSETTO:-0500
TZNAME:CDT
DTSTART:20250309T080000
END:DAYLIGHT
BEGIN:STANDARD
TZOFFSETFROM:-0500
TZOFFSETTO:-0600
TZNAME:CST
DTSTART:20251102T070000
END:STANDARD
BEGIN:DAYLIGHT
TZOFFSETFROM:-0600
TZOFFSETTO:-0500
TZNAME:CDT
DTSTART:20260308T080000
END:DAYLIGHT
BEGIN:STANDARD
TZOFFSETFROM:-0500
TZOFFSETTO:-0600
TZNAME:CST
DTSTART:20261101T070000
END:STANDARD
BEGIN:DAYLIGHT
TZOFFSETFROM:-0600
TZOFFSETTO:-0500
TZNAME:CDT
DTSTART:20270314T080000
END:DAYLIGHT
BEGIN:STANDARD
TZOFFSETFROM:-0500
TZOFFSETTO:-0600
TZNAME:CST
DTSTART:20271107T070000
END:STANDARD
BEGIN:DAYLIGHT
TZOFFSETFROM:-0600
TZOFFSETTO:-0500
TZNAME:CDT
DTSTART:20280312T080000
END:DAYLIGHT
BEGIN:STANDARD
TZOFFSETFROM:-0500
TZOFFSETTO:-0600
TZNAME:CST
DTSTART:20281105T070000
END:STANDARD
END:VTIMEZONE
BEGIN:VEVENT
DTSTART;TZID=America/Chicago:20261229T160000
DTEND;TZID=America/Chicago:20261229T190000
DTSTAMP:20260422T115003
CREATED:20251118T133620Z
LAST-MODIFIED:20260401T100721Z
UID:10037232-1798560000-1798570800@theboernelife.com
SUMMARY:Boerne Farmers Market
DESCRIPTION:The Boerne Farmers Market is a hub for locally-sourced produce\, artisan goods\, and prepared foods\, fostering a community that values sustainability and healthy living. It’s a place where local farmers\, homesteaders\, ranchers\, and artisans from the Texas Hill Country come together\, offering more than just shopping but a vibrant community event to explore and enjoy. \nAnd on the first Tuesday of every month\, kids can set up to sell as well! \n 
URL:https://theboernelife.com/events/boerne-farmers-market-2-2-3-3/2026-12-29/
LOCATION:Boerne Farmers Market\, 402 East Blanco Road\, Boerne\, TX\, 78006\, United States
CATEGORIES:Food and Drink,Outdoors
ATTACH;FMTTYPE=image/jpeg:https://theboernelife.com/wp-content/uploads/2024/04/Boerne-Farmers-Market.jpg
END:VEVENT
BEGIN:VEVENT
DTSTART;TZID=America/Chicago:20261230T143000
DTEND;TZID=America/Chicago:20261230T153000
DTSTAMP:20260422T115003
CREATED:20251229T201925Z
LAST-MODIFIED:20260420T012938Z
UID:10034722-1798641000-1798644600@theboernelife.com
SUMMARY:Wednesday Nature Walks at the Cibolo Nature Center
DESCRIPTION:Join our Nature Education Director every Wednesday for a refreshing 30-minute nature walk along the Cibolo Nature Center trails. Take a midweek break to explore\, observe\, and connect with the beauty around you. \n\n\nFrom the rustle of an armadillo in the brush to the flash of a migrating bird\, every walk brings its own surprises. Even if the wildlife stays hidden\, there’s always something new to learn from time spent in nature. \n\n\nWhen & Where: Wednesdays at 2:30pm. Meet on the back porch of the Cibolo Nature Center (140 City Park Rd.\, Boerne\, TX). \n\nNo RSVP needed—just show up! All are welcome.
URL:https://theboernelife.com/events/wednesday-nature-walks-at-the-cibolo-nature-center-2-2/2026-12-30/
LOCATION:Cibolo Nature Center\, 140 City Park Rd\, Boerne\, TX\, 78006\, United States
CATEGORIES:Outdoors
ATTACH;FMTTYPE=image/jpeg:https://theboernelife.com/wp-content/uploads/2024/10/Cibolo-Nature-Center.jpg
END:VEVENT
BEGIN:VEVENT
DTSTART;TZID=America/Chicago:20270106T143000
DTEND;TZID=America/Chicago:20270106T153000
DTSTAMP:20260422T115003
CREATED:20251229T201925Z
LAST-MODIFIED:20260420T012938Z
UID:10034723-1799245800-1799249400@theboernelife.com
SUMMARY:Wednesday Nature Walks at the Cibolo Nature Center
DESCRIPTION:Join our Nature Education Director every Wednesday for a refreshing 30-minute nature walk along the Cibolo Nature Center trails. Take a midweek break to explore\, observe\, and connect with the beauty around you. \n\n\nFrom the rustle of an armadillo in the brush to the flash of a migrating bird\, every walk brings its own surprises. Even if the wildlife stays hidden\, there’s always something new to learn from time spent in nature. \n\n\nWhen & Where: Wednesdays at 2:30pm. Meet on the back porch of the Cibolo Nature Center (140 City Park Rd.\, Boerne\, TX). \n\nNo RSVP needed—just show up! All are welcome.
URL:https://theboernelife.com/events/wednesday-nature-walks-at-the-cibolo-nature-center-2-2/2027-01-06/
LOCATION:Cibolo Nature Center\, 140 City Park Rd\, Boerne\, TX\, 78006\, United States
CATEGORIES:Outdoors
ATTACH;FMTTYPE=image/jpeg:https://theboernelife.com/wp-content/uploads/2024/10/Cibolo-Nature-Center.jpg
END:VEVENT
BEGIN:VEVENT
DTSTART;TZID=America/Chicago:20270113T143000
DTEND;TZID=America/Chicago:20270113T153000
DTSTAMP:20260422T115003
CREATED:20251229T201925Z
LAST-MODIFIED:20260420T012938Z
UID:10034724-1799850600-1799854200@theboernelife.com
SUMMARY:Wednesday Nature Walks at the Cibolo Nature Center
DESCRIPTION:Join our Nature Education Director every Wednesday for a refreshing 30-minute nature walk along the Cibolo Nature Center trails. Take a midweek break to explore\, observe\, and connect with the beauty around you. \n\n\nFrom the rustle of an armadillo in the brush to the flash of a migrating bird\, every walk brings its own surprises. Even if the wildlife stays hidden\, there’s always something new to learn from time spent in nature. \n\n\nWhen & Where: Wednesdays at 2:30pm. Meet on the back porch of the Cibolo Nature Center (140 City Park Rd.\, Boerne\, TX). \n\nNo RSVP needed—just show up! All are welcome.
URL:https://theboernelife.com/events/wednesday-nature-walks-at-the-cibolo-nature-center-2-2/2027-01-13/
LOCATION:Cibolo Nature Center\, 140 City Park Rd\, Boerne\, TX\, 78006\, United States
CATEGORIES:Outdoors
ATTACH;FMTTYPE=image/jpeg:https://theboernelife.com/wp-content/uploads/2024/10/Cibolo-Nature-Center.jpg
END:VEVENT
BEGIN:VEVENT
DTSTART;TZID=America/Chicago:20270120T143000
DTEND;TZID=America/Chicago:20270120T153000
DTSTAMP:20260422T115003
CREATED:20251229T201925Z
LAST-MODIFIED:20260420T012938Z
UID:10034725-1800455400-1800459000@theboernelife.com
SUMMARY:Wednesday Nature Walks at the Cibolo Nature Center
DESCRIPTION:Join our Nature Education Director every Wednesday for a refreshing 30-minute nature walk along the Cibolo Nature Center trails. Take a midweek break to explore\, observe\, and connect with the beauty around you. \n\n\nFrom the rustle of an armadillo in the brush to the flash of a migrating bird\, every walk brings its own surprises. Even if the wildlife stays hidden\, there’s always something new to learn from time spent in nature. \n\n\nWhen & Where: Wednesdays at 2:30pm. Meet on the back porch of the Cibolo Nature Center (140 City Park Rd.\, Boerne\, TX). \n\nNo RSVP needed—just show up! All are welcome.
URL:https://theboernelife.com/events/wednesday-nature-walks-at-the-cibolo-nature-center-2-2/2027-01-20/
LOCATION:Cibolo Nature Center\, 140 City Park Rd\, Boerne\, TX\, 78006\, United States
CATEGORIES:Outdoors
ATTACH;FMTTYPE=image/jpeg:https://theboernelife.com/wp-content/uploads/2024/10/Cibolo-Nature-Center.jpg
END:VEVENT
BEGIN:VEVENT
DTSTART;TZID=America/Chicago:20270127T143000
DTEND;TZID=America/Chicago:20270127T153000
DTSTAMP:20260422T115003
CREATED:20251229T201925Z
LAST-MODIFIED:20260420T012938Z
UID:10034726-1801060200-1801063800@theboernelife.com
SUMMARY:Wednesday Nature Walks at the Cibolo Nature Center
DESCRIPTION:Join our Nature Education Director every Wednesday for a refreshing 30-minute nature walk along the Cibolo Nature Center trails. Take a midweek break to explore\, observe\, and connect with the beauty around you. \n\n\nFrom the rustle of an armadillo in the brush to the flash of a migrating bird\, every walk brings its own surprises. Even if the wildlife stays hidden\, there’s always something new to learn from time spent in nature. \n\n\nWhen & Where: Wednesdays at 2:30pm. Meet on the back porch of the Cibolo Nature Center (140 City Park Rd.\, Boerne\, TX). \n\nNo RSVP needed—just show up! All are welcome.
URL:https://theboernelife.com/events/wednesday-nature-walks-at-the-cibolo-nature-center-2-2/2027-01-27/
LOCATION:Cibolo Nature Center\, 140 City Park Rd\, Boerne\, TX\, 78006\, United States
CATEGORIES:Outdoors
ATTACH;FMTTYPE=image/jpeg:https://theboernelife.com/wp-content/uploads/2024/10/Cibolo-Nature-Center.jpg
END:VEVENT
END:VCALENDAR