BEGIN:VCALENDAR
VERSION:2.0
PRODID:-//The Boerne Life - ECPv6.15.15//NONSGML v1.0//EN
CALSCALE:GREGORIAN
METHOD:PUBLISH
X-WR-CALNAME:The Boerne Life
X-ORIGINAL-URL:https://theboernelife.com
X-WR-CALDESC:Events for The Boerne Life
REFRESH-INTERVAL;VALUE=DURATION:PT1H
X-Robots-Tag:noindex
X-PUBLISHED-TTL:PT1H
BEGIN:VTIMEZONE
TZID:America/Chicago
BEGIN:DAYLIGHT
TZOFFSETFROM:-0600
TZOFFSETTO:-0500
TZNAME:CDT
DTSTART:20250309T080000
END:DAYLIGHT
BEGIN:STANDARD
TZOFFSETFROM:-0500
TZOFFSETTO:-0600
TZNAME:CST
DTSTART:20251102T070000
END:STANDARD
BEGIN:DAYLIGHT
TZOFFSETFROM:-0600
TZOFFSETTO:-0500
TZNAME:CDT
DTSTART:20260308T080000
END:DAYLIGHT
BEGIN:STANDARD
TZOFFSETFROM:-0500
TZOFFSETTO:-0600
TZNAME:CST
DTSTART:20261101T070000
END:STANDARD
BEGIN:DAYLIGHT
TZOFFSETFROM:-0600
TZOFFSETTO:-0500
TZNAME:CDT
DTSTART:20270314T080000
END:DAYLIGHT
BEGIN:STANDARD
TZOFFSETFROM:-0500
TZOFFSETTO:-0600
TZNAME:CST
DTSTART:20271107T070000
END:STANDARD
END:VTIMEZONE
BEGIN:VEVENT
DTSTART;TZID=America/Chicago:20260419T090000
DTEND;TZID=America/Chicago:20260419T103000
DTSTAMP:20260423T065055
CREATED:20260308T100312Z
LAST-MODIFIED:20260308T100312Z
UID:10036578-1776589200-1776594600@theboernelife.com
SUMMARY:Paws and Paths: Exploring the Bauer Unit at Guadalupe River State Park
DESCRIPTION:Dog lovers and their four-legged companions are invited to explore the trails during Paws and Paths: Exploring the Bauer Unit on March 22\, April 19\, and December 18 from 9 am to 10:30 am at the Bauer Unit of Guadalupe River State Park in Spring Branch\, TX. This guided walk offers a chance to enjoy the outdoors while discovering the natural beauty of the area with your pup. \nThe approximately two-mile walk will lead participants along the Bauer Unit trails\, where guides will share insights about the surrounding landscape and wildlife. The program is designed to be a relaxed and enjoyable outing where dogs and their owners can experience nature together. \nParticipants should meet at the Bauer Unit parking lot at 8:45 am\, with the walk beginning promptly at 9 am. Dogs must be friendly\, remain on a leash no longer than six feet\, and spaces are limited to ten dogs per walk. Attendees are encouraged to wear outdoor attire and sturdy hiking shoes and bring water for both themselves and their pets\, dog waste bags\, and sun protection. \nThere are no restroom facilities or water fountains at the Bauer Unit\, so participants should plan accordingly and pack out any items they bring. Admission is free with park entry. Park admission is $7 for adults\, while children 12 and under enter free. Payment can be made with exact cash or a park pass at the self-pay station\, or reservations can be made at texasstateparks.reserveamerica.com. \nRegistration is required and can be completed at https://tpwd.texas.gov/calendar/guadalupe-river/paws-and-paths-exploring-the-bauer-unit-registration-required. If ADA assistance is needed\, requests should be submitted at least two weeks in advance by emailing accessibility@tpwd.texas.gov. Park programs may be subject to change or cancellation due to inclement weather.
URL:https://theboernelife.com/events/paws-and-paths-exploring-the-bauer-unit-at-guadalupe-river-state-park/2026-04-19/
LOCATION:Guadalupe River State Park\, 3350 Park Road 31\, Spring Branch\, Texas\, 78070
CATEGORIES:Pets
ATTACH;FMTTYPE=image/jpeg:https://theboernelife.com/wp-content/uploads/2026/03/paws-and-paths-exploring-the-bauer-unit-at-guadalupe-river-state-park.jpg
END:VEVENT
BEGIN:VEVENT
DTSTART;TZID=America/Chicago:20260514T090000
DTEND;TZID=America/Chicago:20260514T120000
DTSTAMP:20260423T065055
CREATED:20260422T005805Z
LAST-MODIFIED:20260422T005805Z
UID:10037976-1778749200-1778760000@theboernelife.com
SUMMARY:Free Rabies Vaccination Clinic at Hill Country Animal League Clinic
DESCRIPTION:Free Rabies Vaccination Clinic provides an opportunity for pet owners to protect their animals with essential vaccines at no cost. The clinic will take place on Thursday\, May 14 from 9 am to 12 pm at the Hill Country Animal League Clinic\, located at 924 N. Main\, Boerne\, TX 78006. \nThis event offers free rabies and distemper vaccines for dogs\, as well as free rabies and FVRCP vaccines for cats. These vaccinations help prevent serious and potentially life-threatening diseases\, supporting the health and safety of pets and their families. \nAppointments are required and can be scheduled by calling 830-249-2341 and requesting the “Free Vaccine Clinic.” This event is made possible through support from Petco Love.
URL:https://theboernelife.com/events/free-rabies-vaccination-clinic-at-hill-country-animal-league-clinic/
LOCATION:Hill Country Animal League Clinic\, 924 N. Main Street\, Boerne\, TX\, 78006\, United States
CATEGORIES:Pets
ATTACH;FMTTYPE=image/jpeg:https://theboernelife.com/wp-content/uploads/2026/04/free-rabies-vaccination-clinic-at-hill-country-animal-league-clinic.jpg
END:VEVENT
BEGIN:VEVENT
DTSTART;TZID=America/Chicago:20260527T100000
DTEND;TZID=America/Chicago:20260527T140000
DTSTAMP:20260423T065055
CREATED:20260421T084303Z
LAST-MODIFIED:20260421T084303Z
UID:10037965-1779876000-1779890400@theboernelife.com
SUMMARY:Rabies Vaccination and Pet Licensing Clinic at Boerne Animal Shelter
DESCRIPTION:Rabies Vaccination and Pet Licensing Clinic provides a convenient opportunity for pet owners to vaccinate and license their pets in compliance with City of Boerne requirements. The event will take place on Wednesday\, May 27\, 2026 from 10 am to 2 pm at the Boerne Animal Shelter\, located at 330 South Esser Road\, Boerne\, TX 78006. \nHosted by Boerne Animal Care Services\, this one-day clinic offers rabies vaccinations administered by a veterinarian from the Hill Country Animal League. The cost is $20 per vaccine\, which includes a one-year City of Boerne pet license for residents. Pets belonging to non-city residents may receive the vaccine but will not be issued a city license. \nRegistration is required in advance\, and no walk-ins will be accepted. The deadline to register is May 25. After registering through the ACS pet licensing portal\, participants will be contacted to schedule a specific time slot. \nAll dogs must be on a leash\, and cats must be securely crated or contained. For more information or questions\, contact Boerne Animal Care Services at 830-249-2456.
URL:https://theboernelife.com/events/rabies-vaccination-and-pet-licensing-clinic-at-boerne-animal-shelter-2/
LOCATION:Boerne Animal Shelter\, 1121 S. Main Street\, Boerne\, TX\, 78006\, United States
CATEGORIES:Pets
ATTACH;FMTTYPE=image/jpeg:https://theboernelife.com/wp-content/uploads/2026/04/rabies-vaccination-and-pet-licensing-clinic-at-boerne-animal-shelter.jpg
END:VEVENT
END:VCALENDAR