BEGIN:VCALENDAR
VERSION:2.0
PRODID:-//The Boerne Life - ECPv6.15.15//NONSGML v1.0//EN
CALSCALE:GREGORIAN
METHOD:PUBLISH
X-ORIGINAL-URL:https://theboernelife.com
X-WR-CALDESC:Events for The Boerne Life
REFRESH-INTERVAL;VALUE=DURATION:PT1H
X-Robots-Tag:noindex
X-PUBLISHED-TTL:PT1H
BEGIN:VTIMEZONE
TZID:America/Chicago
BEGIN:DAYLIGHT
TZOFFSETFROM:-0600
TZOFFSETTO:-0500
TZNAME:CDT
DTSTART:20250309T080000
END:DAYLIGHT
BEGIN:STANDARD
TZOFFSETFROM:-0500
TZOFFSETTO:-0600
TZNAME:CST
DTSTART:20251102T070000
END:STANDARD
BEGIN:DAYLIGHT
TZOFFSETFROM:-0600
TZOFFSETTO:-0500
TZNAME:CDT
DTSTART:20260308T080000
END:DAYLIGHT
BEGIN:STANDARD
TZOFFSETFROM:-0500
TZOFFSETTO:-0600
TZNAME:CST
DTSTART:20261101T070000
END:STANDARD
BEGIN:DAYLIGHT
TZOFFSETFROM:-0600
TZOFFSETTO:-0500
TZNAME:CDT
DTSTART:20270314T080000
END:DAYLIGHT
BEGIN:STANDARD
TZOFFSETFROM:-0500
TZOFFSETTO:-0600
TZNAME:CST
DTSTART:20271107T070000
END:STANDARD
END:VTIMEZONE
BEGIN:VEVENT
DTSTART;TZID=America/Chicago:20260306T170000
DTEND;TZID=America/Chicago:20260306T210000
DTSTAMP:20260424T081045
CREATED:20250731T130307Z
LAST-MODIFIED:20260420T030147Z
UID:10033893-1772816400-1772830800@theboernelife.com
SUMMARY:First Friday at Of A Muse and Deadbeats Barbershop
DESCRIPTION:On the first Friday of the month\, grab your crew and swing by for an evening of sipping drinks\, shopping\, music\, and fun.  Of A Muse is Bohemian-style boutique and Deadbeats Barbershop is basically a rock n’ roll barbershop and record store located in the Olde Town shopping center at 233 S Main Street in Boerne. \n 
URL:https://theboernelife.com/events/first-friday-at-of-a-muse/2026-03-06/
LOCATION:Of A Muse\, 233 S Main St Suite F\, Boerne\, TX\, 78006\, United States
CATEGORIES:Shopping
ATTACH;FMTTYPE=image/jpeg:https://theboernelife.com/wp-content/uploads/2025/07/TBL-FB-Tall-Image-2025-10-02T154555.110.jpg
END:VEVENT
BEGIN:VEVENT
DTSTART;TZID=America/Chicago:20260306T170000
DTEND;TZID=America/Chicago:20260306T210000
DTSTAMP:20260424T081045
CREATED:20260302T234541Z
LAST-MODIFIED:20260302T234541Z
UID:10035049-1772816400-1772830800@theboernelife.com
SUMMARY:Texas Gourmet Pantry 10 Year Anniversary Celebration at Texas Gourmet Pantry
DESCRIPTION:An evening of celebration marks a decade in business as Texas Gourmet Pantry hosts its 10 Year Anniversary Celebration on March 6 from 5 pm to 9 pm at 233 S. Main St.\, Suite B\, Boerne\, TX 78006. The event invites the community to commemorate ten years of specialty foods\, local flavor\, and loyal customers. \nGuests can enjoy complimentary snacks and sips while browsing the shop’s curated selection. The celebration will also feature 10 percent off the entire order during the event\, gift with purchase while supplies last\, and drawings for giveaways held throughout the evening. For more information\, contact Texas Gourmet Pantry directly.
URL:https://theboernelife.com/events/texas-gourmet-pantry-10-year-anniversary-celebration-at-texas-gourmet-pantry/
LOCATION:Texas Gourmet Pantry\, 233 S. Main St.\, Suite B\, Boerne\, TX\, 78006\, United States
CATEGORIES:Shopping
ATTACH;FMTTYPE=image/jpeg:https://theboernelife.com/wp-content/uploads/2026/03/texas-gourmet-pantry-10-year-anniversary-celebration-at-texas-gourmet-pantry.jpg
END:VEVENT
END:VCALENDAR