BEGIN:VCALENDAR
VERSION:2.0
PRODID:-//The Boerne Life - ECPv6.15.15//NONSGML v1.0//EN
CALSCALE:GREGORIAN
METHOD:PUBLISH
X-WR-CALNAME:The Boerne Life
X-ORIGINAL-URL:https://theboernelife.com
X-WR-CALDESC:Events for The Boerne Life
REFRESH-INTERVAL;VALUE=DURATION:PT1H
X-Robots-Tag:noindex
X-PUBLISHED-TTL:PT1H
BEGIN:VTIMEZONE
TZID:America/Chicago
BEGIN:DAYLIGHT
TZOFFSETFROM:-0600
TZOFFSETTO:-0500
TZNAME:CDT
DTSTART:20250309T080000
END:DAYLIGHT
BEGIN:STANDARD
TZOFFSETFROM:-0500
TZOFFSETTO:-0600
TZNAME:CST
DTSTART:20251102T070000
END:STANDARD
BEGIN:DAYLIGHT
TZOFFSETFROM:-0600
TZOFFSETTO:-0500
TZNAME:CDT
DTSTART:20260308T080000
END:DAYLIGHT
BEGIN:STANDARD
TZOFFSETFROM:-0500
TZOFFSETTO:-0600
TZNAME:CST
DTSTART:20261101T070000
END:STANDARD
BEGIN:DAYLIGHT
TZOFFSETFROM:-0600
TZOFFSETTO:-0500
TZNAME:CDT
DTSTART:20270314T080000
END:DAYLIGHT
BEGIN:STANDARD
TZOFFSETFROM:-0500
TZOFFSETTO:-0600
TZNAME:CST
DTSTART:20271107T070000
END:STANDARD
END:VTIMEZONE
BEGIN:VEVENT
DTSTART;TZID=America/Chicago:20260402T100000
DTEND;TZID=America/Chicago:20260402T170000
DTSTAMP:20260425T085220
CREATED:20260331T091937Z
LAST-MODIFIED:20260331T091937Z
UID:10036911-1775124000-1775149200@theboernelife.com
SUMMARY:Raymond Mazza Pop-Up Show at Morrell Jewelry
DESCRIPTION:A special shopping event takes place during the Raymond Mazza Pop-Up Show on April 2 from 10 am to 5 pm at Morrell Jewelry\, 134 E. Bandera Rd.\, Boerne\, TX 78006. \nThis one-day event features a selection of Raymond Mazza jewelry alongside exclusive trunk show pieces. Guests can browse and shop while enjoying limited-time savings\, including 30% off existing store inventory and 20% off new trunk show items. \nLight snacks and drinks will be available\, creating a relaxed and welcoming shopping experience. \nFor more information\, contact Morrell Jewelry directly.
URL:https://theboernelife.com/events/raymond-mazza-pop-up-show-at-morrell-jewelry/
LOCATION:Morrell Jewelry\, 134 E Bandera\, Boerne\, TX\, 78006\, United States
CATEGORIES:Shopping
ATTACH;FMTTYPE=image/jpeg:https://theboernelife.com/wp-content/uploads/2026/03/raymond-mazza-pop-up-show-at-morrell-jewelry.jpg
END:VEVENT
END:VCALENDAR