BEGIN:VCALENDAR
VERSION:2.0
PRODID:-//The Boerne Life - ECPv6.15.15//NONSGML v1.0//EN
CALSCALE:GREGORIAN
METHOD:PUBLISH
X-ORIGINAL-URL:https://theboernelife.com
X-WR-CALDESC:Events for The Boerne Life
REFRESH-INTERVAL;VALUE=DURATION:PT1H
X-Robots-Tag:noindex
X-PUBLISHED-TTL:PT1H
BEGIN:VTIMEZONE
TZID:America/Chicago
BEGIN:DAYLIGHT
TZOFFSETFROM:-0600
TZOFFSETTO:-0500
TZNAME:CDT
DTSTART:20250309T080000
END:DAYLIGHT
BEGIN:STANDARD
TZOFFSETFROM:-0500
TZOFFSETTO:-0600
TZNAME:CST
DTSTART:20251102T070000
END:STANDARD
BEGIN:DAYLIGHT
TZOFFSETFROM:-0600
TZOFFSETTO:-0500
TZNAME:CDT
DTSTART:20260308T080000
END:DAYLIGHT
BEGIN:STANDARD
TZOFFSETFROM:-0500
TZOFFSETTO:-0600
TZNAME:CST
DTSTART:20261101T070000
END:STANDARD
BEGIN:DAYLIGHT
TZOFFSETFROM:-0600
TZOFFSETTO:-0500
TZNAME:CDT
DTSTART:20270314T080000
END:DAYLIGHT
BEGIN:STANDARD
TZOFFSETFROM:-0500
TZOFFSETTO:-0600
TZNAME:CST
DTSTART:20271107T070000
END:STANDARD
END:VTIMEZONE
BEGIN:VEVENT
DTSTART;VALUE=DATE:20260417
DTEND;VALUE=DATE:20260419
DTSTAMP:20260422T190743
CREATED:20240910T160112Z
LAST-MODIFIED:20260108T024801Z
UID:10022158-1776384000-1776556799@theboernelife.com
SUMMARY:Boerne Handmade Market
DESCRIPTION:The Spring Boerne Handmade Market features over 75 handmade-only vendors selling toys\, jewelry\, art\, home decor\, candles\, apparel\, and more. There will also be food and drink as well. \nThis is the largest market of its kind in South Texas. It runs on Saturday April 18th. You can also get tickets to the early for VIP night Friday. \nTicket prices will be posted soon.
URL:https://theboernelife.com/events/boerne-handmade-market/
LOCATION:1910 Church\, 130 Sisterdale Rd\, Boerne\, TX\, 78006\, United States
CATEGORIES:Shopping
ATTACH;FMTTYPE=image/jpeg:https://theboernelife.com/wp-content/uploads/2024/09/TBL-FB-Post-2025-09-15T120756.041.jpg
END:VEVENT
BEGIN:VEVENT
DTSTART;TZID=America/Chicago:20260417T110000
DTEND;TZID=America/Chicago:20260417T180000
DTSTAMP:20260422T190743
CREATED:20260415T003026Z
LAST-MODIFIED:20260415T003026Z
UID:10037588-1776423600-1776448800@theboernelife.com
SUMMARY:3rd Year Anniversary Celebration at Bricks & Minifigs Fair Oaks
DESCRIPTION:Bricks & Minifigs Fair Oaks celebrates its third anniversary with a weekend of special deals and in-store savings. The event will take place from April 17 through April 19 at 28765 I-10 #101\, Boerne\, TX 78006. \nShoppers can browse a variety of discounted items throughout the store\, including reduced prices on used sets\, bulk tubs and bags\, and select minifig promotions. The event offers a great opportunity for collectors and families to explore unique finds and expand their collections while taking advantage of limited-time offers. \nStore hours during the event are Monday through Saturday from 11 am to 6 pm and Sunday from 12 pm to 5 pm. For more information\, contact 830-755-6164.
URL:https://theboernelife.com/events/3rd-year-anniversary-celebration-at-bricks-minifigs-fair-oaks/2026-04-17/
LOCATION:Bricks & Minifigs Fair Oaks\, 28765 I-10 W. #101\, Boerne\, TX\, 78006\, United States
CATEGORIES:Shopping
ATTACH;FMTTYPE=image/jpeg:https://theboernelife.com/wp-content/uploads/2026/04/3rd-year-anniversary-celebration-at-bricks-and-minifigs-fair-oaks.jpg
END:VEVENT
BEGIN:VEVENT
DTSTART;TZID=America/Chicago:20260417T173000
DTEND;TZID=America/Chicago:20260417T210000
DTSTAMP:20260422T190743
CREATED:20260330T233254Z
LAST-MODIFIED:20260330T233254Z
UID:10036837-1776447000-1776459600@theboernelife.com
SUMMARY:Boerne Handmade Market Spring 2026 at nineteen:ten church
DESCRIPTION:Shop local and discover one-of-a-kind creations during the Boerne Handmade Market Spring 2026 on April 17–18 at nineteen:ten church\, 130 Sisterdale Rd.\, Boerne\, TX 78006. \nThis popular market features 70+ handmade-only vendors offering unique gifts\, décor\, and goods—think Etsy brought to life. From thoughtful presents for teachers and loved ones to something special for yourself\, the market is a celebration of creativity and small businesses. \nThe event kicks off with a VIP Night on Friday\, April 17 from 5:30 pm to 9 pm. VIP tickets are $25 and must be purchased in advance through the official website. The VIP experience includes early access shopping\, a swag bag filled with goodies and coupons\, drink tickets\, a Boerne Handmade Market t-shirt\, snacks\, and a sweet treat from Let’s Get Caked. \nThe main Market Day takes place on Saturday\, April 18 from 9 am to 4 pm and is open to the public. Admission is $5 at the door or online\, and children 12 and under are free. The first 100 shoppers will receive a free shopping bag. \nGuests are encouraged to purchase tickets only through the official website at https://boernehandmademarket.com/bhm-tickets/ to avoid scams. \nCome out to support local makers\, enjoy a festive shopping experience\, and celebrate the spirit of handmade in Boerne.
URL:https://theboernelife.com/events/boerne-handmade-market-spring-2026-at-nineteenten-church/2026-04-17/
LOCATION:nineteen:ten church\, 130 Sisterdale Road\, Boerne\, 78006
CATEGORIES:Shopping
ATTACH;FMTTYPE=image/jpeg:https://theboernelife.com/wp-content/uploads/2026/03/boerne-handmade-market-spring-2026-at-nineteen-ten-church.jpg
END:VEVENT
BEGIN:VEVENT
DTSTART;TZID=America/Chicago:20260417T173000
DTEND;TZID=America/Chicago:20260417T210000
DTSTAMP:20260422T190743
CREATED:20260331T094717Z
LAST-MODIFIED:20260331T094717Z
UID:10036919-1776447000-1776459600@theboernelife.com
SUMMARY:Zabringo at Boerne Handmade Market
DESCRIPTION:Original art and handmade goods will be featured by Zabringo during the Boerne Handmade Market on April 17–18\, 2026 in Boerne\, TX. \nAs a participating vendor\, Zabringo will showcase a collection of original acrylic paintings\, art prints\, handmade earrings\, and a newly released art kit. This marks a first appearance at the market\, offering visitors a chance to explore unique\, artist-created pieces in a vibrant shopping environment. \nThe event begins with a VIP evening on Friday\, April 17 from 5:30 pm to 9:00 pm\, followed by a public market day on Saturday\, April 18 from 9:00 am to 4:00 pm. The Boerne Handmade Market features a wide variety of handmade vendors\, making it a popular destination for one-of-a-kind gifts and local creations. \nTickets are available through https://boernehandmademarket.com.
URL:https://theboernelife.com/events/zabringo-at-boerne-handmade-market/2026-04-17/
LOCATION:Boerne Handmade Market\, nineteen:ten church at 130 Sisterdale Rd\, Boerne\, TX\, 78006\, United States
CATEGORIES:Shopping
ATTACH;FMTTYPE=image/jpeg:https://theboernelife.com/wp-content/uploads/2026/03/zabringo-at-boerne-handmade-market.jpg
END:VEVENT
END:VCALENDAR