BEGIN:VCALENDAR
VERSION:2.0
PRODID:-//The Boerne Life - ECPv6.15.15//NONSGML v1.0//EN
CALSCALE:GREGORIAN
METHOD:PUBLISH
X-WR-CALNAME:The Boerne Life
X-ORIGINAL-URL:https://theboernelife.com
X-WR-CALDESC:Events for The Boerne Life
REFRESH-INTERVAL;VALUE=DURATION:PT1H
X-Robots-Tag:noindex
X-PUBLISHED-TTL:PT1H
BEGIN:VTIMEZONE
TZID:America/Chicago
BEGIN:DAYLIGHT
TZOFFSETFROM:-0600
TZOFFSETTO:-0500
TZNAME:CDT
DTSTART:20250309T080000
END:DAYLIGHT
BEGIN:STANDARD
TZOFFSETFROM:-0500
TZOFFSETTO:-0600
TZNAME:CST
DTSTART:20251102T070000
END:STANDARD
BEGIN:DAYLIGHT
TZOFFSETFROM:-0600
TZOFFSETTO:-0500
TZNAME:CDT
DTSTART:20260308T080000
END:DAYLIGHT
BEGIN:STANDARD
TZOFFSETFROM:-0500
TZOFFSETTO:-0600
TZNAME:CST
DTSTART:20261101T070000
END:STANDARD
BEGIN:DAYLIGHT
TZOFFSETFROM:-0600
TZOFFSETTO:-0500
TZNAME:CDT
DTSTART:20270314T080000
END:DAYLIGHT
BEGIN:STANDARD
TZOFFSETFROM:-0500
TZOFFSETTO:-0600
TZNAME:CST
DTSTART:20271107T070000
END:STANDARD
END:VTIMEZONE
BEGIN:VEVENT
DTSTART;TZID=America/Chicago:20260317T150000
DTEND;TZID=America/Chicago:20260317T210000
DTSTAMP:20260421T100909
CREATED:20260315T225220Z
LAST-MODIFIED:20260315T225220Z
UID:10036802-1773759600-1773781200@theboernelife.com
SUMMARY:St. Patrick's Day at Indulge
DESCRIPTION:  \nHead to Indulge Wine Bar from 3 pm to 9 pm on St. Patrick’s day and you can enjoy a limited edition cocktail along with 15% off the showroom at their sister store\, Finishing Touches.
URL:https://theboernelife.com/events/st-patricks-day-at-indulge/
LOCATION:Indulge Wine Bar\, 21 Truss Drive\, Boerne\, TX\, 78006\, United States
CATEGORIES:Food and Drink,Shopping
ATTACH;FMTTYPE=image/png:https://theboernelife.com/wp-content/uploads/2026/03/St.-Patricks-post-1.png
END:VEVENT
BEGIN:VEVENT
DTSTART;TZID=America/Chicago:20260321T090000
DTEND;TZID=America/Chicago:20260321T130000
DTSTAMP:20260421T100909
CREATED:20260307T105736Z
LAST-MODIFIED:20260411T020933Z
UID:10035869-1774083600-1774098000@theboernelife.com
SUMMARY:Cibolo Farmers Market at Herff Farm
DESCRIPTION:Fresh local goods and a vibrant community atmosphere come together at the Cibolo Farmers Market at Herff Farm every Saturday from 9 am to 1 pm in Boerne\, TX. Located just a mile from the Historic Hill Country Mile\, the market offers a scenic destination where visitors can shop\, explore\, and connect with local producers. \nThe outdoor market brings together farmers\, ranchers\, artisans\, and eco-conscious growers offering a wide variety of locally grown produce\, handcrafted goods\, and specialty products. Visitors can also take time to explore the surrounding trails and gardens or stop by the restored Herff House while enjoying the natural setting. \nThe Cibolo Farmers Market provides a welcoming space that celebrates sustainable living and the creativity of the Hill Country community. For more information about vendors and weekly offerings\, contact the Cibolo Center for Conservation directly.
URL:https://theboernelife.com/events/cibolo-farmers-market-at-herff-farm/2026-03-21/
LOCATION:Herff Farm\, 33 Herff Rd\, Boerne\, TX\, 78006\, United States
CATEGORIES:Shopping
ATTACH;FMTTYPE=image/jpeg:https://theboernelife.com/wp-content/uploads/2026/03/cibolo-farmers-market-at-herff-farm.jpg
END:VEVENT
BEGIN:VEVENT
DTSTART;TZID=America/Chicago:20260321T090000
DTEND;TZID=America/Chicago:20260321T140000
DTSTAMP:20260421T100909
CREATED:20260317T070401Z
LAST-MODIFIED:20260317T070401Z
UID:10036804-1774083600-1774101600@theboernelife.com
SUMMARY:Second Annual Spring Trunk Show at Texas State Optical
DESCRIPTION:The Second Annual Spring Trunk Show takes place on Saturday\, March 21 from 9 am to 2 pm at Texas State Optical in Fair Oaks Ranch. This seasonal event offers an opportunity to explore the latest eyewear styles while taking advantage of special promotions and discounts. \nShoppers can browse new spring collections from designers such as Dolce & Gabbana\, along with a variety of frames included in a “Spring Clean” sale featuring select styles at reduced prices. Additional offers include 30% off a first pair of glasses\, 40% off a second pair\, and 50% off a pair of non-prescription glasses. Guests can also stock up on a year’s supply of contact lenses during the event. \nThe trunk show will include light snacks and beverages\, creating a relaxed and welcoming shopping experience while guests explore the latest eyewear trends. \nTexas State Optical is located at 9091 Fair Oaks Pkwy\, Suite 306\, Fair Oaks Ranch\, TX 78015. For more information\, call 210-698-6393.
URL:https://theboernelife.com/events/second-annual-spring-trunk-show-at-texas-state-optical/
LOCATION:Texas State Optical\, 9091 Fair Oaks Pkwy\, Suite 306\, Fair Oaks Ranch\, TX\, 78015\, United States
CATEGORIES:Shopping
ATTACH;FMTTYPE=image/jpeg:https://theboernelife.com/wp-content/uploads/2026/03/second-annual-spring-trunk-show-at-texas-state-optical.jpg
END:VEVENT
END:VCALENDAR