BEGIN:VCALENDAR
VERSION:2.0
PRODID:-//The Boerne Life - ECPv6.15.15//NONSGML v1.0//EN
CALSCALE:GREGORIAN
METHOD:PUBLISH
X-WR-CALNAME:The Boerne Life
X-ORIGINAL-URL:https://theboernelife.com
X-WR-CALDESC:Events for The Boerne Life
REFRESH-INTERVAL;VALUE=DURATION:PT1H
X-Robots-Tag:noindex
X-PUBLISHED-TTL:PT1H
BEGIN:VTIMEZONE
TZID:America/Chicago
BEGIN:DAYLIGHT
TZOFFSETFROM:-0600
TZOFFSETTO:-0500
TZNAME:CDT
DTSTART:20250309T080000
END:DAYLIGHT
BEGIN:STANDARD
TZOFFSETFROM:-0500
TZOFFSETTO:-0600
TZNAME:CST
DTSTART:20251102T070000
END:STANDARD
BEGIN:DAYLIGHT
TZOFFSETFROM:-0600
TZOFFSETTO:-0500
TZNAME:CDT
DTSTART:20260308T080000
END:DAYLIGHT
BEGIN:STANDARD
TZOFFSETFROM:-0500
TZOFFSETTO:-0600
TZNAME:CST
DTSTART:20261101T070000
END:STANDARD
BEGIN:DAYLIGHT
TZOFFSETFROM:-0600
TZOFFSETTO:-0500
TZNAME:CDT
DTSTART:20270314T080000
END:DAYLIGHT
BEGIN:STANDARD
TZOFFSETFROM:-0500
TZOFFSETTO:-0600
TZNAME:CST
DTSTART:20271107T070000
END:STANDARD
END:VTIMEZONE
BEGIN:VEVENT
DTSTART;TZID=America/Chicago:20261217T180000
DTEND;TZID=America/Chicago:20261217T210000
DTSTAMP:20260423T041446
CREATED:20260401T001810Z
LAST-MODIFIED:20260401T001810Z
UID:10037020-1797530400-1797541200@theboernelife.com
SUMMARY:DeVino Ladies Night at DeVino Cellars
DESCRIPTION:A relaxed and social evening takes place during DeVino Ladies Night every Thursday from 6 pm to 9 pm at DeVino Cellars in Boerne\, TX. \nThis weekly gathering offers a welcoming atmosphere for unwinding and connecting\, featuring $9 wine by the glass from a curated selection. It’s an easygoing way to enjoy a night out with friends while sampling a variety of wines. \nWhile designed with the ladies in mind\, the event is open to all and provides a consistent midweek opportunity to sip and socialize. \nFor more information\, contact DeVino Cellars directly.
URL:https://theboernelife.com/events/devino-ladies-night-at-devino-cellars/2026-12-17/
LOCATION:DeVino Cellars\, 1109 S Main St\, Boerne\, TX\, 78006\, United States
CATEGORIES:Women
ATTACH;FMTTYPE=image/jpeg:https://theboernelife.com/wp-content/uploads/2026/03/devino-ladies-night-at-devino-cellars.jpg
END:VEVENT
BEGIN:VEVENT
DTSTART;TZID=America/Chicago:20261224T180000
DTEND;TZID=America/Chicago:20261224T210000
DTSTAMP:20260423T041446
CREATED:20260401T001810Z
LAST-MODIFIED:20260401T001810Z
UID:10037021-1798135200-1798146000@theboernelife.com
SUMMARY:DeVino Ladies Night at DeVino Cellars
DESCRIPTION:A relaxed and social evening takes place during DeVino Ladies Night every Thursday from 6 pm to 9 pm at DeVino Cellars in Boerne\, TX. \nThis weekly gathering offers a welcoming atmosphere for unwinding and connecting\, featuring $9 wine by the glass from a curated selection. It’s an easygoing way to enjoy a night out with friends while sampling a variety of wines. \nWhile designed with the ladies in mind\, the event is open to all and provides a consistent midweek opportunity to sip and socialize. \nFor more information\, contact DeVino Cellars directly.
URL:https://theboernelife.com/events/devino-ladies-night-at-devino-cellars/2026-12-24/
LOCATION:DeVino Cellars\, 1109 S Main St\, Boerne\, TX\, 78006\, United States
CATEGORIES:Women
ATTACH;FMTTYPE=image/jpeg:https://theboernelife.com/wp-content/uploads/2026/03/devino-ladies-night-at-devino-cellars.jpg
END:VEVENT
BEGIN:VEVENT
DTSTART;TZID=America/Chicago:20261231T180000
DTEND;TZID=America/Chicago:20261231T210000
DTSTAMP:20260423T041446
CREATED:20260401T001810Z
LAST-MODIFIED:20260401T001810Z
UID:10037022-1798740000-1798750800@theboernelife.com
SUMMARY:DeVino Ladies Night at DeVino Cellars
DESCRIPTION:A relaxed and social evening takes place during DeVino Ladies Night every Thursday from 6 pm to 9 pm at DeVino Cellars in Boerne\, TX. \nThis weekly gathering offers a welcoming atmosphere for unwinding and connecting\, featuring $9 wine by the glass from a curated selection. It’s an easygoing way to enjoy a night out with friends while sampling a variety of wines. \nWhile designed with the ladies in mind\, the event is open to all and provides a consistent midweek opportunity to sip and socialize. \nFor more information\, contact DeVino Cellars directly.
URL:https://theboernelife.com/events/devino-ladies-night-at-devino-cellars/2026-12-31/
LOCATION:DeVino Cellars\, 1109 S Main St\, Boerne\, TX\, 78006\, United States
CATEGORIES:Women
ATTACH;FMTTYPE=image/jpeg:https://theboernelife.com/wp-content/uploads/2026/03/devino-ladies-night-at-devino-cellars.jpg
END:VEVENT
END:VCALENDAR