BEGIN:VCALENDAR
VERSION:2.0
PRODID:-//The Boerne Life - ECPv6.15.15//NONSGML v1.0//EN
CALSCALE:GREGORIAN
METHOD:PUBLISH
X-WR-CALNAME:The Boerne Life
X-ORIGINAL-URL:https://theboernelife.com
X-WR-CALDESC:Events for The Boerne Life
REFRESH-INTERVAL;VALUE=DURATION:PT1H
X-Robots-Tag:noindex
X-PUBLISHED-TTL:PT1H
BEGIN:VTIMEZONE
TZID:America/Chicago
BEGIN:DAYLIGHT
TZOFFSETFROM:-0600
TZOFFSETTO:-0500
TZNAME:CDT
DTSTART:20250309T080000
END:DAYLIGHT
BEGIN:STANDARD
TZOFFSETFROM:-0500
TZOFFSETTO:-0600
TZNAME:CST
DTSTART:20251102T070000
END:STANDARD
BEGIN:DAYLIGHT
TZOFFSETFROM:-0600
TZOFFSETTO:-0500
TZNAME:CDT
DTSTART:20260308T080000
END:DAYLIGHT
BEGIN:STANDARD
TZOFFSETFROM:-0500
TZOFFSETTO:-0600
TZNAME:CST
DTSTART:20261101T070000
END:STANDARD
BEGIN:DAYLIGHT
TZOFFSETFROM:-0600
TZOFFSETTO:-0500
TZNAME:CDT
DTSTART:20270314T080000
END:DAYLIGHT
BEGIN:STANDARD
TZOFFSETFROM:-0500
TZOFFSETTO:-0600
TZNAME:CST
DTSTART:20271107T070000
END:STANDARD
END:VTIMEZONE
BEGIN:VEVENT
DTSTART;TZID=America/Chicago:20260112T100000
DTEND;TZID=America/Chicago:20260112T120000
DTSTAMP:20260420T173253
CREATED:20260112T010018Z
LAST-MODIFIED:20260207T012812Z
UID:10034153-1768212000-1768219200@theboernelife.com
SUMMARY:Hill Country Newcomers Monthly Meeting at St. Mark Presbyterian Church Family Life Center
DESCRIPTION:Hill Country Newcomers hosts monthly meetings for women in the Boerne area who are interested in making new connections and becoming involved in local activities. Each gathering features a guest speaker along with a potluck buffet\, creating a welcoming setting for conversation and community. \nThe meeting will  begin at 10 am at the St. Mark Presbyterian Church Family Life Center\, located at 208 W. Bandera Rd.\, Boerne\, TX. The group offers a variety of social opportunities and activities throughout the month\, making it a helpful resource for women who are new to the area or simply looking to expand their social circle.
URL:https://theboernelife.com/events/hill-country-newcomers-monthly-meeting-at-st-mark-presbyterian-church-family-life-center/2026-01-12/
LOCATION:St. Mark Presbyterian Church\, 208 W. Bandera\, Boerne\, TX\, 78006\, United States
CATEGORIES:Women
ATTACH;FMTTYPE=image/jpeg:https://theboernelife.com/wp-content/uploads/2026/01/hill-country-newcomers-monthly-meeting-at-st-mark-presbyterian-church-family-life-center.jpg
END:VEVENT
BEGIN:VEVENT
DTSTART;TZID=America/Chicago:20260114T183000
DTEND;TZID=America/Chicago:20260114T200000
DTSTAMP:20260420T173253
CREATED:20260106T072356Z
LAST-MODIFIED:20260106T072356Z
UID:10034031-1768415400-1768420800@theboernelife.com
SUMMARY:Women & Investing: Finding and Funding Your Why at Girls Night In
DESCRIPTION:Women & Investing: Finding and Funding Your Why offers a hands-on Financial Vision Board workshop designed to help participants clarify their goals\, define their purpose\, and begin aligning their finances with their vision. This first session in a three-part series focuses on discovering what truly matters and creating a roadmap for funding those priorities. \nThe workshop will take place on Friday\, January 14\, 2026\, from 6:30 pm to 8:00 pm at Girls Night In\, 170 S Main St\, Unit 202\, Boerne\, TX. Admission is free\, and the session is open to women at any stage of their financial journey. Space is limited\, so advance registration is required. \nReservations and additional details are available at https://book.squareup.com/…/location/LGGMHB6K78S15/classes or www.girlsnightinboerne.com.
URL:https://theboernelife.com/events/women-investing-finding-and-funding-your-why-at-girls-night-in/
LOCATION:Girls Night In\, 170 S Main St\, Suite 202\, Boerne\, TX\, 78006\, United States
CATEGORIES:Women
ATTACH;FMTTYPE=image/jpeg:https://theboernelife.com/wp-content/uploads/2026/01/women-and-investing-finding-and-funding-your-why-at-girls-night-in.jpg
END:VEVENT
BEGIN:VEVENT
DTSTART;TZID=America/Chicago:20260117T100000
DTEND;TZID=America/Chicago:20260117T120000
DTSTAMP:20260420T173253
CREATED:20260112T011200Z
LAST-MODIFIED:20260112T011200Z
UID:10034155-1768644000-1768651200@theboernelife.com
SUMMARY:Vision Into Action: Design Your Year with Purpose at DeVino Cellars
DESCRIPTION:Vision Into Action: Design Your Year with Purpose offers a focused\, hands-on workshop designed to help participants bring clarity and intention to the year ahead. This interactive experience centers on reflection\, goal setting\, and practical planning\, guiding attendees through the process of creating a personal vision board and developing strategies to turn ideas into meaningful action. \nThe workshop will take place on Saturday\, January 17\, from 10 am to 12 pm at DeVino Cellars in Boerne\, Texas. Admission is $20 per person\, and participation is limited to 20 attendees to allow for a more personalized experience. Advance registration is required and available online at https://hcwib.net/event-6493917. \nThis workshop is well suited for anyone looking to begin the year with focus\, motivation\, and a clear sense of direction.
URL:https://theboernelife.com/events/vision-into-action-design-your-year-with-purpose-at-devino-cellars/
LOCATION:DeVino Cellars\, 1109 S Main St\, Boerne\, TX\, 78006\, United States
CATEGORIES:Women
ATTACH;FMTTYPE=image/jpeg:https://theboernelife.com/wp-content/uploads/2026/01/vision-into-action-design-your-year-with-purpose-at-devino-cellars.jpg
END:VEVENT
END:VCALENDAR