BEGIN:VCALENDAR
VERSION:2.0
PRODID:-//The Boerne Life - ECPv6.15.15//NONSGML v1.0//EN
CALSCALE:GREGORIAN
METHOD:PUBLISH
X-WR-CALNAME:The Boerne Life
X-ORIGINAL-URL:https://theboernelife.com
X-WR-CALDESC:Events for The Boerne Life
REFRESH-INTERVAL;VALUE=DURATION:PT1H
X-Robots-Tag:noindex
X-PUBLISHED-TTL:PT1H
BEGIN:VTIMEZONE
TZID:America/Chicago
BEGIN:DAYLIGHT
TZOFFSETFROM:-0600
TZOFFSETTO:-0500
TZNAME:CDT
DTSTART:20230312T080000
END:DAYLIGHT
BEGIN:STANDARD
TZOFFSETFROM:-0500
TZOFFSETTO:-0600
TZNAME:CST
DTSTART:20231105T070000
END:STANDARD
BEGIN:DAYLIGHT
TZOFFSETFROM:-0600
TZOFFSETTO:-0500
TZNAME:CDT
DTSTART:20240310T080000
END:DAYLIGHT
BEGIN:STANDARD
TZOFFSETFROM:-0500
TZOFFSETTO:-0600
TZNAME:CST
DTSTART:20241103T070000
END:STANDARD
BEGIN:DAYLIGHT
TZOFFSETFROM:-0600
TZOFFSETTO:-0500
TZNAME:CDT
DTSTART:20250309T080000
END:DAYLIGHT
BEGIN:STANDARD
TZOFFSETFROM:-0500
TZOFFSETTO:-0600
TZNAME:CST
DTSTART:20251102T070000
END:STANDARD
END:VTIMEZONE
BEGIN:VEVENT
DTSTART;TZID=America/Chicago:20240621T190000
DTEND;TZID=America/Chicago:20240621T220000
DTSTAMP:20260422T210359
CREATED:20240301T123631Z
LAST-MODIFIED:20250822T005945Z
UID:10029496-1718996400-1719007200@theboernelife.com
SUMMARY:Live Music Outside at Brantley's Bistro and Bar
DESCRIPTION:Looking for live music in a beer garden setting? Then you’ll want to check out Friday and Saturday nights at Brantley’s Bistro and Bar. Music goes from 7:30pm-10:30pm on the stage in the beer garden. Beer\, wine\, and cocktails are available. It’s a beautiful setting!
URL:https://theboernelife.com/events/live-music-outside-at-brantleys-bistro-and-bar/2024-06-21/
LOCATION:259 Brantley’s Bistro and Bar\, 259 South Main St\, Boerne\, TX\, 78006\, United States
CATEGORIES:Music,Outdoors
ATTACH;FMTTYPE=image/jpeg:https://theboernelife.com/wp-content/uploads/2024/03/Brantleys-Live-Music.jpg
END:VEVENT
BEGIN:VEVENT
DTSTART;TZID=America/Chicago:20240621T183000
DTEND;TZID=America/Chicago:20240621T213000
DTSTAMP:20260422T210359
CREATED:20240229T102833Z
LAST-MODIFIED:20240917T144742Z
UID:10007252-1718994600-1719005400@theboernelife.com
SUMMARY:Live Music at Pure Country BBQ & Grill
DESCRIPTION:Head out to Pure Country BBQ & Grill on Friday or Saturday night for live music\, good food and drink\, and the perfect place to let the kids run around and play. \nFor current lineups\, you can check here.
URL:https://theboernelife.com/events/pure-country-bbq-grill/2024-06-21/
LOCATION:Pure Country BBQ & Grill\, 1481 S Main St\, Boerne\, TX\, 78006\, United States
CATEGORIES:Music
ATTACH;FMTTYPE=image/jpeg:https://theboernelife.com/wp-content/uploads/2024/02/Pure-Country-BBQ-Grill.jpg
END:VEVENT
BEGIN:VEVENT
DTSTART;TZID=America/Chicago:20240621T180000
DTEND;TZID=America/Chicago:20240621T210000
DTSTAMP:20260422T210359
CREATED:20240304T024944Z
LAST-MODIFIED:20250214T223825Z
UID:10026092-1718992800-1719003600@theboernelife.com
SUMMARY:Live Music at Free Roam
DESCRIPTION:The Free Roam Brewing Company has a family friendly beer garden with games for the kids and a flat bed stage that hosts some of the coolest live music in town. To see who is playing tonight\, we recommend checking their Instagram. 
URL:https://theboernelife.com/events/live-music-at-free-roam/2024-06-21/
LOCATION:Free Roam Brewing Company\, 325 S Main Street\, Boerne\, TX\, 78006\, United States
CATEGORIES:Music,Outdoors
ATTACH;FMTTYPE=image/jpeg:https://theboernelife.com/wp-content/uploads/2024/03/Live-Music-at-Free-Roam.jpg
END:VEVENT
BEGIN:VEVENT
DTSTART;TZID=America/Chicago:20240621T130000
DTEND;TZID=America/Chicago:20240621T160000
DTSTAMP:20260422T210359
CREATED:20251010T104155Z
LAST-MODIFIED:20251010T104155Z
UID:10032722-1718974800-1718985600@theboernelife.com
SUMMARY:C & B Booker Duo at Brantley's Bistro and Bar
DESCRIPTION:The C & B Booker Duo will appear Sunday 12 October at the beautiful open-air courtyard at 259 Brantley’s Bistro & Bar\, in the heart of Boerne’s Historical District. Singer / song writers Chris & Bill will play music they have written and songs they love. They find joy in sharing with all who will listen and will leave you with a smile.Enjoy a great meal\, drinks and music with your friends and family on the courtyard at 259 Brantley’s Bistro.
URL:https://theboernelife.com/events/c-b-booker-duo-at-brantleys-bistro-and-bar/
LOCATION:259 Brantley’s Bistro and Bar\, 259 South Main St\, Boerne\, TX\, 78006\, United States
CATEGORIES:Music,Outdoors
ATTACH;FMTTYPE=image/jpeg:https://theboernelife.com/wp-content/uploads/2025/10/559123670_122142983426884819_3532507473910254115_n.jpg
END:VEVENT
BEGIN:VEVENT
DTSTART;TZID=America/Chicago:20240621T100000
DTEND;TZID=America/Chicago:20240621T110000
DTSTAMP:20260422T210359
CREATED:20240216T112526Z
LAST-MODIFIED:20251226T021919Z
UID:10005307-1718964000-1718967600@theboernelife.com
SUMMARY:Tai Chi with Qi gong
DESCRIPTION:What to Expect in Class: Qigong & Tai Chi \nTake a break from your busy day with the calming\, gentle practice of Qigong and Tai Chi. This class is divided into two parts: \nPart I: Qigong (Chi Kung)\nStart with slow\, repetitive movements that promote relaxation and help prepare the body and mind for Tai Chi. Qigong can also be practiced on its own for stress relief and improved energy flow. \nPart II: Tai Chi\nLearn the Yang-Wu 46-Movements Tai Chi Form—a flowing sequence of low-impact movements coordinated with breath and focus. Often called “moving meditation\,” Tai Chi enhances balance\, flexibility\, and calm. Movements can be done standing or seated. \nPlease wear loose-fitting clothing. No equipment needed. \nMore about the instructor: \nLavada Smith brings a rich blend of experience\, knowledge\, and calm energy to every class she teaches. A certified Qigong Instructor and Practitioner since 2018 and a certified Tai Chi Yang-Wu Form Instructor since 2016\, Lavada shares her deep understanding of mindful movement with grace and patience. \nBefore stepping into the world of holistic wellness\, Lavada spent 48 years in the fields of technology and engineering\, followed by a decade as a kinesiology and massage therapist. Her lifelong curiosity about the connection between body\, mind\, and energy has shaped her teaching style—gentle\, grounded\, and accessible to all. \nOutside of class\, Lavada enjoys the quiet companionship of her beloved pets\, who have been constant friends through each phase of her journey.
URL:https://theboernelife.com/events/tai-chi-qi-gong/2024-06-21/
LOCATION:Patrick Heath Public Library\, 451 N. Main Street\, Boerne\, TX\, 78006\, United States
CATEGORIES:Health and Wellness
ATTACH;FMTTYPE=image/jpeg:https://theboernelife.com/wp-content/uploads/2024/02/Lavada-and-Lady-Outside-1.jpg
END:VEVENT
BEGIN:VEVENT
DTSTART;TZID=America/Chicago:20240620T183000
DTEND;TZID=America/Chicago:20240620T193000
DTSTAMP:20260422T210359
CREATED:20240406T101105Z
LAST-MODIFIED:20240406T101105Z
UID:10013764-1718908200-1718911800@theboernelife.com
SUMMARY:Whole Body Flow Drop-In Yoga Class
DESCRIPTION:Every Thursday evening at 6:30 pm is a full body vinyasa based Yoga class at Anytime Fitness. You don’t have to be a member! For $15\, you can just show up and join in! Mats & props are available to use during class or you can bring your own.
URL:https://theboernelife.com/events/whole-body-flow-drop-in-yoga-class/2024-06-20/
LOCATION:Anytime Fitness Boerne\, 1018 River Rd\, Boerne\, TX\, 78006\, United States
CATEGORIES:Health and Wellness
ATTACH;FMTTYPE=image/jpeg:https://theboernelife.com/wp-content/uploads/2024/04/Yoga-Anytime-Fitness.jpg
END:VEVENT
BEGIN:VEVENT
DTSTART;TZID=America/Chicago:20240620T180000
DTEND;TZID=America/Chicago:20240620T203000
DTSTAMP:20260422T210359
CREATED:20240404T103842Z
LAST-MODIFIED:20240812T100713Z
UID:10018587-1718906400-1718915400@theboernelife.com
SUMMARY:Catan Game Night
DESCRIPTION:Play Catan with friends at Boerne Bookshop located at The Richter. Family-friendly.
URL:https://theboernelife.com/events/board-game-night/2024-06-20/
LOCATION:The Boerne Bookshop\, 153 S Main Street\, Boerne\, TX\, 78006\, United States
CATEGORIES:Kids and Family
ATTACH;FMTTYPE=image/jpeg:https://theboernelife.com/wp-content/uploads/2024/04/Boerne-Bookshop-Game-Night.jpg
END:VEVENT
BEGIN:VEVENT
DTSTART;TZID=America/Chicago:20240620T180000
DTEND;TZID=America/Chicago:20240620T200000
DTSTAMP:20260422T210359
CREATED:20240617T115932Z
LAST-MODIFIED:20240619T181124Z
UID:10018585-1718906400-1718913600@theboernelife.com
SUMMARY:Bitters Blend Workshop
DESCRIPTION:Join this lively\, hands-on workshop by Assemble Cocktail Workshop\, where you’ll explore the essential role bitters play in crafting the perfect cocktail. Learn to create your unique blend of bitters from scratch using high-quality ingredients. You’ll also develop a personalized recipe card to recreate your masterpiece anytime. \nTest your bartending skills by handcrafting a cocktail or mocktail\, shaking it up like a pro. This workshop offers a blend of education\, fun\, and creativity\, perfect for both seasoned mixologists and cocktail newbies. \nSpaces are limited for this 21+ event\, ensuring an intimate and engaging experience. Don’t miss out on this opportunity to elevate your cocktail game! Get your tickets here!
URL:https://theboernelife.com/events/bitters-blend-workshop/
LOCATION:Herff Farm\, 33 Herff Rd\, Boerne\, TX\, 78006\, United States
CATEGORIES:Food and Drink
ATTACH;FMTTYPE=image/jpeg:https://theboernelife.com/wp-content/uploads/2024/06/Bitters-Blend.jpg
END:VEVENT
BEGIN:VEVENT
DTSTART;TZID=America/Chicago:20240620T170000
DTEND;TZID=America/Chicago:20240620T200000
DTSTAMP:20260422T210359
CREATED:20240220T012047Z
LAST-MODIFIED:20250108T113306Z
UID:10005630-1718902800-1718913600@theboernelife.com
SUMMARY:Live Music and Burgers at Black Board Bar B Q
DESCRIPTION:Every Thursday evening from 5-8pm\, visit Black Board Bar B Q for live music and half-pound ground beef brisket burgers on garlic tallow toasted buns. \nAnd if you’re a singer-songwriter or musician\, make sure to grab your instruments & voices and join the lineup!
URL:https://theboernelife.com/events/live-music-and-burgers-at-black-board-bar-b-q/2024-06-20/
LOCATION:Black Board Bar B Q\, 1123 Sisterdale Rd\, Sisterdale\, TX\, 78006\, United States
CATEGORIES:Music
ATTACH;FMTTYPE=image/png:https://theboernelife.com/wp-content/uploads/2024/02/Black-Board-Bar-B-Q-Live-Music-and-Burger-Night.png
END:VEVENT
BEGIN:VEVENT
DTSTART;TZID=America/Chicago:20240620T153000
DTEND;TZID=America/Chicago:20240620T163000
DTSTAMP:20260422T210359
CREATED:20240215T124134Z
LAST-MODIFIED:20240909T111321Z
UID:10022075-1718897400-1718901000@theboernelife.com
SUMMARY:Game On
DESCRIPTION:After school\, meet to play Nintendo Switch! Located in the Youth Activity Room.
URL:https://theboernelife.com/events/game-on/2024-06-20/
LOCATION:Patrick Heath Public Library\, 451 N. Main Street\, Boerne\, TX\, 78006\, United States
CATEGORIES:Kids and Family
ATTACH;FMTTYPE=image/jpeg:https://theboernelife.com/wp-content/uploads/2024/03/Boerne-Library-2.jpg
END:VEVENT
BEGIN:VEVENT
DTSTART;TZID=America/Chicago:20240620T150000
DTEND;TZID=America/Chicago:20240620T160000
DTSTAMP:20260422T210359
CREATED:20240321T111822Z
LAST-MODIFIED:20251229T121634Z
UID:10013041-1718895600-1718899200@theboernelife.com
SUMMARY:Tech Help in the Lobby
DESCRIPTION:Have a tech question you can’t find the answer to? Visit the Tech Help table in the library and get free assistance. Walk-ins only. No appointments.
URL:https://theboernelife.com/events/tech-help-in-the-lobby/2024-06-20/
LOCATION:Patrick Heath Public Library\, 451 N. Main Street\, Boerne\, TX\, 78006\, United States
CATEGORIES:General
ATTACH;FMTTYPE=image/jpeg:https://theboernelife.com/wp-content/uploads/2024/02/Library-Tech-Help.jpg
END:VEVENT
BEGIN:VEVENT
DTSTART;TZID=America/Chicago:20240620T133000
DTEND;TZID=America/Chicago:20240620T153000
DTSTAMP:20260422T210359
CREATED:20240305T004117Z
LAST-MODIFIED:20250116T113432Z
UID:10012051-1718890200-1718897400@theboernelife.com
SUMMARY:Drawing Club for Adults
DESCRIPTION:The Drawing Club meets each week in the conference room. This group is not for beginners looking to take a class on drawing. It’s a group of people who love to draw that meet to get better.
URL:https://theboernelife.com/events/drawing-club-for-adults/2024-06-20/
LOCATION:Patrick Heath Public Library\, 451 N. Main Street\, Boerne\, TX\, 78006\, United States
CATEGORIES:Arts and Culture
ATTACH;FMTTYPE=image/png:https://theboernelife.com/wp-content/uploads/2024/02/Boerne-Library-Logo.png
END:VEVENT
BEGIN:VEVENT
DTSTART;TZID=America/Chicago:20240618T200000
DTEND;TZID=America/Chicago:20240618T220000
DTSTAMP:20260422T210359
CREATED:20240617T113620Z
LAST-MODIFIED:20240617T113620Z
UID:10018583-1718740800-1718748000@theboernelife.com
SUMMARY:Swiftie Night Era Tours Watch Party
DESCRIPTION:Join Pure Country BBQ & Grill for an evening of great music\, fun food specials\, and an outdoor showing of the Era’s Tour. Dress for your favorite era to be entered to win Swiftie swag. The movie starts at 8:00.
URL:https://theboernelife.com/events/swiftie-night-era-tours-watch-party/
LOCATION:Pure Country BBQ & Grill\, 1481 S Main St\, Boerne\, TX\, 78006\, United States
CATEGORIES:Food and Drink,Music,Outdoors
ATTACH;FMTTYPE=image/jpeg:https://theboernelife.com/wp-content/uploads/2024/06/Swiftie-Night.jpg
END:VEVENT
BEGIN:VEVENT
DTSTART;TZID=America/Chicago:20240618T190000
DTEND;TZID=America/Chicago:20240618T230000
DTSTAMP:20260422T210359
CREATED:20240214T102046Z
LAST-MODIFIED:20241222T133003Z
UID:10003814-1718737200-1718751600@theboernelife.com
SUMMARY:Karaoke at Drink Texas Boerne
DESCRIPTION:Come out for karaoke at 7pm and enjoy happy hour until 9pm. Cold beer\, Texas cocktails\, and friendly bartenders right off the freeway!
URL:https://theboernelife.com/events/karaoke-at-drink-texas-boerne/2024-06-18/
LOCATION:Drink Texas Boerne\, 31138 I-10\, Boerne\, TX\, 78006\, United States
CATEGORIES:Music
ATTACH;FMTTYPE=image/png:https://theboernelife.com/wp-content/uploads/2024/02/Drink-Texas-Boerne-Logo.png
END:VEVENT
BEGIN:VEVENT
DTSTART;TZID=America/Chicago:20240618T180000
DTEND;TZID=America/Chicago:20240618T200000
DTSTAMP:20260422T210359
CREATED:20240208T110320Z
LAST-MODIFIED:20251123T123748Z
UID:10000079-1718733600-1718740800@theboernelife.com
SUMMARY:Trivia Night at Free Roam
DESCRIPTION:Head over to Free Roam Brewing Company for an enthralling evening of live trivia\, brought to you by Challenge Entertainment – Austin & San Antonio Trivia. These engaging trivia nights are held every Tuesday\, beginning at 6:00 PM\, and offer a fun-packed 2-hour experience that’s open to the public. \nEvent Highlights: \n\nWeekly Trivia Nights: Set aside your Tuesdays for the ultimate quiz experience that challenges and entertains.\nFood Truck Delights: A food truck will be on-site\, serving up delicious eats to keep your brain fueled.\nPrizes Galore: Top teams stand a chance to win exciting prizes every week\, making every Tuesday a potentially rewarding experience.\nComplimentary Participation: There’s no cost to join in the fun\, making it a great\, budget-friendly night out.\nOpen to All: Whether a seasoned quiz master or a casual participant\, this event promises a great time for everyone in Boerne.\n\nThe trivia night at Free Roam Brewing Company is a perfect blend of competition\, camaraderie\, and local culture. With no entry fee and plenty of prizes up for grabs\, it’s an inviting scene for trivia buffs\, foodies\, and anyone looking for a memorable night out in Boerne. Join the community and prove you’re a know-it-all at San Antonio Trivia by Challenge Entertainment. Don’t miss out on the fun!
URL:https://theboernelife.com/events/trivia-night-at-free-roam/2024-06-18/
LOCATION:Free Roam Brewing Company\, 325 S Main Street\, Boerne\, TX\, 78006\, United States
CATEGORIES:General
ATTACH;FMTTYPE=image/png:https://theboernelife.com/wp-content/uploads/2024/02/Free-Roam-Trivia.png
END:VEVENT
BEGIN:VEVENT
DTSTART;TZID=America/Chicago:20240618T170000
DTEND;TZID=America/Chicago:20240618T190000
DTSTAMP:20260422T210359
CREATED:20240617T213603Z
LAST-MODIFIED:20240617T213606Z
UID:10014056-1718730000-1718737200@theboernelife.com
SUMMARY:Boerne Farmers Market
DESCRIPTION:The Boerne Farmers Market is a hub for locally-sourced produce\, artisan goods\, and prepared foods\, fostering a community that values sustainability and healthy living. It’s a place where local farmers\, homesteaders\, ranchers\, and artisans from the Texas Hill Country come together\, offering more than just shopping but a vibrant community event to explore and enjoy. \nThere’s also now a Kids Market\, where young entrepreneurs can sell their goods. You can learn more about how to get your kids involved in that here. 
URL:https://theboernelife.com/events/boerne-farmers-market-2/2024-06-18/
LOCATION:Boerne Farmers Market\, 402 East Blanco Road\, Boerne\, TX\, 78006\, United States
CATEGORIES:Food and Drink,Outdoors
ATTACH;FMTTYPE=image/jpeg:https://theboernelife.com/wp-content/uploads/2024/04/Boerne-Farmers-Market.jpg
END:VEVENT
BEGIN:VEVENT
DTSTART;TZID=America/Chicago:20240617T100000
DTEND;TZID=America/Chicago:20240617T110000
DTSTAMP:20260422T210359
CREATED:20240602T122459Z
LAST-MODIFIED:20250217T110953Z
UID:10017427-1718618400-1718622000@theboernelife.com
SUMMARY:Tech Time
DESCRIPTION:Leslie Kirk will be in the lobby each Monday\, from 10am to 11am to help you with your technology questions. Walk-ins only.
URL:https://theboernelife.com/events/tech-time/2024-06-17/
LOCATION:Patrick Heath Public Library\, 451 N. Main Street\, Boerne\, TX\, 78006\, United States
CATEGORIES:General
ATTACH;FMTTYPE=image/jpeg:https://theboernelife.com/wp-content/uploads/2024/02/Library-Tech-Help.jpg
END:VEVENT
END:VCALENDAR