BEGIN:VCALENDAR
VERSION:2.0
PRODID:-//The Boerne Life - ECPv6.15.15//NONSGML v1.0//EN
CALSCALE:GREGORIAN
METHOD:PUBLISH
X-WR-CALNAME:The Boerne Life
X-ORIGINAL-URL:https://theboernelife.com
X-WR-CALDESC:Events for The Boerne Life
REFRESH-INTERVAL;VALUE=DURATION:PT1H
X-Robots-Tag:noindex
X-PUBLISHED-TTL:PT1H
BEGIN:VTIMEZONE
TZID:America/Chicago
BEGIN:DAYLIGHT
TZOFFSETFROM:-0600
TZOFFSETTO:-0500
TZNAME:CDT
DTSTART:20230312T080000
END:DAYLIGHT
BEGIN:STANDARD
TZOFFSETFROM:-0500
TZOFFSETTO:-0600
TZNAME:CST
DTSTART:20231105T070000
END:STANDARD
BEGIN:DAYLIGHT
TZOFFSETFROM:-0600
TZOFFSETTO:-0500
TZNAME:CDT
DTSTART:20240310T080000
END:DAYLIGHT
BEGIN:STANDARD
TZOFFSETFROM:-0500
TZOFFSETTO:-0600
TZNAME:CST
DTSTART:20241103T070000
END:STANDARD
BEGIN:DAYLIGHT
TZOFFSETFROM:-0600
TZOFFSETTO:-0500
TZNAME:CDT
DTSTART:20250309T080000
END:DAYLIGHT
BEGIN:STANDARD
TZOFFSETFROM:-0500
TZOFFSETTO:-0600
TZNAME:CST
DTSTART:20251102T070000
END:STANDARD
END:VTIMEZONE
BEGIN:VEVENT
DTSTART;VALUE=DATE:20241012
DTEND;VALUE=DATE:20241014
DTSTAMP:20260421T081147
CREATED:20240908T130104Z
LAST-MODIFIED:20251229T125636Z
UID:10021945-1728691200-1728863999@theboernelife.com
SUMMARY:Boerne Market Days
DESCRIPTION:Market Days in Boerne takes place at the central Main Plaza on the second weekend of the month\, right in the historic heart of the town. \nAvailable from 10 am to 5 pm on Saturdays and 10 am to 4 pm on Sundays\, this event has become a hallmark of quality open-air shopping in Boerne. You’ll find everything from local artists and craftsmen to merchants\, all set to the tune of authentic Texas music. \nEnjoy a fun day exploring the market’s booths\, offering everything from unique jewelry and artwork to handcrafted goods\, plants\, collectibles\, and antiques. Have lunch at one of the food trucks or tables\, and usually there’s a mobile bar set up as well! If not\, grab a to-go beer down the street and bring it over!
URL:https://theboernelife.com/events/boerne-market-days/2024-10-12/
LOCATION:Boerne Main Plaza\, 100 N. Main Street\, Boerne\, TX\, 78006\, United States
CATEGORIES:General
ATTACH;FMTTYPE=image/jpeg:https://theboernelife.com/wp-content/uploads/2024/02/Boerne-Market-Days.jpg
END:VEVENT
BEGIN:VEVENT
DTSTART;TZID=America/Chicago:20241013T140000
DTEND;TZID=America/Chicago:20241013T160000
DTSTAMP:20260421T081147
CREATED:20240718T115821Z
LAST-MODIFIED:20250620T105330Z
UID:10020495-1728828000-1728835200@theboernelife.com
SUMMARY:Free Community Brazilian Jiu Jitsu Class
DESCRIPTION:Are you interested in Brazilian Jiu Jitsu? Then come out to Black Diamond Martial Arts off School Street right near I-10 and try out their free Community BJJ class every Sunday from 2-4 pm.\n\nBlack Diamond Martial Arts is a family-owned establishment. For more information\, email blackdiamondmartialartsboerne@gmail.com.
URL:https://theboernelife.com/events/free-community-brazilian-jiu-jitsu-class/2024-10-13/
LOCATION:Black Diamond Martial Arts\, 645 South School Street Suite 201\, Boerne\, TX\, 78006\, United States
CATEGORIES:Health and Wellness
ATTACH;FMTTYPE=image/jpeg:https://theboernelife.com/wp-content/uploads/2024/07/Brazilian-Jiu-Jitsu.jpg
END:VEVENT
BEGIN:VEVENT
DTSTART;TZID=America/Chicago:20241013T140000
DTEND;TZID=America/Chicago:20241013T170000
DTSTAMP:20260421T081147
CREATED:20240902T105639Z
LAST-MODIFIED:20240902T105639Z
UID:10021916-1728828000-1728838800@theboernelife.com
SUMMARY:Live Music at Cibolo Creek Brewing Company
DESCRIPTION:Cold beer\, good food\, and live music on the back patio every Sunday. Check out their Facebook to see who plays today.
URL:https://theboernelife.com/events/live-music-at-cibolo-creek-brewing-company-3/2024-10-13/
LOCATION:Cibolo Creek Brewing Company\, 448 South Main St\, Boerne\, TX\, 78006\, United States
CATEGORIES:Kids and Family,Music
ATTACH;FMTTYPE=image/jpeg:https://theboernelife.com/wp-content/uploads/2024/02/Cibolo-Creek-Brewing-Company.jpg
END:VEVENT
BEGIN:VEVENT
DTSTART;TZID=America/Chicago:20241013T190000
DTEND;TZID=America/Chicago:20241013T200000
DTSTAMP:20260421T081147
CREATED:20240506T201823Z
LAST-MODIFIED:20250909T013957Z
UID:10022724-1728846000-1728849600@theboernelife.com
SUMMARY:Audition for Boerne Community Theatre Production
DESCRIPTION:Boerne Community Theatre is holding auditions for the outrageous British farce Loot\, directed by Jerry Watson.\nSunday\, September 14 & Monday\, September 157:00 PM (arrive 10–15 minutes early)Boerne Community Theatre\n\nParts Available:5 men (early 20s – mid 70s)1 woman (late 20s – mid 40s)\nProduction Dates: November 7–23\, 2025\nAuditions will consist of cold readings from the script.Save time at check-in! Fill out your audition form online ahead of time: https://boernetheatre.org/auditions/\n\nCome join us for this sharp-witted dark comedy full of twists\, farce\, and fast-paced fun—we can’t wait to see you at auditions!
URL:https://theboernelife.com/events/audition-for-boerne-community-theater-production/2024-10-13/
LOCATION:Boerne Community Theatre\, 907 E. Blanco Rd.\, Boerne\, TX\, 78006\, United States
CATEGORIES:Arts and Culture
ATTACH;FMTTYPE=image/jpeg:https://theboernelife.com/wp-content/uploads/2024/05/Audition-Alert-Boerne-Community-Theatre.jpg
END:VEVENT
BEGIN:VEVENT
DTSTART;TZID=America/Chicago:20241014T080000
DTEND;TZID=America/Chicago:20241014T170000
DTSTAMP:20260421T081147
CREATED:20240509T023425Z
LAST-MODIFIED:20250511T153931Z
UID:10015202-1728892800-1728925200@theboernelife.com
SUMMARY:Bulky Trash and Brush Collection Starts Today
DESCRIPTION:Have large items you need to get rid of? Then drag them out to the curb this morning\, because it’s Bulky Trash Pickup time! Starting today and lasting throughout the week\, trash pickup will take up to four cubic yards of materials from your curbside – no need to call the city and schedule. \nAcceptable items include appliances with no CFCs\, furniture\, mattresses\, and other things that won’t fit in your trash cans. Batteries\, concrete\, construction materials\, paint\, and other exceptions do apply. For more info click here. \nBrush pickup is also this week. Make sure you cut\, tie\, and bundle branches in sections no longer than 5 feet. Place the bundles on the curb by 7 am. For more info\, click here.
URL:https://theboernelife.com/events/bulky-trash-and-brush-collection-starts-today/2024-10-14/
LOCATION:TX
CATEGORIES:General
ATTACH;FMTTYPE=image/jpeg:https://theboernelife.com/wp-content/uploads/2024/05/Bulk-Trash-Pickup-Boerne.jpg
END:VEVENT
BEGIN:VEVENT
DTSTART;TZID=America/Chicago:20241014T120000
DTEND;TZID=America/Chicago:20241014T130000
DTSTAMP:20260421T081147
CREATED:20240305T004448Z
LAST-MODIFIED:20251013T021429Z
UID:10023583-1728907200-1728910800@theboernelife.com
SUMMARY:Food for Thought Literary Discussion Group
DESCRIPTION:If you like literary fiction\, then this group is for you. Every month the group meets to discuss a different book with Natalie Morgan facilitating. No need to register – just show up! Check out the list of titles here.
URL:https://theboernelife.com/events/food-for-thought-literary-discussion-group/2024-10-14/
LOCATION:Patrick Heath Public Library\, 451 N. Main Street\, Boerne\, TX\, 78006\, United States
CATEGORIES:Arts and Culture
ATTACH;FMTTYPE=image/png:https://theboernelife.com/wp-content/uploads/2024/02/Boerne-Library-Logo.png
END:VEVENT
BEGIN:VEVENT
DTSTART;TZID=America/Chicago:20241014T190000
DTEND;TZID=America/Chicago:20241014T200000
DTSTAMP:20260421T081147
CREATED:20240506T201823Z
LAST-MODIFIED:20250909T013957Z
UID:10022725-1728932400-1728936000@theboernelife.com
SUMMARY:Audition for Boerne Community Theatre Production
DESCRIPTION:Boerne Community Theatre is holding auditions for the outrageous British farce Loot\, directed by Jerry Watson.\nSunday\, September 14 & Monday\, September 157:00 PM (arrive 10–15 minutes early)Boerne Community Theatre\n\nParts Available:5 men (early 20s – mid 70s)1 woman (late 20s – mid 40s)\nProduction Dates: November 7–23\, 2025\nAuditions will consist of cold readings from the script.Save time at check-in! Fill out your audition form online ahead of time: https://boernetheatre.org/auditions/\n\nCome join us for this sharp-witted dark comedy full of twists\, farce\, and fast-paced fun—we can’t wait to see you at auditions!
URL:https://theboernelife.com/events/audition-for-boerne-community-theater-production/2024-10-14/
LOCATION:Boerne Community Theatre\, 907 E. Blanco Rd.\, Boerne\, TX\, 78006\, United States
CATEGORIES:Arts and Culture
ATTACH;FMTTYPE=image/jpeg:https://theboernelife.com/wp-content/uploads/2024/05/Audition-Alert-Boerne-Community-Theatre.jpg
END:VEVENT
BEGIN:VEVENT
DTSTART;TZID=America/Chicago:20241015T093000
DTEND;TZID=America/Chicago:20241015T100000
DTSTAMP:20260421T081147
CREATED:20240909T110843Z
LAST-MODIFIED:20250106T115513Z
UID:10022029-1728984600-1728986400@theboernelife.com
SUMMARY:Rhyme and Shine
DESCRIPTION:Storytime for babies aged 0-2. There will be stories\, music\, and more fun.
URL:https://theboernelife.com/events/rhyme-and-shine/2024-10-15/
LOCATION:Patrick Heath Public Library\, 451 N. Main Street\, Boerne\, TX\, 78006\, United States
CATEGORIES:Kids and Family
ATTACH;FMTTYPE=image/jpeg:https://theboernelife.com/wp-content/uploads/2024/09/Rhyme-Shine.jpg
END:VEVENT
BEGIN:VEVENT
DTSTART;TZID=America/Chicago:20241015T153000
DTEND;TZID=America/Chicago:20241015T160000
DTSTAMP:20260421T081147
CREATED:20240909T112032Z
LAST-MODIFIED:20240909T112032Z
UID:10022103-1729006200-1729008000@theboernelife.com
SUMMARY:Paws 4 Reading
DESCRIPTION:Come after school and share a book with a trained\, certified therapy dog!
URL:https://theboernelife.com/events/paws-4-reading/2024-10-15/
LOCATION:Patrick Heath Public Library\, 451 N. Main Street\, Boerne\, TX\, 78006\, United States
CATEGORIES:Kids and Family
ATTACH;FMTTYPE=image/jpeg:https://theboernelife.com/wp-content/uploads/2024/03/Boerne-Library-2.jpg
END:VEVENT
BEGIN:VEVENT
DTSTART;TZID=America/Chicago:20241015T160000
DTEND;TZID=America/Chicago:20241015T190000
DTSTAMP:20260421T081147
CREATED:20240813T224017Z
LAST-MODIFIED:20241230T020027Z
UID:10021403-1729008000-1729018800@theboernelife.com
SUMMARY:Boerne Farmers Market
DESCRIPTION:The Boerne Farmers Market is a hub for locally-sourced produce\, artisan goods\, and prepared foods\, fostering a community that values sustainability and healthy living. It’s a place where local farmers\, homesteaders\, ranchers\, and artisans from the Texas Hill Country come together\, offering more than just shopping but a vibrant community event to explore and enjoy. \nThere’s also now a Kids Market\, where young entrepreneurs can sell their goods. You can learn more about how to get your kids involved in that here. 
URL:https://theboernelife.com/events/boerne-farmers-market-2-2/2024-10-15/
LOCATION:Boerne Farmers Market\, 402 East Blanco Road\, Boerne\, TX\, 78006\, United States
CATEGORIES:Food and Drink,Outdoors
ATTACH;FMTTYPE=image/jpeg:https://theboernelife.com/wp-content/uploads/2024/04/Boerne-Farmers-Market.jpg
END:VEVENT
BEGIN:VEVENT
DTSTART;TZID=America/Chicago:20241015T180000
DTEND;TZID=America/Chicago:20241015T200000
DTSTAMP:20260421T081147
CREATED:20240208T110320Z
LAST-MODIFIED:20251123T123748Z
UID:10000096-1729015200-1729022400@theboernelife.com
SUMMARY:Trivia Night at Free Roam
DESCRIPTION:Head over to Free Roam Brewing Company for an enthralling evening of live trivia\, brought to you by Challenge Entertainment – Austin & San Antonio Trivia. These engaging trivia nights are held every Tuesday\, beginning at 6:00 PM\, and offer a fun-packed 2-hour experience that’s open to the public. \nEvent Highlights: \n\nWeekly Trivia Nights: Set aside your Tuesdays for the ultimate quiz experience that challenges and entertains.\nFood Truck Delights: A food truck will be on-site\, serving up delicious eats to keep your brain fueled.\nPrizes Galore: Top teams stand a chance to win exciting prizes every week\, making every Tuesday a potentially rewarding experience.\nComplimentary Participation: There’s no cost to join in the fun\, making it a great\, budget-friendly night out.\nOpen to All: Whether a seasoned quiz master or a casual participant\, this event promises a great time for everyone in Boerne.\n\nThe trivia night at Free Roam Brewing Company is a perfect blend of competition\, camaraderie\, and local culture. With no entry fee and plenty of prizes up for grabs\, it’s an inviting scene for trivia buffs\, foodies\, and anyone looking for a memorable night out in Boerne. Join the community and prove you’re a know-it-all at San Antonio Trivia by Challenge Entertainment. Don’t miss out on the fun!
URL:https://theboernelife.com/events/trivia-night-at-free-roam/2024-10-15/
LOCATION:Free Roam Brewing Company\, 325 S Main Street\, Boerne\, TX\, 78006\, United States
CATEGORIES:General
ATTACH;FMTTYPE=image/png:https://theboernelife.com/wp-content/uploads/2024/02/Free-Roam-Trivia.png
END:VEVENT
BEGIN:VEVENT
DTSTART;TZID=America/Chicago:20241015T190000
DTEND;TZID=America/Chicago:20241015T230000
DTSTAMP:20260421T081147
CREATED:20240214T102046Z
LAST-MODIFIED:20241222T133003Z
UID:10003831-1729018800-1729033200@theboernelife.com
SUMMARY:Karaoke at Drink Texas Boerne
DESCRIPTION:Come out for karaoke at 7pm and enjoy happy hour until 9pm. Cold beer\, Texas cocktails\, and friendly bartenders right off the freeway!
URL:https://theboernelife.com/events/karaoke-at-drink-texas-boerne/2024-10-15/
LOCATION:Drink Texas Boerne\, 31138 I-10\, Boerne\, TX\, 78006\, United States
CATEGORIES:Music
ATTACH;FMTTYPE=image/png:https://theboernelife.com/wp-content/uploads/2024/02/Drink-Texas-Boerne-Logo.png
END:VEVENT
BEGIN:VEVENT
DTSTART;TZID=America/Chicago:20241016T090000
DTEND;TZID=America/Chicago:20241016T140000
DTSTAMP:20260421T081147
CREATED:20241013T021015Z
LAST-MODIFIED:20241013T021015Z
UID:10022735-1729069200-1729087200@theboernelife.com
SUMMARY:Just Between Friends Children's and Maternity Consignment
DESCRIPTION:Explore a pop-up bi-annual consignment sale featuring gently used\, high-quality items for maternity\, baby\, and kids through juniors. Local families sell a wide range of essentials\, offering 50-90% off retail prices. \nThis is the perfect opportunity to find everything your children need for the current and upcoming seasons at unbeatable prices!
URL:https://theboernelife.com/events/just-between-friends-childrens-and-maternity-consignment/2024-10-16/
LOCATION:Kendall County Fairgrounds\, 1307 River Road\, Boerne\, TX\, 78006\, United States
CATEGORIES:Shopping
ATTACH;FMTTYPE=image/jpeg:https://theboernelife.com/wp-content/uploads/2024/10/Just-Between-Friends.jpg
END:VEVENT
BEGIN:VEVENT
DTSTART;TZID=America/Chicago:20241016T093000
DTEND;TZID=America/Chicago:20241016T100000
DTSTAMP:20260421T081147
CREATED:20240909T110937Z
LAST-MODIFIED:20240909T110937Z
UID:10003039-1729071000-1729072800@theboernelife.com
SUMMARY:Sensory Studio for Babies
DESCRIPTION:For babies age 0-2. Join in the Libraries Youth Activity room for free play session with engaging toys.
URL:https://theboernelife.com/events/sensory-studio-for-babies-2/2024-10-16/
LOCATION:Patrick Heath Public Library\, 451 N. Main Street\, Boerne\, TX\, 78006\, United States
CATEGORIES:Kids and Family
ATTACH;FMTTYPE=image/png:https://theboernelife.com/wp-content/uploads/2024/02/Boerne-Library-Logo.png
END:VEVENT
BEGIN:VEVENT
DTSTART;TZID=America/Chicago:20241016T100000
DTEND;TZID=America/Chicago:20241016T110000
DTSTAMP:20260421T081147
CREATED:20240730T094514Z
LAST-MODIFIED:20241222T133020Z
UID:10021175-1729072800-1729076400@theboernelife.com
SUMMARY:Whole Body Flow Drop-In Yoga Class
DESCRIPTION:Every Thursday evening at 6:30 pm is a full body vinyasa based Yoga class at Anytime Fitness. You don’t have to be a member! For $15\, you can just show up and join in! Mats & props are available to use during class or you can bring your own.
URL:https://theboernelife.com/events/whole-body-flow-drop-in-yoga-class-2/2024-10-16/
LOCATION:Anytime Fitness Boerne\, 1018 River Rd\, Boerne\, TX\, 78006\, United States
CATEGORIES:Health and Wellness
ATTACH;FMTTYPE=image/jpeg:https://theboernelife.com/wp-content/uploads/2024/04/Drop-In-Yoga.jpg
END:VEVENT
BEGIN:VEVENT
DTSTART;TZID=America/Chicago:20241016T103000
DTEND;TZID=America/Chicago:20241016T110000
DTSTAMP:20260421T081147
CREATED:20240211T192325Z
LAST-MODIFIED:20240909T111223Z
UID:10003300-1729074600-1729076400@theboernelife.com
SUMMARY:Little Listeners Storytime
DESCRIPTION:Storytime with Miss Constance in the Library Youth Activities Room for children ages 2 to 5. Fun includes includes tales\, tunes\, movement\, puppetry\, and crafting.
URL:https://theboernelife.com/events/little-listeners-storytime/2024-10-16/
LOCATION:Patrick Heath Public Library\, 451 N. Main Street\, Boerne\, TX\, 78006\, United States
CATEGORIES:Kids and Family
ATTACH;FMTTYPE=image/png:https://theboernelife.com/wp-content/uploads/2024/02/Boerne-Library-Logo.png
END:VEVENT
BEGIN:VEVENT
DTSTART;TZID=America/Chicago:20241016T130000
DTEND;TZID=America/Chicago:20241016T140000
DTSTAMP:20260421T081147
CREATED:20240221T121952Z
LAST-MODIFIED:20241230T022511Z
UID:10013510-1729083600-1729087200@theboernelife.com
SUMMARY:Ask Alison for Tech Help
DESCRIPTION:Need help with your personal technology? Alison Topper is in the lobby each week to help! No appointments necessary!
URL:https://theboernelife.com/events/ask-alison-for-tech-help/2024-10-16/
LOCATION:Patrick Heath Public Library\, 451 N. Main Street\, Boerne\, TX\, 78006\, United States
CATEGORIES:General
ATTACH;FMTTYPE=image/jpeg:https://theboernelife.com/wp-content/uploads/2024/02/Library-Tech-Help.jpg
END:VEVENT
BEGIN:VEVENT
DTSTART;TZID=America/Chicago:20241016T163000
DTEND;TZID=America/Chicago:20241016T173000
DTSTAMP:20260421T081147
CREATED:20240819T121749Z
LAST-MODIFIED:20250106T120024Z
UID:10006493-1729096200-1729099800@theboernelife.com
SUMMARY:Crafternoon for Teens
DESCRIPTION:Have a teen that’s feeling creative? Then they’ll want to know about the library’s weekly crafting program called “Wednesday Crafternoons.” It meets in the Hub every Wednesday at 4:30 pm for an hour. \nThis perfect for anyone who likes drawing\, crafting\, or trying new mediums.\, “Wednesday Crafternoons” is the place to be. All materials are provided.
URL:https://theboernelife.com/events/crafternoon-for-teens-2/2024-10-16/
LOCATION:Patrick Heath Public Library\, 451 N. Main Street\, Boerne\, TX\, 78006\, United States
CATEGORIES:Arts and Culture
ATTACH;FMTTYPE=image/jpeg:https://theboernelife.com/wp-content/uploads/2024/02/Crafternoon.jpg
END:VEVENT
BEGIN:VEVENT
DTSTART;TZID=America/Chicago:20241016T180000
DTEND;TZID=America/Chicago:20241016T193000
DTSTAMP:20260421T081147
CREATED:20241013T014209Z
LAST-MODIFIED:20241014T113211Z
UID:10022732-1729101600-1729107000@theboernelife.com
SUMMARY:Wine Your Art Out with Pauly
DESCRIPTION:A painting class\, led by Pauly Tamez\, invites attendees to create their own masterpiece while enjoying a complimentary glass of wine. Additional wine\, charcuterie\, and paninis will be available for purchase to enhance the experience. The event includes all painting materials\, and tickets must be purchased in advance. Spaces are limited\, so early booking is encouraged. \nFor more details and to get tickets\, click here.
URL:https://theboernelife.com/events/win-your-art-out-with-pauly/
LOCATION:Lost Oak Cellars\, 111 Rosewood Ave\, Boerne\, TX\, 78006\, United States
CATEGORIES:Arts and Culture,Food and Drink
ATTACH;FMTTYPE=image/jpeg:https://theboernelife.com/wp-content/uploads/2024/10/Lost-Oak-Cellars-3.jpg
END:VEVENT
BEGIN:VEVENT
DTSTART;TZID=America/Chicago:20241016T180000
DTEND;TZID=America/Chicago:20241016T203000
DTSTAMP:20260421T081147
CREATED:20240916T120244Z
LAST-MODIFIED:20241017T112206Z
UID:10021895-1729101600-1729110600@theboernelife.com
SUMMARY:Steak and Vinyl Night at Cibolo Creek Brewing Company
DESCRIPTION:On Wednesday nights\, you won’t want to miss steak night at Cibolo Creek Brewing Company. They usually start serving around 5 pm until they run out. Steaks are smoked out back and we can confirm – they’re delicious. \nBut not only is it steak night\, but CCBC also has vinyl night as well. What’s that? Bring your own vinyl\, and they’ll play it while you eat!
URL:https://theboernelife.com/events/steak-night-live-music-cibolo/2024-10-16/
LOCATION:Cibolo Creek Brewing Company\, 448 South Main St\, Boerne\, TX\, 78006\, United States
CATEGORIES:Kids and Family,Music
ATTACH;FMTTYPE=image/jpeg:https://theboernelife.com/wp-content/uploads/2024/03/live-music-cibolo-creek-brewing.jpg
END:VEVENT
BEGIN:VEVENT
DTSTART;TZID=America/Chicago:20241016T183000
DTEND;TZID=America/Chicago:20241016T203000
DTSTAMP:20260421T081147
CREATED:20240925T165042Z
LAST-MODIFIED:20250618T105925Z
UID:10022445-1729103400-1729110600@theboernelife.com
SUMMARY:Trivia Night at Sauced
DESCRIPTION:Every Wednesday\, head out to Sauced Wing Bar for trivia night with Austin! It starts at six thirty-ish. Arrive early and you can hit Happy Hour!
URL:https://theboernelife.com/events/trivia-night-at-sauced/2024-10-16/
LOCATION:Sauced Wing Bar\, 215 W Bandera Rd #101\, Boerne\, TX\, 78006\, United States
CATEGORIES:General
ATTACH;FMTTYPE=image/jpeg:https://theboernelife.com/wp-content/uploads/2024/09/Sauced-Wing-Bar-Trivia.jpg
END:VEVENT
BEGIN:VEVENT
DTSTART;TZID=America/Chicago:20241016T190000
DTEND;TZID=America/Chicago:20241016T210000
DTSTAMP:20260421T081147
CREATED:20240923T171434Z
LAST-MODIFIED:20250203T162530Z
UID:10022388-1729105200-1729112400@theboernelife.com
SUMMARY:Singles Sip & Spark
DESCRIPTION:Tired of swiping? Let’s toast to meeting real people in real life! Sip your favorite wine and spark new connections with fun\, interactive games.\n\n\n\nIt’s all about good vibes\, great wine\, and genuine conversations. No apps\, just laughs! Plus\, you could win fantastic prizes\, including a bottle of wine to take home.\n\n\n\nAbout the Event:\n\nCheck-in: 7:00-7:30\nEvent Time: 7:30-9:00\nSuggested age: 30s – 50s\nHosted by: Tammie Bernal\n\n\n\nGet your tickets now here and have a night of sips\, laughs\, and connections!
URL:https://theboernelife.com/events/singles-sip-spark/2024-10-16/
LOCATION:DeVino Cellars\, 1109 S Main St\, Boerne\, TX\, 78006\, United States
CATEGORIES:Food and Drink
ATTACH;FMTTYPE=image/jpeg:https://theboernelife.com/wp-content/uploads/2024/09/Singles-Sip-and-Spark-Feb.jpg
END:VEVENT
BEGIN:VEVENT
DTSTART;TZID=America/Chicago:20241016T190000
DTEND;TZID=America/Chicago:20241016T210000
DTSTAMP:20260421T081147
CREATED:20241001T115930Z
LAST-MODIFIED:20241106T175207Z
UID:10022498-1729105200-1729112400@theboernelife.com
SUMMARY:Karaoke Night on the Flatbed
DESCRIPTION:Get ready to sign your heart out in the beer garden at Free Roam. Karaoke Night is back! Singers get to sing on the flat bed. \nMaybe you’ll even get to see the owner do his infamous rendition of “Red Solo Cup.” It’s a blast – don’t miss it!
URL:https://theboernelife.com/events/karaoke-night-on-the-flatbed/2024-10-16/
LOCATION:Free Roam Brewing Company\, 325 S Main Street\, Boerne\, TX\, 78006\, United States
CATEGORIES:Music,Outdoors
ATTACH;FMTTYPE=image/jpeg:https://theboernelife.com/wp-content/uploads/2024/10/Free-Roam-Karaoke-Night.jpg
END:VEVENT
BEGIN:VEVENT
DTSTART;TZID=America/Chicago:20241017T090000
DTEND;TZID=America/Chicago:20241017T140000
DTSTAMP:20260421T081147
CREATED:20241013T021015Z
LAST-MODIFIED:20241013T021015Z
UID:10022736-1729155600-1729173600@theboernelife.com
SUMMARY:Just Between Friends Children's and Maternity Consignment
DESCRIPTION:Explore a pop-up bi-annual consignment sale featuring gently used\, high-quality items for maternity\, baby\, and kids through juniors. Local families sell a wide range of essentials\, offering 50-90% off retail prices. \nThis is the perfect opportunity to find everything your children need for the current and upcoming seasons at unbeatable prices!
URL:https://theboernelife.com/events/just-between-friends-childrens-and-maternity-consignment/2024-10-17/
LOCATION:Kendall County Fairgrounds\, 1307 River Road\, Boerne\, TX\, 78006\, United States
CATEGORIES:Shopping
ATTACH;FMTTYPE=image/jpeg:https://theboernelife.com/wp-content/uploads/2024/10/Just-Between-Friends.jpg
END:VEVENT
BEGIN:VEVENT
DTSTART;TZID=America/Chicago:20241017T093000
DTEND;TZID=America/Chicago:20241017T100000
DTSTAMP:20260421T081147
CREATED:20240909T111035Z
LAST-MODIFIED:20250106T120012Z
UID:10022054-1729157400-1729159200@theboernelife.com
SUMMARY:Book Babies
DESCRIPTION:Join Miss Libby in the Community Room at the Library every Thursday with a special time for your 0-2 year old babies. This includes a storytime with stories\, songs\, movement\, and maybe even bubbles.
URL:https://theboernelife.com/events/book-babies-2-2-2-2/2024-10-17/
LOCATION:Patrick Heath Public Library\, 451 N. Main Street\, Boerne\, TX\, 78006\, United States
CATEGORIES:Kids and Family
ATTACH;FMTTYPE=image/jpeg:https://theboernelife.com/wp-content/uploads/2024/03/Boerne-Library-1.jpg
END:VEVENT
BEGIN:VEVENT
DTSTART;TZID=America/Chicago:20241017T133000
DTEND;TZID=America/Chicago:20241017T153000
DTSTAMP:20260421T081147
CREATED:20240305T004117Z
LAST-MODIFIED:20250116T113432Z
UID:10012068-1729171800-1729179000@theboernelife.com
SUMMARY:Drawing Club for Adults
DESCRIPTION:The Drawing Club meets each week in the conference room. This group is not for beginners looking to take a class on drawing. It’s a group of people who love to draw that meet to get better.
URL:https://theboernelife.com/events/drawing-club-for-adults/2024-10-17/
LOCATION:Patrick Heath Public Library\, 451 N. Main Street\, Boerne\, TX\, 78006\, United States
CATEGORIES:Arts and Culture
ATTACH;FMTTYPE=image/png:https://theboernelife.com/wp-content/uploads/2024/02/Boerne-Library-Logo.png
END:VEVENT
BEGIN:VEVENT
DTSTART;TZID=America/Chicago:20241017T150000
DTEND;TZID=America/Chicago:20241017T160000
DTSTAMP:20260421T081147
CREATED:20240321T111822Z
LAST-MODIFIED:20251229T121634Z
UID:10013058-1729177200-1729180800@theboernelife.com
SUMMARY:Tech Help in the Lobby
DESCRIPTION:Have a tech question you can’t find the answer to? Visit the Tech Help table in the library and get free assistance. Walk-ins only. No appointments.
URL:https://theboernelife.com/events/tech-help-in-the-lobby/2024-10-17/
LOCATION:Patrick Heath Public Library\, 451 N. Main Street\, Boerne\, TX\, 78006\, United States
CATEGORIES:General
ATTACH;FMTTYPE=image/jpeg:https://theboernelife.com/wp-content/uploads/2024/02/Library-Tech-Help.jpg
END:VEVENT
BEGIN:VEVENT
DTSTART;TZID=America/Chicago:20241017T153000
DTEND;TZID=America/Chicago:20241017T163000
DTSTAMP:20260421T081147
CREATED:20240215T124134Z
LAST-MODIFIED:20240909T111321Z
UID:10022092-1729179000-1729182600@theboernelife.com
SUMMARY:Game On
DESCRIPTION:After school\, meet to play Nintendo Switch! Located in the Youth Activity Room.
URL:https://theboernelife.com/events/game-on/2024-10-17/
LOCATION:Patrick Heath Public Library\, 451 N. Main Street\, Boerne\, TX\, 78006\, United States
CATEGORIES:Kids and Family
ATTACH;FMTTYPE=image/jpeg:https://theboernelife.com/wp-content/uploads/2024/03/Boerne-Library-2.jpg
END:VEVENT
BEGIN:VEVENT
DTSTART;TZID=America/Chicago:20241017T170000
DTEND;TZID=America/Chicago:20241017T200000
DTSTAMP:20260421T081147
CREATED:20240220T012047Z
LAST-MODIFIED:20250108T113306Z
UID:10005647-1729184400-1729195200@theboernelife.com
SUMMARY:Live Music and Burgers at Black Board Bar B Q
DESCRIPTION:Every Thursday evening from 5-8pm\, visit Black Board Bar B Q for live music and half-pound ground beef brisket burgers on garlic tallow toasted buns. \nAnd if you’re a singer-songwriter or musician\, make sure to grab your instruments & voices and join the lineup!
URL:https://theboernelife.com/events/live-music-and-burgers-at-black-board-bar-b-q/2024-10-17/
LOCATION:Black Board Bar B Q\, 1123 Sisterdale Rd\, Sisterdale\, TX\, 78006\, United States
CATEGORIES:Music
ATTACH;FMTTYPE=image/png:https://theboernelife.com/wp-content/uploads/2024/02/Black-Board-Bar-B-Q-Live-Music-and-Burger-Night.png
END:VEVENT
BEGIN:VEVENT
DTSTART;TZID=America/Chicago:20241017T180000
DTEND;TZID=America/Chicago:20241017T203000
DTSTAMP:20260421T081147
CREATED:20240404T103842Z
LAST-MODIFIED:20240812T100713Z
UID:10021355-1729188000-1729197000@theboernelife.com
SUMMARY:Catan Game Night
DESCRIPTION:Play Catan with friends at Boerne Bookshop located at The Richter. Family-friendly.
URL:https://theboernelife.com/events/board-game-night/2024-10-17/
LOCATION:The Boerne Bookshop\, 153 S Main Street\, Boerne\, TX\, 78006\, United States
CATEGORIES:Kids and Family
ATTACH;FMTTYPE=image/jpeg:https://theboernelife.com/wp-content/uploads/2024/04/Boerne-Bookshop-Game-Night.jpg
END:VEVENT
END:VCALENDAR