BEGIN:VCALENDAR
VERSION:2.0
PRODID:-//The Boerne Life - ECPv6.15.15//NONSGML v1.0//EN
CALSCALE:GREGORIAN
METHOD:PUBLISH
X-WR-CALNAME:The Boerne Life
X-ORIGINAL-URL:https://theboernelife.com
X-WR-CALDESC:Events for The Boerne Life
REFRESH-INTERVAL;VALUE=DURATION:PT1H
X-Robots-Tag:noindex
X-PUBLISHED-TTL:PT1H
BEGIN:VTIMEZONE
TZID:America/Chicago
BEGIN:DAYLIGHT
TZOFFSETFROM:-0600
TZOFFSETTO:-0500
TZNAME:CDT
DTSTART:20230312T080000
END:DAYLIGHT
BEGIN:STANDARD
TZOFFSETFROM:-0500
TZOFFSETTO:-0600
TZNAME:CST
DTSTART:20231105T070000
END:STANDARD
BEGIN:DAYLIGHT
TZOFFSETFROM:-0600
TZOFFSETTO:-0500
TZNAME:CDT
DTSTART:20240310T080000
END:DAYLIGHT
BEGIN:STANDARD
TZOFFSETFROM:-0500
TZOFFSETTO:-0600
TZNAME:CST
DTSTART:20241103T070000
END:STANDARD
BEGIN:DAYLIGHT
TZOFFSETFROM:-0600
TZOFFSETTO:-0500
TZNAME:CDT
DTSTART:20250309T080000
END:DAYLIGHT
BEGIN:STANDARD
TZOFFSETFROM:-0500
TZOFFSETTO:-0600
TZNAME:CST
DTSTART:20251102T070000
END:STANDARD
END:VTIMEZONE
BEGIN:VEVENT
DTSTART;TZID=America/Chicago:20241011T183000
DTEND;TZID=America/Chicago:20241011T213000
DTSTAMP:20260420T114911
CREATED:20240229T102833Z
LAST-MODIFIED:20240917T144742Z
UID:10007284-1728671400-1728682200@theboernelife.com
SUMMARY:Live Music at Pure Country BBQ & Grill
DESCRIPTION:Head out to Pure Country BBQ & Grill on Friday or Saturday night for live music\, good food and drink\, and the perfect place to let the kids run around and play. \nFor current lineups\, you can check here.
URL:https://theboernelife.com/events/pure-country-bbq-grill/2024-10-11/
LOCATION:Pure Country BBQ & Grill\, 1481 S Main St\, Boerne\, TX\, 78006\, United States
CATEGORIES:Music
ATTACH;FMTTYPE=image/jpeg:https://theboernelife.com/wp-content/uploads/2024/02/Pure-Country-BBQ-Grill.jpg
END:VEVENT
BEGIN:VEVENT
DTSTART;TZID=America/Chicago:20241011T210000
DTEND;TZID=America/Chicago:20241011T235900
DTSTAMP:20260420T114911
CREATED:20240223T035249Z
LAST-MODIFIED:20250214T223935Z
UID:10010925-1728680400-1728691140@theboernelife.com
SUMMARY:Live Music at Salvador Dobbs
DESCRIPTION:Every Friday and Saturday night from 9-12pm\, have some drinks and catch live music at Salvador Dobbs. Lineup changes regularly\, so check their Facebook page to see who is playing tonight!
URL:https://theboernelife.com/events/live-music-at-salvador-dobbs-2/2024-10-11/
LOCATION:Salvador Dobbs\, 512 River Rd\, Boerne\, TX\, 78006\, United States
CATEGORIES:Music
ATTACH;FMTTYPE=image/jpeg:https://theboernelife.com/wp-content/uploads/2024/03/Salvador-Dobbs-Live-Music.jpg
END:VEVENT
BEGIN:VEVENT
DTSTART;VALUE=DATE:20241012
DTEND;VALUE=DATE:20241014
DTSTAMP:20260420T114911
CREATED:20240908T130104Z
LAST-MODIFIED:20251229T125636Z
UID:10021945-1728691200-1728863999@theboernelife.com
SUMMARY:Boerne Market Days
DESCRIPTION:Market Days in Boerne takes place at the central Main Plaza on the second weekend of the month\, right in the historic heart of the town. \nAvailable from 10 am to 5 pm on Saturdays and 10 am to 4 pm on Sundays\, this event has become a hallmark of quality open-air shopping in Boerne. You’ll find everything from local artists and craftsmen to merchants\, all set to the tune of authentic Texas music. \nEnjoy a fun day exploring the market’s booths\, offering everything from unique jewelry and artwork to handcrafted goods\, plants\, collectibles\, and antiques. Have lunch at one of the food trucks or tables\, and usually there’s a mobile bar set up as well! If not\, grab a to-go beer down the street and bring it over!
URL:https://theboernelife.com/events/boerne-market-days/2024-10-12/
LOCATION:Boerne Main Plaza\, 100 N. Main Street\, Boerne\, TX\, 78006\, United States
CATEGORIES:General
ATTACH;FMTTYPE=image/jpeg:https://theboernelife.com/wp-content/uploads/2024/02/Boerne-Market-Days.jpg
END:VEVENT
BEGIN:VEVENT
DTSTART;TZID=America/Chicago:20241012T100000
DTEND;TZID=America/Chicago:20241012T130000
DTSTAMP:20260420T114911
CREATED:20240216T113137Z
LAST-MODIFIED:20240917T143513Z
UID:10005559-1728727200-1728738000@theboernelife.com
SUMMARY:Second Saturday Volunteer Day at Herff Farm
DESCRIPTION:On the second Saturday of every month from 10:00 am-1:00 pm\, come to the Teaching Garden at the Herff Farm to volunteer. \nWhat You Can Help With \nTasks range from mulching\, to painting\, to chicken tending\, to harvesting vegetables and pruning plants. You will be provided with gloves and safety goggles\, as well as training and supervision when needed. \nThis opportunity is for volunteers of all ages and experience levels.
URL:https://theboernelife.com/events/second-saturday-volunteer-day-at-herff-farm/2024-10-12/
LOCATION:Herff Farm\, 33 Herff Rd\, Boerne\, TX\, 78006\, United States
CATEGORIES:Kids and Family,Volunteer
ATTACH;FMTTYPE=image/jpeg:https://theboernelife.com/wp-content/uploads/2024/02/Herff-Farm-1.jpg
END:VEVENT
BEGIN:VEVENT
DTSTART;TZID=America/Chicago:20241012T100000
DTEND;TZID=America/Chicago:20241012T140000
DTSTAMP:20260420T114911
CREATED:20241007T225549Z
LAST-MODIFIED:20241007T225549Z
UID:10022524-1728727200-1728741600@theboernelife.com
SUMMARY:Dog Adoptions at Fetch & Friskers
DESCRIPTION:An adoption event will be held this Saturday in collaboration with Boerne Animal Care Services at the Leon Springs location\, 26545 Interstate 10 W\, Boerne\, TX. \nNew pet parents will receive bundles with essentials for bringing home their new dog or cat. Boerne Animal Care Services will be on-site with pets ready for adoption\, and this event is part of an ongoing partnership to support new pet families in the community. \nIt’s a great opportunity to meet potential pets and give a furry friend a forever home. It’s also a great time to check out Fetch & Friskers new location in Fair Oaks!
URL:https://theboernelife.com/events/dog-adoptions-at-fetch-friskers/
LOCATION:Fetch and Friskers Fair Oaks\, 26545 I-10\, Boerne\, TX\, 78006\, United States
CATEGORIES:Kids and Family
ATTACH;FMTTYPE=image/jpeg:https://theboernelife.com/wp-content/uploads/2024/10/Adoptions-Fetch-Friskers.jpg
END:VEVENT
BEGIN:VEVENT
DTSTART;TZID=America/Chicago:20241012T103000
DTEND;TZID=America/Chicago:20241012T110000
DTSTAMP:20260420T114911
CREATED:20240909T111841Z
LAST-MODIFIED:20241213T172445Z
UID:10022095-1728729000-1728730800@theboernelife.com
SUMMARY:Movin' and Groovin' Kid Time at the Herff House
DESCRIPTION:Head over the the Herff House at the Farmer’s Market for delightful monthly music-and-movement fun for the family. Enjoy lively music and movement to add spark to your Saturday morning.
URL:https://theboernelife.com/events/movin-and-groovin-kid-time-at-the-herff-house/2024-10-12/
LOCATION:Herff Farm\, 33 Herff Rd\, Boerne\, TX\, 78006\, United States
CATEGORIES:Kids and Family
ATTACH;FMTTYPE=image/jpeg:https://theboernelife.com/wp-content/uploads/2024/03/Herff-farm-1.jpg
END:VEVENT
BEGIN:VEVENT
DTSTART;TZID=America/Chicago:20241012T110000
DTEND;TZID=America/Chicago:20241012T130000
DTSTAMP:20260420T114911
CREATED:20240210T134927Z
LAST-MODIFIED:20260106T230021Z
UID:10001483-1728730800-1728738000@theboernelife.com
SUMMARY:Second Saturday Book Signing
DESCRIPTION:On the second Saturday of every month\, the Boerne Public Library hosts an author in the Library Lobby for book signings. Meet regional authors\, discuss their craft with them\, purchase their books\, and get them signed! \nThis weekend\, Jan 10 will feature Mark Goldman\, author of the children’s books Big Buck and Little Penny. He’ll be signing copies of his books that deal with saving\, spending and giving. \nVisit the Boerne Library site to see the schedule of authors.
URL:https://theboernelife.com/events/second-saturday-book-signing/2024-10-12/
LOCATION:Patrick Heath Public Library\, 451 N. Main Street\, Boerne\, TX\, 78006\, United States
CATEGORIES:Arts and Culture
ATTACH;FMTTYPE=image/png:https://theboernelife.com/wp-content/uploads/2024/02/Boerne-Library-Logo.png
END:VEVENT
BEGIN:VEVENT
DTSTART;TZID=America/Chicago:20241012T110000
DTEND;TZID=America/Chicago:20241012T130000
DTSTAMP:20260420T114911
CREATED:20240214T104824Z
LAST-MODIFIED:20260308T103931Z
UID:10004328-1728730800-1728738000@theboernelife.com
SUMMARY:Bluegrass Jams
DESCRIPTION:Whether you’re a musician looking to play with others\, or a family wanting to listen\, come on out to the Bluegrass Jams at The AgriCultural on the 2nd and 4th Saturday of the month from 11am – 1 pm. It’s free\, but donations are welcome. You can also explore the center and maybe even catch a working blacksmith in action!
URL:https://theboernelife.com/events/bluegrass-jams/2024-10-12/
LOCATION:The AgriCultural Museum & Arts Center\, 102 City Park Rd.\, Boerne\, TX\, 78006\, United States
CATEGORIES:Kids and Family,Music
ATTACH;FMTTYPE=image/jpeg:https://theboernelife.com/wp-content/uploads/2024/02/Agricultural-Logo-1.jpg
END:VEVENT
BEGIN:VEVENT
DTSTART;TZID=America/Chicago:20241012T110000
DTEND;TZID=America/Chicago:20241012T130000
DTSTAMP:20260420T114911
CREATED:20241007T112906Z
LAST-MODIFIED:20241007T112906Z
UID:10022522-1728730800-1728738000@theboernelife.com
SUMMARY:Pup Pumpkin Painting at Fetch and Friskers
DESCRIPTION:Bring your pup to the Fair Oaks Fetch and Friskers location to get a small pumpkin and paint with your dog’s paws or however you like. It’s free! \nPlease RSVP by October 10th.
URL:https://theboernelife.com/events/pup-pumpkin-painting-at-fetch-and-friskers/
LOCATION:Fetch and Friskers Fair Oaks\, 26545 I-10\, Boerne\, TX\, 78006\, United States
CATEGORIES:General
ATTACH;FMTTYPE=image/jpeg:https://theboernelife.com/wp-content/uploads/2024/10/Pumpkin-Painting-Fetch-and-Friskers.jpg
END:VEVENT
BEGIN:VEVENT
DTSTART;TZID=America/Chicago:20241012T120000
DTEND;TZID=America/Chicago:20241012T150000
DTSTAMP:20260420T114911
CREATED:20240223T030037Z
LAST-MODIFIED:20250418T133302Z
UID:10006790-1728734400-1728745200@theboernelife.com
SUMMARY:Kuhlmann-King Museum Tours
DESCRIPTION:The Kuhlmann-King Museum gives you a glimpse of Boerne life in the late 1800s. Take a free tour the 2nd and 4th Saturday each month\, from 12-3pm.
URL:https://theboernelife.com/events/kuhlmann-king-museum-tours-2/2024-10-12/
LOCATION:Kuhlmann-King Historical Complex\, 402 East Blanco Road\, Boerne\, TX\, 78006\, United States
CATEGORIES:Arts and Culture
ATTACH;FMTTYPE=image/jpeg:https://theboernelife.com/wp-content/uploads/2024/02/Kuhlmann-King-Museum-Tours.jpg
ORGANIZER;CN="Boerne Area Historical Preservation Society":MAILTO:Gossellj@gvtc.com
END:VEVENT
BEGIN:VEVENT
DTSTART;TZID=America/Chicago:20241012T120000
DTEND;TZID=America/Chicago:20241012T170000
DTSTAMP:20260420T114911
CREATED:20241011T150131Z
LAST-MODIFIED:20241011T150131Z
UID:10022731-1728734400-1728752400@theboernelife.com
SUMMARY:Artist Showcase
DESCRIPTION:With Mary McIntosh unable to present\, the Carriage House will instead host several artists for live art demonstrations from noon to 5 PM. This popular event gives attendees a chance to see the creative process firsthand. \nMark your calendars and bring along friends who appreciate the arts!
URL:https://theboernelife.com/events/artist-showcase/
LOCATION:Texas Treasures Fine Art\, 110 Rosewood\, Boerne\, TX\, 78006\, United States
CATEGORIES:Arts and Culture
ATTACH;FMTTYPE=image/jpeg:https://theboernelife.com/wp-content/uploads/2024/06/Carriage-House.jpg
END:VEVENT
BEGIN:VEVENT
DTSTART;TZID=America/Chicago:20241012T150000
DTEND;TZID=America/Chicago:20241012T230000
DTSTAMP:20260420T114911
CREATED:20240910T102942Z
LAST-MODIFIED:20250829T104014Z
UID:10022148-1728745200-1728774000@theboernelife.com
SUMMARY:Open Bowling at Boerne Turn Verein
DESCRIPTION:The Boerne Turn Verein is a non-profit bowling alley that’s been in Boerne since 1906. It’s a blast from the past. Most of the year\, it’s members-only league play\, except Saturday nights from 3 pm to 11 pm when the community is welcome to drop in and play. \nRates are $5.50 per game\, $3.50 for shoe rentals. \n 
URL:https://theboernelife.com/events/open-bowling-at-boerne-turn-verein/2024-10-12/
LOCATION:Boerne Turn Verin\, 221 E. Theissen\, Boerne\, TX\, 78006\, United States
CATEGORIES:Kids and Family
ATTACH;FMTTYPE=image/jpeg:https://theboernelife.com/wp-content/uploads/2024/02/Boerne-Turn-Verin.jpg
END:VEVENT
BEGIN:VEVENT
DTSTART;TZID=America/Chicago:20241012T160000
DTEND;TZID=America/Chicago:20241012T190000
DTSTAMP:20260420T114911
CREATED:20241011T145042Z
LAST-MODIFIED:20241011T145042Z
UID:10022730-1728748800-1728759600@theboernelife.com
SUMMARY:Gallery Night: Art\, Nine\, and Hors D'oeuvres
DESCRIPTION:Head to Gallery 195 this Saturday for an evening of art and culture at the gallery! Enjoy wine\, hors d’oeuvres\, and great company as you explore the latest works on display. Meet the talented artists behind the pieces and mingle with fellow art enthusiasts. \nBest of all\, this event is free to attend—don’t miss out on a wonderful night!
URL:https://theboernelife.com/events/gallery-night-art-nine-and-hors-doeuvres/
LOCATION:Gallery195\, 195 South Main St\, Boerne\, TX\, 78006\, United States
CATEGORIES:Arts and Culture,Food and Drink
ATTACH;FMTTYPE=image/jpeg:https://theboernelife.com/wp-content/uploads/2024/10/Gallery-Night.jpg
END:VEVENT
BEGIN:VEVENT
DTSTART;TZID=America/Chicago:20241012T163000
DTEND;TZID=America/Chicago:20241012T200000
DTSTAMP:20260420T114911
CREATED:20240223T033144Z
LAST-MODIFIED:20260203T182439Z
UID:10022479-1728750600-1728763200@theboernelife.com
SUMMARY:Parents Night Out at Boerne YMCA
DESCRIPTION:Looking for a kid-free evening? Leave your little ones (ages 1-11) at the Y for an evening packed with fun. They’ll enjoy making new friends\, engaging in games\, and creating art! Register now at the Welcome Center or online. Don’t miss out – this is open to both members ($25) and non-members ($35). \nYou can register here.
URL:https://theboernelife.com/events/parents-night-out-at-boerne-ymca/2024-10-12/
LOCATION:Boerne Family YMCA\, 820 Adler Road\, Boerne\, TX\, 78006\, United States
CATEGORIES:Kids and Family
ATTACH;FMTTYPE=image/jpeg:https://theboernelife.com/wp-content/uploads/2024/02/Boerne-Family-YMCA.jpg
END:VEVENT
BEGIN:VEVENT
DTSTART;TZID=America/Chicago:20241012T170000
DTEND;TZID=America/Chicago:20241012T235900
DTSTAMP:20260420T114911
CREATED:20240301T121745Z
LAST-MODIFIED:20240308T110107Z
UID:10009795-1728752400-1728777540@theboernelife.com
SUMMARY:Tejas Rodeo Presents Saturday Night Rodeo
DESCRIPTION:Every Saturday night from March through November\, visitors can immerse themselves in the thrill of the action-packed rodeo and live music series at Tejas Rodeo. \nBeyond the exhilarating open pro-rodeo performances\, Tejas Rodeo boasts the Tejas Steakhouse and Saloon\, renowned for its award-winning menu and cozy indoor dining atmosphere. \nOutside\, guests are treated to a variety of concessions offering scrumptious Texas BBQ\, burgers\, sandwiches\, along with a selection of soda\, beer\, wine\, and cocktails. Following the rodeo\, the entertainment continues with live music and dancing until 1:00 am. Attendees are also invited to try their luck on the mechanical bull or pose with the life-sized stuffed bull for a memorable photo. \n\nGates open at 5pm\nPre-show starts at 7pm\nRodeo starts at 7:30pm\nLive music and dancing starts at 9pm\n\nAges 13+ are $30. Kids 3-12 are $20. Children 2 an under are free. \nOrder your tickets here.
URL:https://theboernelife.com/events/tejas-rodeo-presents-saturday-night-rodeo/2024-10-12/
LOCATION:Tejas Rodeo\, 401 Obst Rd\, Bulverde\, TX\, 78163\, United States
CATEGORIES:Kids and Family,Music,Outdoors
ATTACH;FMTTYPE=image/png:https://theboernelife.com/wp-content/uploads/2024/03/Tejas-Rodeo.png
END:VEVENT
BEGIN:VEVENT
DTSTART;TZID=America/Chicago:20241012T180000
DTEND;TZID=America/Chicago:20241012T210000
DTSTAMP:20260420T114911
CREATED:20240304T024944Z
LAST-MODIFIED:20250214T223825Z
UID:10026125-1728756000-1728766800@theboernelife.com
SUMMARY:Live Music at Free Roam
DESCRIPTION:The Free Roam Brewing Company has a family friendly beer garden with games for the kids and a flat bed stage that hosts some of the coolest live music in town. To see who is playing tonight\, we recommend checking their Instagram. 
URL:https://theboernelife.com/events/live-music-at-free-roam/2024-10-12/
LOCATION:Free Roam Brewing Company\, 325 S Main Street\, Boerne\, TX\, 78006\, United States
CATEGORIES:Music,Outdoors
ATTACH;FMTTYPE=image/jpeg:https://theboernelife.com/wp-content/uploads/2024/03/Live-Music-at-Free-Roam.jpg
END:VEVENT
BEGIN:VEVENT
DTSTART;TZID=America/Chicago:20241012T183000
DTEND;TZID=America/Chicago:20241012T213000
DTSTAMP:20260420T114911
CREATED:20240229T102833Z
LAST-MODIFIED:20240917T144742Z
UID:10007285-1728757800-1728768600@theboernelife.com
SUMMARY:Live Music at Pure Country BBQ & Grill
DESCRIPTION:Head out to Pure Country BBQ & Grill on Friday or Saturday night for live music\, good food and drink\, and the perfect place to let the kids run around and play. \nFor current lineups\, you can check here.
URL:https://theboernelife.com/events/pure-country-bbq-grill/2024-10-12/
LOCATION:Pure Country BBQ & Grill\, 1481 S Main St\, Boerne\, TX\, 78006\, United States
CATEGORIES:Music
ATTACH;FMTTYPE=image/jpeg:https://theboernelife.com/wp-content/uploads/2024/02/Pure-Country-BBQ-Grill.jpg
END:VEVENT
BEGIN:VEVENT
DTSTART;TZID=America/Chicago:20241012T183000
DTEND;TZID=America/Chicago:20241012T223000
DTSTAMP:20260420T114911
CREATED:20240210T133742Z
LAST-MODIFIED:20240726T201802Z
UID:10001248-1728757800-1728772200@theboernelife.com
SUMMARY:Singer Songwriter Series at La Cascada Table & Bar
DESCRIPTION:Located in Tapatio Springs\, La Cascada Table & Bar believes that great food and great music go hand-in-hand in the Texas Hill Country. That’s why every weekend they feature live music on the patio with amazing views of the golf course and hills. Visit their site for information on who is playing next. \n 
URL:https://theboernelife.com/events/singer-songwriter-series-at-la-cascada-table-bar/2024-10-12/
LOCATION:La Cascada Table & Bar\, 1 Resort Way\, Boerne\, TX\, 78006\, United States
CATEGORIES:Music
ATTACH;FMTTYPE=image/png:https://theboernelife.com/wp-content/uploads/2024/02/La-Cascada-Logo.png
END:VEVENT
BEGIN:VEVENT
DTSTART;TZID=America/Chicago:20241012T190000
DTEND;TZID=America/Chicago:20241012T213000
DTSTAMP:20260420T114911
CREATED:20240902T105458Z
LAST-MODIFIED:20240902T105521Z
UID:10021903-1728759600-1728768600@theboernelife.com
SUMMARY:Live Music at Cibolo Creek Brewing Company
DESCRIPTION:Cold beer\, good food\, and live music on the back patio every Saturday. Check out their Facebook to see who plays today.
URL:https://theboernelife.com/events/live-music-at-cibolo-creek-brewing-company-2/2024-10-12/
LOCATION:Cibolo Creek Brewing Company\, 448 South Main St\, Boerne\, TX\, 78006\, United States
CATEGORIES:Kids and Family,Music
ATTACH;FMTTYPE=image/jpeg:https://theboernelife.com/wp-content/uploads/2024/02/Cibolo-Creek-Brewing-Company.jpg
END:VEVENT
BEGIN:VEVENT
DTSTART;TZID=America/Chicago:20241012T190000
DTEND;TZID=America/Chicago:20241012T220000
DTSTAMP:20260420T114911
CREATED:20240717T221600Z
LAST-MODIFIED:20250130T153338Z
UID:10020147-1728759600-1728770400@theboernelife.com
SUMMARY:Live at Lost Oak Saturday Nights
DESCRIPTION:Every Saturday evening\, Live Oak Cellars hosts live music from 7-10 pm. Visit for great wine\, charcuterie\, and cigars!
URL:https://theboernelife.com/events/live-at-lost-oak-saturday-nights/2024-10-12/
LOCATION:Lost Oak Cellars\, 111 Rosewood Ave\, Boerne\, TX\, 78006\, United States
CATEGORIES:Food and Drink,Music
ATTACH;FMTTYPE=image/jpeg:https://theboernelife.com/wp-content/uploads/2024/11/Lost-Oak-Cellars-7.jpg
END:VEVENT
BEGIN:VEVENT
DTSTART;TZID=America/Chicago:20241012T210000
DTEND;TZID=America/Chicago:20241012T235900
DTSTAMP:20260420T114911
CREATED:20240223T035249Z
LAST-MODIFIED:20250214T223935Z
UID:10010926-1728766800-1728777540@theboernelife.com
SUMMARY:Live Music at Salvador Dobbs
DESCRIPTION:Every Friday and Saturday night from 9-12pm\, have some drinks and catch live music at Salvador Dobbs. Lineup changes regularly\, so check their Facebook page to see who is playing tonight!
URL:https://theboernelife.com/events/live-music-at-salvador-dobbs-2/2024-10-12/
LOCATION:Salvador Dobbs\, 512 River Rd\, Boerne\, TX\, 78006\, United States
CATEGORIES:Music
ATTACH;FMTTYPE=image/jpeg:https://theboernelife.com/wp-content/uploads/2024/03/Salvador-Dobbs-Live-Music.jpg
END:VEVENT
BEGIN:VEVENT
DTSTART;TZID=America/Chicago:20241013T140000
DTEND;TZID=America/Chicago:20241013T160000
DTSTAMP:20260420T114911
CREATED:20240718T115821Z
LAST-MODIFIED:20250620T105330Z
UID:10020495-1728828000-1728835200@theboernelife.com
SUMMARY:Free Community Brazilian Jiu Jitsu Class
DESCRIPTION:Are you interested in Brazilian Jiu Jitsu? Then come out to Black Diamond Martial Arts off School Street right near I-10 and try out their free Community BJJ class every Sunday from 2-4 pm.\n\nBlack Diamond Martial Arts is a family-owned establishment. For more information\, email blackdiamondmartialartsboerne@gmail.com.
URL:https://theboernelife.com/events/free-community-brazilian-jiu-jitsu-class/2024-10-13/
LOCATION:Black Diamond Martial Arts\, 645 South School Street Suite 201\, Boerne\, TX\, 78006\, United States
CATEGORIES:Health and Wellness
ATTACH;FMTTYPE=image/jpeg:https://theboernelife.com/wp-content/uploads/2024/07/Brazilian-Jiu-Jitsu.jpg
END:VEVENT
BEGIN:VEVENT
DTSTART;TZID=America/Chicago:20241013T140000
DTEND;TZID=America/Chicago:20241013T170000
DTSTAMP:20260420T114911
CREATED:20240902T105639Z
LAST-MODIFIED:20240902T105639Z
UID:10021916-1728828000-1728838800@theboernelife.com
SUMMARY:Live Music at Cibolo Creek Brewing Company
DESCRIPTION:Cold beer\, good food\, and live music on the back patio every Sunday. Check out their Facebook to see who plays today.
URL:https://theboernelife.com/events/live-music-at-cibolo-creek-brewing-company-3/2024-10-13/
LOCATION:Cibolo Creek Brewing Company\, 448 South Main St\, Boerne\, TX\, 78006\, United States
CATEGORIES:Kids and Family,Music
ATTACH;FMTTYPE=image/jpeg:https://theboernelife.com/wp-content/uploads/2024/02/Cibolo-Creek-Brewing-Company.jpg
END:VEVENT
BEGIN:VEVENT
DTSTART;TZID=America/Chicago:20241013T190000
DTEND;TZID=America/Chicago:20241013T200000
DTSTAMP:20260420T114911
CREATED:20240506T201823Z
LAST-MODIFIED:20250909T013957Z
UID:10022724-1728846000-1728849600@theboernelife.com
SUMMARY:Audition for Boerne Community Theatre Production
DESCRIPTION:Boerne Community Theatre is holding auditions for the outrageous British farce Loot\, directed by Jerry Watson.\nSunday\, September 14 & Monday\, September 157:00 PM (arrive 10–15 minutes early)Boerne Community Theatre\n\nParts Available:5 men (early 20s – mid 70s)1 woman (late 20s – mid 40s)\nProduction Dates: November 7–23\, 2025\nAuditions will consist of cold readings from the script.Save time at check-in! Fill out your audition form online ahead of time: https://boernetheatre.org/auditions/\n\nCome join us for this sharp-witted dark comedy full of twists\, farce\, and fast-paced fun—we can’t wait to see you at auditions!
URL:https://theboernelife.com/events/audition-for-boerne-community-theater-production/2024-10-13/
LOCATION:Boerne Community Theatre\, 907 E. Blanco Rd.\, Boerne\, TX\, 78006\, United States
CATEGORIES:Arts and Culture
ATTACH;FMTTYPE=image/jpeg:https://theboernelife.com/wp-content/uploads/2024/05/Audition-Alert-Boerne-Community-Theatre.jpg
END:VEVENT
BEGIN:VEVENT
DTSTART;TZID=America/Chicago:20241014T080000
DTEND;TZID=America/Chicago:20241014T170000
DTSTAMP:20260420T114911
CREATED:20240509T023425Z
LAST-MODIFIED:20250511T153931Z
UID:10015202-1728892800-1728925200@theboernelife.com
SUMMARY:Bulky Trash and Brush Collection Starts Today
DESCRIPTION:Have large items you need to get rid of? Then drag them out to the curb this morning\, because it’s Bulky Trash Pickup time! Starting today and lasting throughout the week\, trash pickup will take up to four cubic yards of materials from your curbside – no need to call the city and schedule. \nAcceptable items include appliances with no CFCs\, furniture\, mattresses\, and other things that won’t fit in your trash cans. Batteries\, concrete\, construction materials\, paint\, and other exceptions do apply. For more info click here. \nBrush pickup is also this week. Make sure you cut\, tie\, and bundle branches in sections no longer than 5 feet. Place the bundles on the curb by 7 am. For more info\, click here.
URL:https://theboernelife.com/events/bulky-trash-and-brush-collection-starts-today/2024-10-14/
LOCATION:TX
CATEGORIES:General
ATTACH;FMTTYPE=image/jpeg:https://theboernelife.com/wp-content/uploads/2024/05/Bulk-Trash-Pickup-Boerne.jpg
END:VEVENT
BEGIN:VEVENT
DTSTART;TZID=America/Chicago:20241014T120000
DTEND;TZID=America/Chicago:20241014T130000
DTSTAMP:20260420T114911
CREATED:20240305T004448Z
LAST-MODIFIED:20251013T021429Z
UID:10023583-1728907200-1728910800@theboernelife.com
SUMMARY:Food for Thought Literary Discussion Group
DESCRIPTION:If you like literary fiction\, then this group is for you. Every month the group meets to discuss a different book with Natalie Morgan facilitating. No need to register – just show up! Check out the list of titles here.
URL:https://theboernelife.com/events/food-for-thought-literary-discussion-group/2024-10-14/
LOCATION:Patrick Heath Public Library\, 451 N. Main Street\, Boerne\, TX\, 78006\, United States
CATEGORIES:Arts and Culture
ATTACH;FMTTYPE=image/png:https://theboernelife.com/wp-content/uploads/2024/02/Boerne-Library-Logo.png
END:VEVENT
BEGIN:VEVENT
DTSTART;TZID=America/Chicago:20241014T190000
DTEND;TZID=America/Chicago:20241014T200000
DTSTAMP:20260420T114911
CREATED:20240506T201823Z
LAST-MODIFIED:20250909T013957Z
UID:10022725-1728932400-1728936000@theboernelife.com
SUMMARY:Audition for Boerne Community Theatre Production
DESCRIPTION:Boerne Community Theatre is holding auditions for the outrageous British farce Loot\, directed by Jerry Watson.\nSunday\, September 14 & Monday\, September 157:00 PM (arrive 10–15 minutes early)Boerne Community Theatre\n\nParts Available:5 men (early 20s – mid 70s)1 woman (late 20s – mid 40s)\nProduction Dates: November 7–23\, 2025\nAuditions will consist of cold readings from the script.Save time at check-in! Fill out your audition form online ahead of time: https://boernetheatre.org/auditions/\n\nCome join us for this sharp-witted dark comedy full of twists\, farce\, and fast-paced fun—we can’t wait to see you at auditions!
URL:https://theboernelife.com/events/audition-for-boerne-community-theater-production/2024-10-14/
LOCATION:Boerne Community Theatre\, 907 E. Blanco Rd.\, Boerne\, TX\, 78006\, United States
CATEGORIES:Arts and Culture
ATTACH;FMTTYPE=image/jpeg:https://theboernelife.com/wp-content/uploads/2024/05/Audition-Alert-Boerne-Community-Theatre.jpg
END:VEVENT
BEGIN:VEVENT
DTSTART;TZID=America/Chicago:20241015T093000
DTEND;TZID=America/Chicago:20241015T100000
DTSTAMP:20260420T114911
CREATED:20240909T110843Z
LAST-MODIFIED:20250106T115513Z
UID:10022029-1728984600-1728986400@theboernelife.com
SUMMARY:Rhyme and Shine
DESCRIPTION:Storytime for babies aged 0-2. There will be stories\, music\, and more fun.
URL:https://theboernelife.com/events/rhyme-and-shine/2024-10-15/
LOCATION:Patrick Heath Public Library\, 451 N. Main Street\, Boerne\, TX\, 78006\, United States
CATEGORIES:Kids and Family
ATTACH;FMTTYPE=image/jpeg:https://theboernelife.com/wp-content/uploads/2024/09/Rhyme-Shine.jpg
END:VEVENT
BEGIN:VEVENT
DTSTART;TZID=America/Chicago:20241015T153000
DTEND;TZID=America/Chicago:20241015T160000
DTSTAMP:20260420T114911
CREATED:20240909T112032Z
LAST-MODIFIED:20240909T112032Z
UID:10022103-1729006200-1729008000@theboernelife.com
SUMMARY:Paws 4 Reading
DESCRIPTION:Come after school and share a book with a trained\, certified therapy dog!
URL:https://theboernelife.com/events/paws-4-reading/2024-10-15/
LOCATION:Patrick Heath Public Library\, 451 N. Main Street\, Boerne\, TX\, 78006\, United States
CATEGORIES:Kids and Family
ATTACH;FMTTYPE=image/jpeg:https://theboernelife.com/wp-content/uploads/2024/03/Boerne-Library-2.jpg
END:VEVENT
BEGIN:VEVENT
DTSTART;TZID=America/Chicago:20241015T160000
DTEND;TZID=America/Chicago:20241015T190000
DTSTAMP:20260420T114911
CREATED:20240813T224017Z
LAST-MODIFIED:20241230T020027Z
UID:10021403-1729008000-1729018800@theboernelife.com
SUMMARY:Boerne Farmers Market
DESCRIPTION:The Boerne Farmers Market is a hub for locally-sourced produce\, artisan goods\, and prepared foods\, fostering a community that values sustainability and healthy living. It’s a place where local farmers\, homesteaders\, ranchers\, and artisans from the Texas Hill Country come together\, offering more than just shopping but a vibrant community event to explore and enjoy. \nThere’s also now a Kids Market\, where young entrepreneurs can sell their goods. You can learn more about how to get your kids involved in that here. 
URL:https://theboernelife.com/events/boerne-farmers-market-2-2/2024-10-15/
LOCATION:Boerne Farmers Market\, 402 East Blanco Road\, Boerne\, TX\, 78006\, United States
CATEGORIES:Food and Drink,Outdoors
ATTACH;FMTTYPE=image/jpeg:https://theboernelife.com/wp-content/uploads/2024/04/Boerne-Farmers-Market.jpg
END:VEVENT
END:VCALENDAR