BEGIN:VCALENDAR
VERSION:2.0
PRODID:-//The Boerne Life - ECPv6.15.15//NONSGML v1.0//EN
CALSCALE:GREGORIAN
METHOD:PUBLISH
X-WR-CALNAME:The Boerne Life
X-ORIGINAL-URL:https://theboernelife.com
X-WR-CALDESC:Events for The Boerne Life
REFRESH-INTERVAL;VALUE=DURATION:PT1H
X-Robots-Tag:noindex
X-PUBLISHED-TTL:PT1H
BEGIN:VTIMEZONE
TZID:America/Chicago
BEGIN:DAYLIGHT
TZOFFSETFROM:-0600
TZOFFSETTO:-0500
TZNAME:CDT
DTSTART:20230312T080000
END:DAYLIGHT
BEGIN:STANDARD
TZOFFSETFROM:-0500
TZOFFSETTO:-0600
TZNAME:CST
DTSTART:20231105T070000
END:STANDARD
BEGIN:DAYLIGHT
TZOFFSETFROM:-0600
TZOFFSETTO:-0500
TZNAME:CDT
DTSTART:20240310T080000
END:DAYLIGHT
BEGIN:STANDARD
TZOFFSETFROM:-0500
TZOFFSETTO:-0600
TZNAME:CST
DTSTART:20241103T070000
END:STANDARD
BEGIN:DAYLIGHT
TZOFFSETFROM:-0600
TZOFFSETTO:-0500
TZNAME:CDT
DTSTART:20250309T080000
END:DAYLIGHT
BEGIN:STANDARD
TZOFFSETFROM:-0500
TZOFFSETTO:-0600
TZNAME:CST
DTSTART:20251102T070000
END:STANDARD
END:VTIMEZONE
BEGIN:VEVENT
DTSTART;TZID=America/Chicago:20241005T180000
DTEND;TZID=America/Chicago:20241005T210000
DTSTAMP:20260420T080632
CREATED:20240304T024944Z
LAST-MODIFIED:20250214T223825Z
UID:10026123-1728151200-1728162000@theboernelife.com
SUMMARY:Live Music at Free Roam
DESCRIPTION:The Free Roam Brewing Company has a family friendly beer garden with games for the kids and a flat bed stage that hosts some of the coolest live music in town. To see who is playing tonight\, we recommend checking their Instagram. 
URL:https://theboernelife.com/events/live-music-at-free-roam/2024-10-05/
LOCATION:Free Roam Brewing Company\, 325 S Main Street\, Boerne\, TX\, 78006\, United States
CATEGORIES:Music,Outdoors
ATTACH;FMTTYPE=image/jpeg:https://theboernelife.com/wp-content/uploads/2024/03/Live-Music-at-Free-Roam.jpg
END:VEVENT
BEGIN:VEVENT
DTSTART;TZID=America/Chicago:20241005T183000
DTEND;TZID=America/Chicago:20241005T213000
DTSTAMP:20260420T080632
CREATED:20240229T102833Z
LAST-MODIFIED:20240917T144742Z
UID:10007283-1728153000-1728163800@theboernelife.com
SUMMARY:Live Music at Pure Country BBQ & Grill
DESCRIPTION:Head out to Pure Country BBQ & Grill on Friday or Saturday night for live music\, good food and drink\, and the perfect place to let the kids run around and play. \nFor current lineups\, you can check here.
URL:https://theboernelife.com/events/pure-country-bbq-grill/2024-10-05/
LOCATION:Pure Country BBQ & Grill\, 1481 S Main St\, Boerne\, TX\, 78006\, United States
CATEGORIES:Music
ATTACH;FMTTYPE=image/jpeg:https://theboernelife.com/wp-content/uploads/2024/02/Pure-Country-BBQ-Grill.jpg
END:VEVENT
BEGIN:VEVENT
DTSTART;TZID=America/Chicago:20241005T183000
DTEND;TZID=America/Chicago:20241005T223000
DTSTAMP:20260420T080632
CREATED:20240210T133742Z
LAST-MODIFIED:20240726T201802Z
UID:10001247-1728153000-1728167400@theboernelife.com
SUMMARY:Singer Songwriter Series at La Cascada Table & Bar
DESCRIPTION:Located in Tapatio Springs\, La Cascada Table & Bar believes that great food and great music go hand-in-hand in the Texas Hill Country. That’s why every weekend they feature live music on the patio with amazing views of the golf course and hills. Visit their site for information on who is playing next. \n 
URL:https://theboernelife.com/events/singer-songwriter-series-at-la-cascada-table-bar/2024-10-05/
LOCATION:La Cascada Table & Bar\, 1 Resort Way\, Boerne\, TX\, 78006\, United States
CATEGORIES:Music
ATTACH;FMTTYPE=image/png:https://theboernelife.com/wp-content/uploads/2024/02/La-Cascada-Logo.png
END:VEVENT
BEGIN:VEVENT
DTSTART;TZID=America/Chicago:20241005T190000
DTEND;TZID=America/Chicago:20241005T213000
DTSTAMP:20260420T080632
CREATED:20240902T105458Z
LAST-MODIFIED:20240902T105521Z
UID:10021902-1728154800-1728163800@theboernelife.com
SUMMARY:Live Music at Cibolo Creek Brewing Company
DESCRIPTION:Cold beer\, good food\, and live music on the back patio every Saturday. Check out their Facebook to see who plays today.
URL:https://theboernelife.com/events/live-music-at-cibolo-creek-brewing-company-2/2024-10-05/
LOCATION:Cibolo Creek Brewing Company\, 448 South Main St\, Boerne\, TX\, 78006\, United States
CATEGORIES:Kids and Family,Music
ATTACH;FMTTYPE=image/jpeg:https://theboernelife.com/wp-content/uploads/2024/02/Cibolo-Creek-Brewing-Company.jpg
END:VEVENT
BEGIN:VEVENT
DTSTART;TZID=America/Chicago:20241005T190000
DTEND;TZID=America/Chicago:20241005T220000
DTSTAMP:20260420T080632
CREATED:20240717T221600Z
LAST-MODIFIED:20250130T153338Z
UID:10020146-1728154800-1728165600@theboernelife.com
SUMMARY:Live at Lost Oak Saturday Nights
DESCRIPTION:Every Saturday evening\, Live Oak Cellars hosts live music from 7-10 pm. Visit for great wine\, charcuterie\, and cigars!
URL:https://theboernelife.com/events/live-at-lost-oak-saturday-nights/2024-10-05/
LOCATION:Lost Oak Cellars\, 111 Rosewood Ave\, Boerne\, TX\, 78006\, United States
CATEGORIES:Food and Drink,Music
ATTACH;FMTTYPE=image/jpeg:https://theboernelife.com/wp-content/uploads/2024/11/Lost-Oak-Cellars-7.jpg
END:VEVENT
BEGIN:VEVENT
DTSTART;TZID=America/Chicago:20241005T210000
DTEND;TZID=America/Chicago:20241005T235900
DTSTAMP:20260420T080632
CREATED:20240223T035249Z
LAST-MODIFIED:20250214T223935Z
UID:10010924-1728162000-1728172740@theboernelife.com
SUMMARY:Live Music at Salvador Dobbs
DESCRIPTION:Every Friday and Saturday night from 9-12pm\, have some drinks and catch live music at Salvador Dobbs. Lineup changes regularly\, so check their Facebook page to see who is playing tonight!
URL:https://theboernelife.com/events/live-music-at-salvador-dobbs-2/2024-10-05/
LOCATION:Salvador Dobbs\, 512 River Rd\, Boerne\, TX\, 78006\, United States
CATEGORIES:Music
ATTACH;FMTTYPE=image/jpeg:https://theboernelife.com/wp-content/uploads/2024/03/Salvador-Dobbs-Live-Music.jpg
END:VEVENT
BEGIN:VEVENT
DTSTART;TZID=America/Chicago:20241006T120000
DTEND;TZID=America/Chicago:20241006T150000
DTSTAMP:20260420T080632
CREATED:20240913T221238Z
LAST-MODIFIED:20240913T222017Z
UID:10022181-1728216000-1728226800@theboernelife.com
SUMMARY:Plants and Pumpkin Bar Event
DESCRIPTION:Check out this fun fall event for moms and children of all ages. This event\, held in the beautiful courtyard at Under the Fig Tree\, will feature pumpkins to decorate and beautiful plants to choose from. That means pumpkin painting\, succulents… and cider!\n\n\nThis event will be put on by Vanessa of The Greenery\, and hosted at Under the Fig Tree of Main Street.
URL:https://theboernelife.com/events/plants-and-pumpkin-bar-event/
LOCATION:Under the Fig Tree\, 108 Newton Alley\, Boerne\, TX\, 78006\, United States
CATEGORIES:Kids and Family,Shopping,Women
ATTACH;FMTTYPE=image/jpeg:https://theboernelife.com/wp-content/uploads/2024/09/Plants-and-Pumpkin-Bar-Boerne.jpg
END:VEVENT
BEGIN:VEVENT
DTSTART;TZID=America/Chicago:20241006T120000
DTEND;TZID=America/Chicago:20241006T170000
DTSTAMP:20260420T080632
CREATED:20240823T180114Z
LAST-MODIFIED:20241002T214232Z
UID:10021498-1728216000-1728234000@theboernelife.com
SUMMARY:Oktoberfest at Cibolo Creek Brewing Co.
DESCRIPTION:This year\, Cibolo Creek Brewing Co will have an unforgettable Oktoberfest party. There will be stein holding\, German food specials\, and more. Stay tuned!
URL:https://theboernelife.com/events/oktoberfest-at-cibolo-creek-brewing-co/
LOCATION:Cibolo Creek Brewing Company\, 448 South Main St\, Boerne\, TX\, 78006\, United States
CATEGORIES:Food and Drink
ATTACH;FMTTYPE=image/jpeg:https://theboernelife.com/wp-content/uploads/2024/03/live-music-cibolo-creek-brewing.jpg
END:VEVENT
BEGIN:VEVENT
DTSTART;TZID=America/Chicago:20241006T140000
DTEND;TZID=America/Chicago:20241006T160000
DTSTAMP:20260420T080632
CREATED:20240718T115821Z
LAST-MODIFIED:20250620T105330Z
UID:10020494-1728223200-1728230400@theboernelife.com
SUMMARY:Free Community Brazilian Jiu Jitsu Class
DESCRIPTION:Are you interested in Brazilian Jiu Jitsu? Then come out to Black Diamond Martial Arts off School Street right near I-10 and try out their free Community BJJ class every Sunday from 2-4 pm.\n\nBlack Diamond Martial Arts is a family-owned establishment. For more information\, email blackdiamondmartialartsboerne@gmail.com.
URL:https://theboernelife.com/events/free-community-brazilian-jiu-jitsu-class/2024-10-06/
LOCATION:Black Diamond Martial Arts\, 645 South School Street Suite 201\, Boerne\, TX\, 78006\, United States
CATEGORIES:Health and Wellness
ATTACH;FMTTYPE=image/jpeg:https://theboernelife.com/wp-content/uploads/2024/07/Brazilian-Jiu-Jitsu.jpg
END:VEVENT
BEGIN:VEVENT
DTSTART;TZID=America/Chicago:20241006T140000
DTEND;TZID=America/Chicago:20241006T170000
DTSTAMP:20260420T080632
CREATED:20240902T105639Z
LAST-MODIFIED:20240902T105639Z
UID:10021915-1728223200-1728234000@theboernelife.com
SUMMARY:Live Music at Cibolo Creek Brewing Company
DESCRIPTION:Cold beer\, good food\, and live music on the back patio every Sunday. Check out their Facebook to see who plays today.
URL:https://theboernelife.com/events/live-music-at-cibolo-creek-brewing-company-3/2024-10-06/
LOCATION:Cibolo Creek Brewing Company\, 448 South Main St\, Boerne\, TX\, 78006\, United States
CATEGORIES:Kids and Family,Music
ATTACH;FMTTYPE=image/jpeg:https://theboernelife.com/wp-content/uploads/2024/02/Cibolo-Creek-Brewing-Company.jpg
END:VEVENT
BEGIN:VEVENT
DTSTART;TZID=America/Chicago:20241007T100000
DTEND;TZID=America/Chicago:20241007T110000
DTSTAMP:20260420T080632
CREATED:20240602T122459Z
LAST-MODIFIED:20250217T110953Z
UID:10017443-1728295200-1728298800@theboernelife.com
SUMMARY:Tech Time
DESCRIPTION:Leslie Kirk will be in the lobby each Monday\, from 10am to 11am to help you with your technology questions. Walk-ins only.
URL:https://theboernelife.com/events/tech-time/2024-10-07/
LOCATION:Patrick Heath Public Library\, 451 N. Main Street\, Boerne\, TX\, 78006\, United States
CATEGORIES:General
ATTACH;FMTTYPE=image/jpeg:https://theboernelife.com/wp-content/uploads/2024/02/Library-Tech-Help.jpg
END:VEVENT
BEGIN:VEVENT
DTSTART;TZID=America/Chicago:20241008T093000
DTEND;TZID=America/Chicago:20241008T100000
DTSTAMP:20260420T080632
CREATED:20240909T110843Z
LAST-MODIFIED:20250106T115513Z
UID:10022028-1728379800-1728381600@theboernelife.com
SUMMARY:Rhyme and Shine
DESCRIPTION:Storytime for babies aged 0-2. There will be stories\, music\, and more fun.
URL:https://theboernelife.com/events/rhyme-and-shine/2024-10-08/
LOCATION:Patrick Heath Public Library\, 451 N. Main Street\, Boerne\, TX\, 78006\, United States
CATEGORIES:Kids and Family
ATTACH;FMTTYPE=image/jpeg:https://theboernelife.com/wp-content/uploads/2024/09/Rhyme-Shine.jpg
END:VEVENT
BEGIN:VEVENT
DTSTART;TZID=America/Chicago:20241008T153000
DTEND;TZID=America/Chicago:20241008T160000
DTSTAMP:20260420T080632
CREATED:20240909T112032Z
LAST-MODIFIED:20240909T112032Z
UID:10022102-1728401400-1728403200@theboernelife.com
SUMMARY:Paws 4 Reading
DESCRIPTION:Come after school and share a book with a trained\, certified therapy dog!
URL:https://theboernelife.com/events/paws-4-reading/2024-10-08/
LOCATION:Patrick Heath Public Library\, 451 N. Main Street\, Boerne\, TX\, 78006\, United States
CATEGORIES:Kids and Family
ATTACH;FMTTYPE=image/jpeg:https://theboernelife.com/wp-content/uploads/2024/03/Boerne-Library-2.jpg
END:VEVENT
BEGIN:VEVENT
DTSTART;TZID=America/Chicago:20241008T160000
DTEND;TZID=America/Chicago:20241008T190000
DTSTAMP:20260420T080632
CREATED:20240813T224017Z
LAST-MODIFIED:20241230T020027Z
UID:10021402-1728403200-1728414000@theboernelife.com
SUMMARY:Boerne Farmers Market
DESCRIPTION:The Boerne Farmers Market is a hub for locally-sourced produce\, artisan goods\, and prepared foods\, fostering a community that values sustainability and healthy living. It’s a place where local farmers\, homesteaders\, ranchers\, and artisans from the Texas Hill Country come together\, offering more than just shopping but a vibrant community event to explore and enjoy. \nThere’s also now a Kids Market\, where young entrepreneurs can sell their goods. You can learn more about how to get your kids involved in that here. 
URL:https://theboernelife.com/events/boerne-farmers-market-2-2/2024-10-08/
LOCATION:Boerne Farmers Market\, 402 East Blanco Road\, Boerne\, TX\, 78006\, United States
CATEGORIES:Food and Drink,Outdoors
ATTACH;FMTTYPE=image/jpeg:https://theboernelife.com/wp-content/uploads/2024/04/Boerne-Farmers-Market.jpg
END:VEVENT
BEGIN:VEVENT
DTSTART;TZID=America/Chicago:20241008T180000
DTEND;TZID=America/Chicago:20241008T200000
DTSTAMP:20260420T080632
CREATED:20240208T110320Z
LAST-MODIFIED:20251123T123748Z
UID:10000095-1728410400-1728417600@theboernelife.com
SUMMARY:Trivia Night at Free Roam
DESCRIPTION:Head over to Free Roam Brewing Company for an enthralling evening of live trivia\, brought to you by Challenge Entertainment – Austin & San Antonio Trivia. These engaging trivia nights are held every Tuesday\, beginning at 6:00 PM\, and offer a fun-packed 2-hour experience that’s open to the public. \nEvent Highlights: \n\nWeekly Trivia Nights: Set aside your Tuesdays for the ultimate quiz experience that challenges and entertains.\nFood Truck Delights: A food truck will be on-site\, serving up delicious eats to keep your brain fueled.\nPrizes Galore: Top teams stand a chance to win exciting prizes every week\, making every Tuesday a potentially rewarding experience.\nComplimentary Participation: There’s no cost to join in the fun\, making it a great\, budget-friendly night out.\nOpen to All: Whether a seasoned quiz master or a casual participant\, this event promises a great time for everyone in Boerne.\n\nThe trivia night at Free Roam Brewing Company is a perfect blend of competition\, camaraderie\, and local culture. With no entry fee and plenty of prizes up for grabs\, it’s an inviting scene for trivia buffs\, foodies\, and anyone looking for a memorable night out in Boerne. Join the community and prove you’re a know-it-all at San Antonio Trivia by Challenge Entertainment. Don’t miss out on the fun!
URL:https://theboernelife.com/events/trivia-night-at-free-roam/2024-10-08/
LOCATION:Free Roam Brewing Company\, 325 S Main Street\, Boerne\, TX\, 78006\, United States
CATEGORIES:General
ATTACH;FMTTYPE=image/png:https://theboernelife.com/wp-content/uploads/2024/02/Free-Roam-Trivia.png
END:VEVENT
BEGIN:VEVENT
DTSTART;TZID=America/Chicago:20241008T190000
DTEND;TZID=America/Chicago:20241008T230000
DTSTAMP:20260420T080632
CREATED:20240214T102046Z
LAST-MODIFIED:20241222T133003Z
UID:10003830-1728414000-1728428400@theboernelife.com
SUMMARY:Karaoke at Drink Texas Boerne
DESCRIPTION:Come out for karaoke at 7pm and enjoy happy hour until 9pm. Cold beer\, Texas cocktails\, and friendly bartenders right off the freeway!
URL:https://theboernelife.com/events/karaoke-at-drink-texas-boerne/2024-10-08/
LOCATION:Drink Texas Boerne\, 31138 I-10\, Boerne\, TX\, 78006\, United States
CATEGORIES:Music
ATTACH;FMTTYPE=image/png:https://theboernelife.com/wp-content/uploads/2024/02/Drink-Texas-Boerne-Logo.png
END:VEVENT
BEGIN:VEVENT
DTSTART;TZID=America/Chicago:20241009T093000
DTEND;TZID=America/Chicago:20241009T100000
DTSTAMP:20260420T080632
CREATED:20240909T110937Z
LAST-MODIFIED:20240909T110937Z
UID:10003038-1728466200-1728468000@theboernelife.com
SUMMARY:Sensory Studio for Babies
DESCRIPTION:For babies age 0-2. Join in the Libraries Youth Activity room for free play session with engaging toys.
URL:https://theboernelife.com/events/sensory-studio-for-babies-2/2024-10-09/
LOCATION:Patrick Heath Public Library\, 451 N. Main Street\, Boerne\, TX\, 78006\, United States
CATEGORIES:Kids and Family
ATTACH;FMTTYPE=image/png:https://theboernelife.com/wp-content/uploads/2024/02/Boerne-Library-Logo.png
END:VEVENT
BEGIN:VEVENT
DTSTART;TZID=America/Chicago:20241009T100000
DTEND;TZID=America/Chicago:20241009T110000
DTSTAMP:20260420T080632
CREATED:20240730T094514Z
LAST-MODIFIED:20241222T133020Z
UID:10021174-1728468000-1728471600@theboernelife.com
SUMMARY:Whole Body Flow Drop-In Yoga Class
DESCRIPTION:Every Thursday evening at 6:30 pm is a full body vinyasa based Yoga class at Anytime Fitness. You don’t have to be a member! For $15\, you can just show up and join in! Mats & props are available to use during class or you can bring your own.
URL:https://theboernelife.com/events/whole-body-flow-drop-in-yoga-class-2/2024-10-09/
LOCATION:Anytime Fitness Boerne\, 1018 River Rd\, Boerne\, TX\, 78006\, United States
CATEGORIES:Health and Wellness
ATTACH;FMTTYPE=image/jpeg:https://theboernelife.com/wp-content/uploads/2024/04/Drop-In-Yoga.jpg
END:VEVENT
BEGIN:VEVENT
DTSTART;TZID=America/Chicago:20241009T103000
DTEND;TZID=America/Chicago:20241009T110000
DTSTAMP:20260420T080632
CREATED:20240211T192325Z
LAST-MODIFIED:20240909T111223Z
UID:10003299-1728469800-1728471600@theboernelife.com
SUMMARY:Little Listeners Storytime
DESCRIPTION:Storytime with Miss Constance in the Library Youth Activities Room for children ages 2 to 5. Fun includes includes tales\, tunes\, movement\, puppetry\, and crafting.
URL:https://theboernelife.com/events/little-listeners-storytime/2024-10-09/
LOCATION:Patrick Heath Public Library\, 451 N. Main Street\, Boerne\, TX\, 78006\, United States
CATEGORIES:Kids and Family
ATTACH;FMTTYPE=image/png:https://theboernelife.com/wp-content/uploads/2024/02/Boerne-Library-Logo.png
END:VEVENT
BEGIN:VEVENT
DTSTART;TZID=America/Chicago:20241009T130000
DTEND;TZID=America/Chicago:20241009T140000
DTSTAMP:20260420T080632
CREATED:20240221T121952Z
LAST-MODIFIED:20241230T022511Z
UID:10013509-1728478800-1728482400@theboernelife.com
SUMMARY:Ask Alison for Tech Help
DESCRIPTION:Need help with your personal technology? Alison Topper is in the lobby each week to help! No appointments necessary!
URL:https://theboernelife.com/events/ask-alison-for-tech-help/2024-10-09/
LOCATION:Patrick Heath Public Library\, 451 N. Main Street\, Boerne\, TX\, 78006\, United States
CATEGORIES:General
ATTACH;FMTTYPE=image/jpeg:https://theboernelife.com/wp-content/uploads/2024/02/Library-Tech-Help.jpg
END:VEVENT
BEGIN:VEVENT
DTSTART;TZID=America/Chicago:20241009T163000
DTEND;TZID=America/Chicago:20241009T173000
DTSTAMP:20260420T080632
CREATED:20240819T121749Z
LAST-MODIFIED:20250106T120024Z
UID:10006492-1728491400-1728495000@theboernelife.com
SUMMARY:Crafternoon for Teens
DESCRIPTION:Have a teen that’s feeling creative? Then they’ll want to know about the library’s weekly crafting program called “Wednesday Crafternoons.” It meets in the Hub every Wednesday at 4:30 pm for an hour. \nThis perfect for anyone who likes drawing\, crafting\, or trying new mediums.\, “Wednesday Crafternoons” is the place to be. All materials are provided.
URL:https://theboernelife.com/events/crafternoon-for-teens-2/2024-10-09/
LOCATION:Patrick Heath Public Library\, 451 N. Main Street\, Boerne\, TX\, 78006\, United States
CATEGORIES:Arts and Culture
ATTACH;FMTTYPE=image/jpeg:https://theboernelife.com/wp-content/uploads/2024/02/Crafternoon.jpg
END:VEVENT
BEGIN:VEVENT
DTSTART;TZID=America/Chicago:20241009T180000
DTEND;TZID=America/Chicago:20241009T203000
DTSTAMP:20260420T080632
CREATED:20240916T120244Z
LAST-MODIFIED:20241017T112206Z
UID:10021894-1728496800-1728505800@theboernelife.com
SUMMARY:Steak and Vinyl Night at Cibolo Creek Brewing Company
DESCRIPTION:On Wednesday nights\, you won’t want to miss steak night at Cibolo Creek Brewing Company. They usually start serving around 5 pm until they run out. Steaks are smoked out back and we can confirm – they’re delicious. \nBut not only is it steak night\, but CCBC also has vinyl night as well. What’s that? Bring your own vinyl\, and they’ll play it while you eat!
URL:https://theboernelife.com/events/steak-night-live-music-cibolo/2024-10-09/
LOCATION:Cibolo Creek Brewing Company\, 448 South Main St\, Boerne\, TX\, 78006\, United States
CATEGORIES:Kids and Family,Music
ATTACH;FMTTYPE=image/jpeg:https://theboernelife.com/wp-content/uploads/2024/03/live-music-cibolo-creek-brewing.jpg
END:VEVENT
BEGIN:VEVENT
DTSTART;TZID=America/Chicago:20241009T180000
DTEND;TZID=America/Chicago:20241009T210000
DTSTAMP:20260420T080632
CREATED:20241007T114139Z
LAST-MODIFIED:20241007T114139Z
UID:10022523-1728496800-1728507600@theboernelife.com
SUMMARY:Social Hour Comedy Night
DESCRIPTION:All Star Comedy Night at Pure Country Bar & Grill in Boerne is happening on October 9th at 7:00 PM. The show features nationally touring headliners and some of Texas’ funniest comedians\, with appearances on LMAOTV\, Prime\, Tubi\, Apple TV\, and more. \nDoors open at 6:00 PM\, and the show starts at 7:00 PM. Arrive early to grab the best seats or RSVP directly with Pure Country. Don’t miss this night of laughs and great company!
URL:https://theboernelife.com/events/social-hour-comedy-night/
LOCATION:Pure Country BBQ & Grill\, 1481 S Main St\, Boerne\, TX\, 78006\, United States
CATEGORIES:Food and Drink
ATTACH;FMTTYPE=image/jpeg:https://theboernelife.com/wp-content/uploads/2024/10/Social-Hour-Comedy-Night.jpg
END:VEVENT
BEGIN:VEVENT
DTSTART;TZID=America/Chicago:20241009T183000
DTEND;TZID=America/Chicago:20241009T203000
DTSTAMP:20260420T080632
CREATED:20240925T165042Z
LAST-MODIFIED:20250618T105925Z
UID:10022444-1728498600-1728505800@theboernelife.com
SUMMARY:Trivia Night at Sauced
DESCRIPTION:Every Wednesday\, head out to Sauced Wing Bar for trivia night with Austin! It starts at six thirty-ish. Arrive early and you can hit Happy Hour!
URL:https://theboernelife.com/events/trivia-night-at-sauced/2024-10-09/
LOCATION:Sauced Wing Bar\, 215 W Bandera Rd #101\, Boerne\, TX\, 78006\, United States
CATEGORIES:General
ATTACH;FMTTYPE=image/jpeg:https://theboernelife.com/wp-content/uploads/2024/09/Sauced-Wing-Bar-Trivia.jpg
END:VEVENT
BEGIN:VEVENT
DTSTART;TZID=America/Chicago:20241010T093000
DTEND;TZID=America/Chicago:20241010T100000
DTSTAMP:20260420T080632
CREATED:20240909T111035Z
LAST-MODIFIED:20250106T120012Z
UID:10022053-1728552600-1728554400@theboernelife.com
SUMMARY:Book Babies
DESCRIPTION:Join Miss Libby in the Community Room at the Library every Thursday with a special time for your 0-2 year old babies. This includes a storytime with stories\, songs\, movement\, and maybe even bubbles.
URL:https://theboernelife.com/events/book-babies-2-2-2-2/2024-10-10/
LOCATION:Patrick Heath Public Library\, 451 N. Main Street\, Boerne\, TX\, 78006\, United States
CATEGORIES:Kids and Family
ATTACH;FMTTYPE=image/jpeg:https://theboernelife.com/wp-content/uploads/2024/03/Boerne-Library-1.jpg
END:VEVENT
BEGIN:VEVENT
DTSTART;TZID=America/Chicago:20241010T133000
DTEND;TZID=America/Chicago:20241010T153000
DTSTAMP:20260420T080632
CREATED:20240305T004117Z
LAST-MODIFIED:20250116T113432Z
UID:10012067-1728567000-1728574200@theboernelife.com
SUMMARY:Drawing Club for Adults
DESCRIPTION:The Drawing Club meets each week in the conference room. This group is not for beginners looking to take a class on drawing. It’s a group of people who love to draw that meet to get better.
URL:https://theboernelife.com/events/drawing-club-for-adults/2024-10-10/
LOCATION:Patrick Heath Public Library\, 451 N. Main Street\, Boerne\, TX\, 78006\, United States
CATEGORIES:Arts and Culture
ATTACH;FMTTYPE=image/png:https://theboernelife.com/wp-content/uploads/2024/02/Boerne-Library-Logo.png
END:VEVENT
BEGIN:VEVENT
DTSTART;TZID=America/Chicago:20241010T150000
DTEND;TZID=America/Chicago:20241010T160000
DTSTAMP:20260420T080632
CREATED:20240321T111822Z
LAST-MODIFIED:20251229T121634Z
UID:10013057-1728572400-1728576000@theboernelife.com
SUMMARY:Tech Help in the Lobby
DESCRIPTION:Have a tech question you can’t find the answer to? Visit the Tech Help table in the library and get free assistance. Walk-ins only. No appointments.
URL:https://theboernelife.com/events/tech-help-in-the-lobby/2024-10-10/
LOCATION:Patrick Heath Public Library\, 451 N. Main Street\, Boerne\, TX\, 78006\, United States
CATEGORIES:General
ATTACH;FMTTYPE=image/jpeg:https://theboernelife.com/wp-content/uploads/2024/02/Library-Tech-Help.jpg
END:VEVENT
BEGIN:VEVENT
DTSTART;TZID=America/Chicago:20241010T153000
DTEND;TZID=America/Chicago:20241010T163000
DTSTAMP:20260420T080632
CREATED:20240215T124134Z
LAST-MODIFIED:20240909T111321Z
UID:10022091-1728574200-1728577800@theboernelife.com
SUMMARY:Game On
DESCRIPTION:After school\, meet to play Nintendo Switch! Located in the Youth Activity Room.
URL:https://theboernelife.com/events/game-on/2024-10-10/
LOCATION:Patrick Heath Public Library\, 451 N. Main Street\, Boerne\, TX\, 78006\, United States
CATEGORIES:Kids and Family
ATTACH;FMTTYPE=image/jpeg:https://theboernelife.com/wp-content/uploads/2024/03/Boerne-Library-2.jpg
END:VEVENT
BEGIN:VEVENT
DTSTART;TZID=America/Chicago:20241010T170000
DTEND;TZID=America/Chicago:20241010T200000
DTSTAMP:20260420T080632
CREATED:20240220T012047Z
LAST-MODIFIED:20250108T113306Z
UID:10005646-1728579600-1728590400@theboernelife.com
SUMMARY:Live Music and Burgers at Black Board Bar B Q
DESCRIPTION:Every Thursday evening from 5-8pm\, visit Black Board Bar B Q for live music and half-pound ground beef brisket burgers on garlic tallow toasted buns. \nAnd if you’re a singer-songwriter or musician\, make sure to grab your instruments & voices and join the lineup!
URL:https://theboernelife.com/events/live-music-and-burgers-at-black-board-bar-b-q/2024-10-10/
LOCATION:Black Board Bar B Q\, 1123 Sisterdale Rd\, Sisterdale\, TX\, 78006\, United States
CATEGORIES:Music
ATTACH;FMTTYPE=image/png:https://theboernelife.com/wp-content/uploads/2024/02/Black-Board-Bar-B-Q-Live-Music-and-Burger-Night.png
END:VEVENT
BEGIN:VEVENT
DTSTART;TZID=America/Chicago:20241010T180000
DTEND;TZID=America/Chicago:20241010T200000
DTSTAMP:20260420T080632
CREATED:20240411T101722Z
LAST-MODIFIED:20260208T132708Z
UID:10016867-1728583200-1728590400@theboernelife.com
SUMMARY:Poetry Open Mic Night by The Hill Country Poets
DESCRIPTION:Gather outside The Boerne Bookshop for poetry open mic night! Share your poetry or just come and listen. Grab a drink from Richter Tavern and get ready for a good time! \n 
URL:https://theboernelife.com/events/boerne-bookshop-poetry-open-mic-night/2024-10-10/
LOCATION:The Boerne Bookshop\, 153 S Main Street\, Boerne\, TX\, 78006\, United States
CATEGORIES:Arts and Culture
ATTACH;FMTTYPE=image/jpeg:https://theboernelife.com/wp-content/uploads/2024/04/Open-Mic-Poetry.jpg
END:VEVENT
END:VCALENDAR