BEGIN:VCALENDAR
VERSION:2.0
PRODID:-//The Boerne Life - ECPv6.15.15//NONSGML v1.0//EN
CALSCALE:GREGORIAN
METHOD:PUBLISH
X-WR-CALNAME:The Boerne Life
X-ORIGINAL-URL:https://theboernelife.com
X-WR-CALDESC:Events for The Boerne Life
REFRESH-INTERVAL;VALUE=DURATION:PT1H
X-Robots-Tag:noindex
X-PUBLISHED-TTL:PT1H
BEGIN:VTIMEZONE
TZID:America/Chicago
BEGIN:DAYLIGHT
TZOFFSETFROM:-0600
TZOFFSETTO:-0500
TZNAME:CDT
DTSTART:20230312T080000
END:DAYLIGHT
BEGIN:STANDARD
TZOFFSETFROM:-0500
TZOFFSETTO:-0600
TZNAME:CST
DTSTART:20231105T070000
END:STANDARD
BEGIN:DAYLIGHT
TZOFFSETFROM:-0600
TZOFFSETTO:-0500
TZNAME:CDT
DTSTART:20240310T080000
END:DAYLIGHT
BEGIN:STANDARD
TZOFFSETFROM:-0500
TZOFFSETTO:-0600
TZNAME:CST
DTSTART:20241103T070000
END:STANDARD
BEGIN:DAYLIGHT
TZOFFSETFROM:-0600
TZOFFSETTO:-0500
TZNAME:CDT
DTSTART:20250309T080000
END:DAYLIGHT
BEGIN:STANDARD
TZOFFSETFROM:-0500
TZOFFSETTO:-0600
TZNAME:CST
DTSTART:20251102T070000
END:STANDARD
END:VTIMEZONE
BEGIN:VEVENT
DTSTART;TZID=America/Chicago:20241026T140000
DTEND;TZID=America/Chicago:20241026T160000
DTSTAMP:20260424T102032
CREATED:20241023T161410Z
LAST-MODIFIED:20241023T195512Z
UID:10022766-1729951200-1729958400@theboernelife.com
SUMMARY:Fair Oaks Ranch Trunk or Treat at HEB
DESCRIPTION:Head to HEB in Fair Oaks to take part in their Trunk or Treat. s793aa@heb.com to reserve your spot!
URL:https://theboernelife.com/events/fair-oaks-ranch-trunk-or-treat-at-heb/
LOCATION:HEB Fair Oaks\, 29388 Interstate 10\, Boerne\, TX\, 78006\, United States
CATEGORIES:Holiday,Kids and Family
ATTACH;FMTTYPE=image/jpeg:https://theboernelife.com/wp-content/uploads/2024/10/Trunk-or-Treat-1.jpg
END:VEVENT
BEGIN:VEVENT
DTSTART;TZID=America/Chicago:20241026T140000
DTEND;TZID=America/Chicago:20241026T170000
DTSTAMP:20260424T102032
CREATED:20241001T220815Z
LAST-MODIFIED:20241001T220815Z
UID:10022501-1729951200-1729962000@theboernelife.com
SUMMARY:Howl-O-Ween Pet Fair
DESCRIPTION:Cibolo Creek Vet Hospital is putting on a free Client Appreciation event just in time for Halloween. Come celebrate with live music\, food\, drinks\, games\, and a pet costume contest. \nThere will be plenty of fun for the whole family\, including a raffle and lots of activities. Get your pet’s costume ready\, gather the kids\, friends\, and family\, and get ready to party!
URL:https://theboernelife.com/events/howl-o-ween-pet-fair/
LOCATION:Kendall County Fairgrounds\, 1307 River Road\, Boerne\, TX\, 78006\, United States
CATEGORIES:Holiday,Kids and Family,Outdoors
ATTACH;FMTTYPE=image/jpeg:https://theboernelife.com/wp-content/uploads/2024/10/Howl-O-Ween-Pet-Fair.jpg
END:VEVENT
BEGIN:VEVENT
DTSTART;TZID=America/Chicago:20241026T150000
DTEND;TZID=America/Chicago:20241026T230000
DTSTAMP:20260424T102032
CREATED:20240910T102942Z
LAST-MODIFIED:20250829T104014Z
UID:10022150-1729954800-1729983600@theboernelife.com
SUMMARY:Open Bowling at Boerne Turn Verein
DESCRIPTION:The Boerne Turn Verein is a non-profit bowling alley that’s been in Boerne since 1906. It’s a blast from the past. Most of the year\, it’s members-only league play\, except Saturday nights from 3 pm to 11 pm when the community is welcome to drop in and play. \nRates are $5.50 per game\, $3.50 for shoe rentals. \n 
URL:https://theboernelife.com/events/open-bowling-at-boerne-turn-verein/2024-10-26/
LOCATION:Boerne Turn Verin\, 221 E. Theissen\, Boerne\, TX\, 78006\, United States
CATEGORIES:Kids and Family
ATTACH;FMTTYPE=image/jpeg:https://theboernelife.com/wp-content/uploads/2024/02/Boerne-Turn-Verin.jpg
END:VEVENT
BEGIN:VEVENT
DTSTART;TZID=America/Chicago:20241026T170000
DTEND;TZID=America/Chicago:20241026T220000
DTSTAMP:20260424T102032
CREATED:20241023T200115Z
LAST-MODIFIED:20241023T200115Z
UID:10022767-1729962000-1729980000@theboernelife.com
SUMMARY:Halloween Bash at Pure Country
DESCRIPTION:A Halloween bash is coming up with plenty of activities to enjoy! The event will feature Trunk or Treat from 5-8 pm\, Sip and Shop from 4-9 pm\, and live music by the Charlie Bravo Band from 7-10 pm. Vendors interested in participating can message the organizers\, but spots are limited. It’s sure to be a fun-filled evening with something for everyone!
URL:https://theboernelife.com/events/halloween-bash-at-pure-country/
LOCATION:Pure Country BBQ & Grill\, 1481 S Main St\, Boerne\, TX\, 78006\, United States
CATEGORIES:Holiday,Kids and Family
ATTACH;FMTTYPE=image/jpeg:https://theboernelife.com/wp-content/uploads/2024/10/Halloween-Bash-Pure-Country.jpg
END:VEVENT
BEGIN:VEVENT
DTSTART;TZID=America/Chicago:20241026T170000
DTEND;TZID=America/Chicago:20241026T235900
DTSTAMP:20260424T102032
CREATED:20240301T121745Z
LAST-MODIFIED:20240308T110107Z
UID:10009797-1729962000-1729987140@theboernelife.com
SUMMARY:Tejas Rodeo Presents Saturday Night Rodeo
DESCRIPTION:Every Saturday night from March through November\, visitors can immerse themselves in the thrill of the action-packed rodeo and live music series at Tejas Rodeo. \nBeyond the exhilarating open pro-rodeo performances\, Tejas Rodeo boasts the Tejas Steakhouse and Saloon\, renowned for its award-winning menu and cozy indoor dining atmosphere. \nOutside\, guests are treated to a variety of concessions offering scrumptious Texas BBQ\, burgers\, sandwiches\, along with a selection of soda\, beer\, wine\, and cocktails. Following the rodeo\, the entertainment continues with live music and dancing until 1:00 am. Attendees are also invited to try their luck on the mechanical bull or pose with the life-sized stuffed bull for a memorable photo. \n\nGates open at 5pm\nPre-show starts at 7pm\nRodeo starts at 7:30pm\nLive music and dancing starts at 9pm\n\nAges 13+ are $30. Kids 3-12 are $20. Children 2 an under are free. \nOrder your tickets here.
URL:https://theboernelife.com/events/tejas-rodeo-presents-saturday-night-rodeo/2024-10-26/
LOCATION:Tejas Rodeo\, 401 Obst Rd\, Bulverde\, TX\, 78163\, United States
CATEGORIES:Kids and Family,Music,Outdoors
ATTACH;FMTTYPE=image/png:https://theboernelife.com/wp-content/uploads/2024/03/Tejas-Rodeo.png
END:VEVENT
BEGIN:VEVENT
DTSTART;TZID=America/Chicago:20241026T180000
DTEND;TZID=America/Chicago:20241026T200000
DTSTAMP:20260424T102032
CREATED:20241023T153549Z
LAST-MODIFIED:20241023T160746Z
UID:10022764-1729965600-1729972800@theboernelife.com
SUMMARY:Fair Oaks Ranch Police Trunk or Treat
DESCRIPTION:The Fair Oaks Ranch Police Department is hosting its annual Trunk or Treat event on Saturday\, October 26\, from 6 pm to 8 pm at Fair Oaks Ranch Elementary. Attendees can enjoy a fun evening filled with food\, games\, and prizes. \nThose attending the event are asked to park at the elementary school for convenience. Come join in the Halloween festivities and bring the family for a night of safe and spooky fun!
URL:https://theboernelife.com/events/fair-oaks-ranch-police-trunk-or-treat/
LOCATION:Fair Oaks Elementary\, 29085 Ralph Fair Rd\, Fair Oaks Ranch\, Texas\, 78015
CATEGORIES:Holiday,Kids and Family
ATTACH;FMTTYPE=image/jpeg:https://theboernelife.com/wp-content/uploads/2024/10/Fair-Oaks-Trunk-or-Treat.jpg
END:VEVENT
BEGIN:VEVENT
DTSTART;TZID=America/Chicago:20241026T180000
DTEND;TZID=America/Chicago:20241026T210000
DTSTAMP:20260424T102032
CREATED:20240304T024944Z
LAST-MODIFIED:20250214T223825Z
UID:10026129-1729965600-1729976400@theboernelife.com
SUMMARY:Live Music at Free Roam
DESCRIPTION:The Free Roam Brewing Company has a family friendly beer garden with games for the kids and a flat bed stage that hosts some of the coolest live music in town. To see who is playing tonight\, we recommend checking their Instagram. 
URL:https://theboernelife.com/events/live-music-at-free-roam/2024-10-26/
LOCATION:Free Roam Brewing Company\, 325 S Main Street\, Boerne\, TX\, 78006\, United States
CATEGORIES:Music,Outdoors
ATTACH;FMTTYPE=image/jpeg:https://theboernelife.com/wp-content/uploads/2024/03/Live-Music-at-Free-Roam.jpg
END:VEVENT
BEGIN:VEVENT
DTSTART;TZID=America/Chicago:20241026T183000
DTEND;TZID=America/Chicago:20241026T213000
DTSTAMP:20260424T102032
CREATED:20240229T102833Z
LAST-MODIFIED:20240917T144742Z
UID:10007289-1729967400-1729978200@theboernelife.com
SUMMARY:Live Music at Pure Country BBQ & Grill
DESCRIPTION:Head out to Pure Country BBQ & Grill on Friday or Saturday night for live music\, good food and drink\, and the perfect place to let the kids run around and play. \nFor current lineups\, you can check here.
URL:https://theboernelife.com/events/pure-country-bbq-grill/2024-10-26/
LOCATION:Pure Country BBQ & Grill\, 1481 S Main St\, Boerne\, TX\, 78006\, United States
CATEGORIES:Music
ATTACH;FMTTYPE=image/jpeg:https://theboernelife.com/wp-content/uploads/2024/02/Pure-Country-BBQ-Grill.jpg
END:VEVENT
BEGIN:VEVENT
DTSTART;TZID=America/Chicago:20241026T183000
DTEND;TZID=America/Chicago:20241026T223000
DTSTAMP:20260424T102032
CREATED:20240210T133742Z
LAST-MODIFIED:20240726T201802Z
UID:10001250-1729967400-1729981800@theboernelife.com
SUMMARY:Singer Songwriter Series at La Cascada Table & Bar
DESCRIPTION:Located in Tapatio Springs\, La Cascada Table & Bar believes that great food and great music go hand-in-hand in the Texas Hill Country. That’s why every weekend they feature live music on the patio with amazing views of the golf course and hills. Visit their site for information on who is playing next. \n 
URL:https://theboernelife.com/events/singer-songwriter-series-at-la-cascada-table-bar/2024-10-26/
LOCATION:La Cascada Table & Bar\, 1 Resort Way\, Boerne\, TX\, 78006\, United States
CATEGORIES:Music
ATTACH;FMTTYPE=image/png:https://theboernelife.com/wp-content/uploads/2024/02/La-Cascada-Logo.png
END:VEVENT
BEGIN:VEVENT
DTSTART;TZID=America/Chicago:20241026T190000
DTEND;TZID=America/Chicago:20241026T213000
DTSTAMP:20260424T102032
CREATED:20240902T105458Z
LAST-MODIFIED:20240902T105521Z
UID:10021905-1729969200-1729978200@theboernelife.com
SUMMARY:Live Music at Cibolo Creek Brewing Company
DESCRIPTION:Cold beer\, good food\, and live music on the back patio every Saturday. Check out their Facebook to see who plays today.
URL:https://theboernelife.com/events/live-music-at-cibolo-creek-brewing-company-2/2024-10-26/
LOCATION:Cibolo Creek Brewing Company\, 448 South Main St\, Boerne\, TX\, 78006\, United States
CATEGORIES:Kids and Family,Music
ATTACH;FMTTYPE=image/jpeg:https://theboernelife.com/wp-content/uploads/2024/02/Cibolo-Creek-Brewing-Company.jpg
END:VEVENT
BEGIN:VEVENT
DTSTART;TZID=America/Chicago:20241026T190000
DTEND;TZID=America/Chicago:20241026T220000
DTSTAMP:20260424T102032
CREATED:20240717T221600Z
LAST-MODIFIED:20250130T153338Z
UID:10020149-1729969200-1729980000@theboernelife.com
SUMMARY:Live at Lost Oak Saturday Nights
DESCRIPTION:Every Saturday evening\, Live Oak Cellars hosts live music from 7-10 pm. Visit for great wine\, charcuterie\, and cigars!
URL:https://theboernelife.com/events/live-at-lost-oak-saturday-nights/2024-10-26/
LOCATION:Lost Oak Cellars\, 111 Rosewood Ave\, Boerne\, TX\, 78006\, United States
CATEGORIES:Food and Drink,Music
ATTACH;FMTTYPE=image/jpeg:https://theboernelife.com/wp-content/uploads/2024/11/Lost-Oak-Cellars-7.jpg
END:VEVENT
BEGIN:VEVENT
DTSTART;TZID=America/Chicago:20241026T200000
DTEND;TZID=America/Chicago:20241026T220000
DTSTAMP:20260424T102032
CREATED:20241011T121800Z
LAST-MODIFIED:20241025T114952Z
UID:10022810-1729972800-1729980000@theboernelife.com
SUMMARY:Honky Tonk Hissy Fit: Boerne Theatre
DESCRIPTION:Experience the small-town showdown of Honky Tonk Hissy Fit at Boerne Community Theatre! Follow Mayor Joveeta and her colorful crew as they fight to protect their beloved Doublewide from big-city corporate threats. Filled with laughter\, Southern charm\, and a touch of drama\, this show delivers a fun and heartfelt experience for all. Don’t miss out on the excitement—catch a performance and enjoy a night of comedy and small-town spirit! \nGet your tickets here.
URL:https://theboernelife.com/events/honky-tonk-hissy-fit-boerne-theatre/2024-10-26/
LOCATION:Boerne Community Theatre\, 907 E. Blanco Rd.\, Boerne\, TX\, 78006\, United States
CATEGORIES:Arts and Culture
ATTACH;FMTTYPE=image/jpeg:https://theboernelife.com/wp-content/uploads/2024/10/Honky-Tonk-Hissy-Fit.jpg
END:VEVENT
BEGIN:VEVENT
DTSTART;TZID=America/Chicago:20241026T210000
DTEND;TZID=America/Chicago:20241026T235900
DTSTAMP:20260424T102032
CREATED:20240223T035249Z
LAST-MODIFIED:20250214T223935Z
UID:10010930-1729976400-1729987140@theboernelife.com
SUMMARY:Live Music at Salvador Dobbs
DESCRIPTION:Every Friday and Saturday night from 9-12pm\, have some drinks and catch live music at Salvador Dobbs. Lineup changes regularly\, so check their Facebook page to see who is playing tonight!
URL:https://theboernelife.com/events/live-music-at-salvador-dobbs-2/2024-10-26/
LOCATION:Salvador Dobbs\, 512 River Rd\, Boerne\, TX\, 78006\, United States
CATEGORIES:Music
ATTACH;FMTTYPE=image/jpeg:https://theboernelife.com/wp-content/uploads/2024/03/Salvador-Dobbs-Live-Music.jpg
END:VEVENT
BEGIN:VEVENT
DTSTART;TZID=America/Chicago:20241027T023000
DTEND;TZID=America/Chicago:20241027T170000
DTSTAMP:20260424T102032
CREATED:20241011T121800Z
LAST-MODIFIED:20241025T114952Z
UID:10022811-1729996200-1730048400@theboernelife.com
SUMMARY:Honky Tonk Hissy Fit: Boerne Theatre
DESCRIPTION:Experience the small-town showdown of Honky Tonk Hissy Fit at Boerne Community Theatre! Follow Mayor Joveeta and her colorful crew as they fight to protect their beloved Doublewide from big-city corporate threats. Filled with laughter\, Southern charm\, and a touch of drama\, this show delivers a fun and heartfelt experience for all. Don’t miss out on the excitement—catch a performance and enjoy a night of comedy and small-town spirit! \nGet your tickets here.
URL:https://theboernelife.com/events/honky-tonk-hissy-fit-boerne-theatre/2024-10-27/
LOCATION:Boerne Community Theatre\, 907 E. Blanco Rd.\, Boerne\, TX\, 78006\, United States
CATEGORIES:Arts and Culture
ATTACH;FMTTYPE=image/jpeg:https://theboernelife.com/wp-content/uploads/2024/10/Honky-Tonk-Hissy-Fit.jpg
END:VEVENT
BEGIN:VEVENT
DTSTART;TZID=America/Chicago:20241027T130000
DTEND;TZID=America/Chicago:20241027T150000
DTSTAMP:20260424T102032
CREATED:20241023T154549Z
LAST-MODIFIED:20241023T154549Z
UID:10022765-1730034000-1730041200@theboernelife.com
SUMMARY:Workshop: Places Toxic Chemicals Hide in Your Home
DESCRIPTION:This workshop is being due to popular request. Head to The Wellness Hub to learn where toxic chemicals are hiding in your home. Make sure to register to guarantee your spot: https://elisamclure.com/events
URL:https://theboernelife.com/events/workshop-places-toxic-chemicals-hide-in-your-home/
LOCATION:The Wellness Hub\, 806 E Blanco Rd\, Boerne\, TX\, 78006\, United States
CATEGORIES:Health and Wellness
ATTACH;FMTTYPE=image/jpeg:https://theboernelife.com/wp-content/uploads/2024/10/Places-Chemical-Hide.jpg
END:VEVENT
BEGIN:VEVENT
DTSTART;TZID=America/Chicago:20241027T140000
DTEND;TZID=America/Chicago:20241027T160000
DTSTAMP:20260424T102032
CREATED:20240718T115821Z
LAST-MODIFIED:20250620T105330Z
UID:10020497-1730037600-1730044800@theboernelife.com
SUMMARY:Free Community Brazilian Jiu Jitsu Class
DESCRIPTION:Are you interested in Brazilian Jiu Jitsu? Then come out to Black Diamond Martial Arts off School Street right near I-10 and try out their free Community BJJ class every Sunday from 2-4 pm.\n\nBlack Diamond Martial Arts is a family-owned establishment. For more information\, email blackdiamondmartialartsboerne@gmail.com.
URL:https://theboernelife.com/events/free-community-brazilian-jiu-jitsu-class/2024-10-27/
LOCATION:Black Diamond Martial Arts\, 645 South School Street Suite 201\, Boerne\, TX\, 78006\, United States
CATEGORIES:Health and Wellness
ATTACH;FMTTYPE=image/jpeg:https://theboernelife.com/wp-content/uploads/2024/07/Brazilian-Jiu-Jitsu.jpg
END:VEVENT
BEGIN:VEVENT
DTSTART;TZID=America/Chicago:20241027T140000
DTEND;TZID=America/Chicago:20241027T160000
DTSTAMP:20260424T102032
CREATED:20241022T213230Z
LAST-MODIFIED:20241022T213409Z
UID:10022758-1730037600-1730044800@theboernelife.com
SUMMARY:FUMC Trunk or Treat
DESCRIPTION:Fun and safe trick or treating at First United Methodist Church. Don’t miss it! There will be free food\, inflatables\, and more!
URL:https://theboernelife.com/events/fumc-trunk-or-treat/
LOCATION:First United Methodist Church Boerne\, 205 James St\, Boerne\, TX\, 78006\, United States
CATEGORIES:Holiday,Kids and Family
ATTACH;FMTTYPE=image/jpeg:https://theboernelife.com/wp-content/uploads/2024/10/FUMC-Trunk-or-Treat.jpg
END:VEVENT
BEGIN:VEVENT
DTSTART;TZID=America/Chicago:20241027T140000
DTEND;TZID=America/Chicago:20241027T170000
DTSTAMP:20260424T102032
CREATED:20240902T105639Z
LAST-MODIFIED:20240902T105639Z
UID:10021918-1730037600-1730048400@theboernelife.com
SUMMARY:Live Music at Cibolo Creek Brewing Company
DESCRIPTION:Cold beer\, good food\, and live music on the back patio every Sunday. Check out their Facebook to see who plays today.
URL:https://theboernelife.com/events/live-music-at-cibolo-creek-brewing-company-3/2024-10-27/
LOCATION:Cibolo Creek Brewing Company\, 448 South Main St\, Boerne\, TX\, 78006\, United States
CATEGORIES:Kids and Family,Music
ATTACH;FMTTYPE=image/jpeg:https://theboernelife.com/wp-content/uploads/2024/02/Cibolo-Creek-Brewing-Company.jpg
END:VEVENT
BEGIN:VEVENT
DTSTART;TZID=America/Chicago:20241027T143000
DTEND;TZID=America/Chicago:20241027T163000
DTSTAMP:20260424T102032
CREATED:20241023T200452Z
LAST-MODIFIED:20241023T200540Z
UID:10022768-1730039400-1730046600@theboernelife.com
SUMMARY:Trunk or Treat at St. Peter
DESCRIPTION:Head over to St. Peter on Sunday for trunk or treat. Everyone is welcome\, whether you attend the church or not. And if you’d like to sign up to host a trunk\, you can sign up here: https://www.signupgenius.com/…/10C0E4DAAA72FAAFBC61…
URL:https://theboernelife.com/events/trunk-or-treat-at-st-peter/
LOCATION:Saint Peter the Apostle Catholic Church\, 202 W Kronkosky St\, Boerne\, TX\, 78006\, United States
CATEGORIES:Holiday,Kids and Family
ATTACH;FMTTYPE=image/jpeg:https://theboernelife.com/wp-content/uploads/2024/10/St.-Peter-Trunk-or-Treat.jpg
END:VEVENT
BEGIN:VEVENT
DTSTART;TZID=America/Chicago:20241027T170000
DTEND;TZID=America/Chicago:20241027T190000
DTSTAMP:20260424T102032
CREATED:20241023T200945Z
LAST-MODIFIED:20241023T200945Z
UID:10022769-1730048400-1730055600@theboernelife.com
SUMMARY:Spring Creek UMC Trunk or Treat
DESCRIPTION:Bring your family and friends to the Trunk or Treat event on Sunday\, October 27\, at 5:00 pm at Spring Creek UMC! Enjoy a fun-filled evening with decorated trunks for trick-or-treating and games for everyone to play. The event will take place at 9200 Dietz Elkhorn Rd.\, Fair Oaks Ranch\, TX 78015. Don’t miss out on this exciting community celebration!
URL:https://theboernelife.com/events/spring-creek-umc-trunk-or-treat/
LOCATION:Spring Creek UMC\, 9200 Dietz Elkhorn\, Fair Oaks Ranch\, Texas\, 78015
CATEGORIES:Holiday,Kids and Family
ATTACH;FMTTYPE=image/jpeg:https://theboernelife.com/wp-content/uploads/2024/10/Spring-Creek-Trunk-or-Treat.jpg
END:VEVENT
BEGIN:VEVENT
DTSTART;TZID=America/Chicago:20241028T100000
DTEND;TZID=America/Chicago:20241028T110000
DTSTAMP:20260424T102032
CREATED:20240602T122459Z
LAST-MODIFIED:20250217T110953Z
UID:10017446-1730109600-1730113200@theboernelife.com
SUMMARY:Tech Time
DESCRIPTION:Leslie Kirk will be in the lobby each Monday\, from 10am to 11am to help you with your technology questions. Walk-ins only.
URL:https://theboernelife.com/events/tech-time/2024-10-28/
LOCATION:Patrick Heath Public Library\, 451 N. Main Street\, Boerne\, TX\, 78006\, United States
CATEGORIES:General
ATTACH;FMTTYPE=image/jpeg:https://theboernelife.com/wp-content/uploads/2024/02/Library-Tech-Help.jpg
END:VEVENT
BEGIN:VEVENT
DTSTART;TZID=America/Chicago:20241028T120000
DTEND;TZID=America/Chicago:20241028T130000
DTSTAMP:20260424T102032
CREATED:20240520T112108Z
LAST-MODIFIED:20240826T015106Z
UID:10021809-1730116800-1730120400@theboernelife.com
SUMMARY:Reality Readers
DESCRIPTION:The members of this group enjoy reading about history\, biographies\, and current events. The monthly discussion is facilitated by Caren Creech. It’s free and open to the public\, and no registration is required.
URL:https://theboernelife.com/events/reality-readers/2024-10-28/
LOCATION:Patrick Heath Public Library\, 451 N. Main Street\, Boerne\, TX\, 78006\, United States
CATEGORIES:Arts and Culture
ATTACH;FMTTYPE=image/jpeg:https://theboernelife.com/wp-content/uploads/2024/05/Reality-Readers.jpg
END:VEVENT
BEGIN:VEVENT
DTSTART;VALUE=DATE:20241029
DTEND;VALUE=DATE:20241030
DTSTAMP:20260424T102032
CREATED:20241028T103641Z
LAST-MODIFIED:20250131T221208Z
UID:10022817-1730160000-1730246399@theboernelife.com
SUMMARY:Steak Night All Day at Pure Country
DESCRIPTION:Looking for a steak special? Head over to Pure Country\, where steak night is now all day! For $20\, get a steak\, potato\, and green beans! Opens at 11 AM.
URL:https://theboernelife.com/events/steak-night-all-day-at-pure-country/2024-10-29/
LOCATION:Pure Country BBQ & Grill\, 1481 S Main St\, Boerne\, TX\, 78006\, United States
CATEGORIES:Food and Drink
ATTACH;FMTTYPE=image/jpeg:https://theboernelife.com/wp-content/uploads/2024/10/Steak-Night-at-Pure-Country-scaled.jpg
END:VEVENT
BEGIN:VEVENT
DTSTART;TZID=America/Chicago:20241029T093000
DTEND;TZID=America/Chicago:20241029T100000
DTSTAMP:20260424T102032
CREATED:20240909T110843Z
LAST-MODIFIED:20250106T115513Z
UID:10022031-1730194200-1730196000@theboernelife.com
SUMMARY:Rhyme and Shine
DESCRIPTION:Storytime for babies aged 0-2. There will be stories\, music\, and more fun.
URL:https://theboernelife.com/events/rhyme-and-shine/2024-10-29/
LOCATION:Patrick Heath Public Library\, 451 N. Main Street\, Boerne\, TX\, 78006\, United States
CATEGORIES:Kids and Family
ATTACH;FMTTYPE=image/jpeg:https://theboernelife.com/wp-content/uploads/2024/09/Rhyme-Shine.jpg
END:VEVENT
BEGIN:VEVENT
DTSTART;TZID=America/Chicago:20241029T153000
DTEND;TZID=America/Chicago:20241029T160000
DTSTAMP:20260424T102032
CREATED:20240909T112032Z
LAST-MODIFIED:20240909T112032Z
UID:10022105-1730215800-1730217600@theboernelife.com
SUMMARY:Paws 4 Reading
DESCRIPTION:Come after school and share a book with a trained\, certified therapy dog!
URL:https://theboernelife.com/events/paws-4-reading/2024-10-29/
LOCATION:Patrick Heath Public Library\, 451 N. Main Street\, Boerne\, TX\, 78006\, United States
CATEGORIES:Kids and Family
ATTACH;FMTTYPE=image/jpeg:https://theboernelife.com/wp-content/uploads/2024/03/Boerne-Library-2.jpg
END:VEVENT
BEGIN:VEVENT
DTSTART;TZID=America/Chicago:20241029T160000
DTEND;TZID=America/Chicago:20241029T190000
DTSTAMP:20260424T102032
CREATED:20240813T224017Z
LAST-MODIFIED:20241230T020027Z
UID:10021405-1730217600-1730228400@theboernelife.com
SUMMARY:Boerne Farmers Market
DESCRIPTION:The Boerne Farmers Market is a hub for locally-sourced produce\, artisan goods\, and prepared foods\, fostering a community that values sustainability and healthy living. It’s a place where local farmers\, homesteaders\, ranchers\, and artisans from the Texas Hill Country come together\, offering more than just shopping but a vibrant community event to explore and enjoy. \nThere’s also now a Kids Market\, where young entrepreneurs can sell their goods. You can learn more about how to get your kids involved in that here. 
URL:https://theboernelife.com/events/boerne-farmers-market-2-2/2024-10-29/
LOCATION:Boerne Farmers Market\, 402 East Blanco Road\, Boerne\, TX\, 78006\, United States
CATEGORIES:Food and Drink,Outdoors
ATTACH;FMTTYPE=image/jpeg:https://theboernelife.com/wp-content/uploads/2024/04/Boerne-Farmers-Market.jpg
END:VEVENT
BEGIN:VEVENT
DTSTART;TZID=America/Chicago:20241029T160000
DTEND;TZID=America/Chicago:20241029T190000
DTSTAMP:20260424T102032
CREATED:20241001T222700Z
LAST-MODIFIED:20241001T222700Z
UID:10022506-1730217600-1730228400@theboernelife.com
SUMMARY:Don't Let Aging Spook You
DESCRIPTION:McRae MD is hosting their Annual Halloween Event\, featuring the best exclusive specials of the year. Attendees can enjoy live demos\, drawings\, door prizes\, charcuterie\, and beverages. \nExclusive offers will be available throughout the event. \nSpace is limited\, so RSVP is required. To secure your spot\, RSVP online or call (830)-331-9600.
URL:https://theboernelife.com/events/dont-let-aging-spook-you/
LOCATION:McRae MD Medical Laser Center\, 117 South Saunders St\, Boerne\, TX\, 78006\, United States
CATEGORIES:Holiday,Women
ATTACH;FMTTYPE=image/jpeg:https://theboernelife.com/wp-content/uploads/2024/10/Dont-Let-Aging-Spook-You.jpg
END:VEVENT
BEGIN:VEVENT
DTSTART;TZID=America/Chicago:20241029T170000
DTEND;TZID=America/Chicago:20241029T200000
DTSTAMP:20260424T102032
CREATED:20241028T110309Z
LAST-MODIFIED:20241028T110309Z
UID:10022838-1730221200-1730232000@theboernelife.com
SUMMARY:I Want Candy
DESCRIPTION:Who says you have to wait until Halloween for candy? Today from 5-8 pm\, buy a glass or bottle of wine and receive a complimentary\, perfectly paired Halloween-themed candy treat! No need to tell the kids you’re sneaking candy a little early—it’s all treats\, no tricks!
URL:https://theboernelife.com/events/i-want-candy/
LOCATION:Lost Oak Cellars\, 111 Rosewood Ave\, Boerne\, TX\, 78006\, United States
CATEGORIES:Food and Drink,Holiday
ATTACH;FMTTYPE=image/jpeg:https://theboernelife.com/wp-content/uploads/2024/10/I-Want-Candy-scaled.jpg
END:VEVENT
BEGIN:VEVENT
DTSTART;TZID=America/Chicago:20241029T180000
DTEND;TZID=America/Chicago:20241029T200000
DTSTAMP:20260424T102032
CREATED:20240208T110320Z
LAST-MODIFIED:20251123T123748Z
UID:10000098-1730224800-1730232000@theboernelife.com
SUMMARY:Trivia Night at Free Roam
DESCRIPTION:Head over to Free Roam Brewing Company for an enthralling evening of live trivia\, brought to you by Challenge Entertainment – Austin & San Antonio Trivia. These engaging trivia nights are held every Tuesday\, beginning at 6:00 PM\, and offer a fun-packed 2-hour experience that’s open to the public. \nEvent Highlights: \n\nWeekly Trivia Nights: Set aside your Tuesdays for the ultimate quiz experience that challenges and entertains.\nFood Truck Delights: A food truck will be on-site\, serving up delicious eats to keep your brain fueled.\nPrizes Galore: Top teams stand a chance to win exciting prizes every week\, making every Tuesday a potentially rewarding experience.\nComplimentary Participation: There’s no cost to join in the fun\, making it a great\, budget-friendly night out.\nOpen to All: Whether a seasoned quiz master or a casual participant\, this event promises a great time for everyone in Boerne.\n\nThe trivia night at Free Roam Brewing Company is a perfect blend of competition\, camaraderie\, and local culture. With no entry fee and plenty of prizes up for grabs\, it’s an inviting scene for trivia buffs\, foodies\, and anyone looking for a memorable night out in Boerne. Join the community and prove you’re a know-it-all at San Antonio Trivia by Challenge Entertainment. Don’t miss out on the fun!
URL:https://theboernelife.com/events/trivia-night-at-free-roam/2024-10-29/
LOCATION:Free Roam Brewing Company\, 325 S Main Street\, Boerne\, TX\, 78006\, United States
CATEGORIES:General
ATTACH;FMTTYPE=image/png:https://theboernelife.com/wp-content/uploads/2024/02/Free-Roam-Trivia.png
END:VEVENT
BEGIN:VEVENT
DTSTART;TZID=America/Chicago:20241029T190000
DTEND;TZID=America/Chicago:20241029T210000
DTSTAMP:20260424T102032
CREATED:20241024T183031Z
LAST-MODIFIED:20250629T132122Z
UID:10022790-1730228400-1730235600@theboernelife.com
SUMMARY:Fair Oaks Roost Trivia
DESCRIPTION:Head to The Roost for a fun-filled night of trivia! Gather your team\, test your knowledge\, and compete for a chance to win exciting prizes. Enjoy food and drinks available for purchase while you challenge your brain and enjoy the evening with friends.
URL:https://theboernelife.com/events/fair-oaks-roost-trivia/2024-10-29/
LOCATION:Fair Oaks Roost\, 9091 Fair Oaks Pkwy\, Fair Oaks Ranch\, Texas\, 78015
CATEGORIES:Food and Drink
ATTACH;FMTTYPE=image/jpeg:https://theboernelife.com/wp-content/uploads/2024/10/Fair-Oaks-Roost.jpg
END:VEVENT
END:VCALENDAR