BEGIN:VCALENDAR
VERSION:2.0
PRODID:-//The Boerne Life - ECPv6.15.15//NONSGML v1.0//EN
CALSCALE:GREGORIAN
METHOD:PUBLISH
X-WR-CALNAME:The Boerne Life
X-ORIGINAL-URL:https://theboernelife.com
X-WR-CALDESC:Events for The Boerne Life
REFRESH-INTERVAL;VALUE=DURATION:PT1H
X-Robots-Tag:noindex
X-PUBLISHED-TTL:PT1H
BEGIN:VTIMEZONE
TZID:America/Chicago
BEGIN:DAYLIGHT
TZOFFSETFROM:-0600
TZOFFSETTO:-0500
TZNAME:CDT
DTSTART:20250309T080000
END:DAYLIGHT
BEGIN:STANDARD
TZOFFSETFROM:-0500
TZOFFSETTO:-0600
TZNAME:CST
DTSTART:20251102T070000
END:STANDARD
BEGIN:DAYLIGHT
TZOFFSETFROM:-0600
TZOFFSETTO:-0500
TZNAME:CDT
DTSTART:20260308T080000
END:DAYLIGHT
BEGIN:STANDARD
TZOFFSETFROM:-0500
TZOFFSETTO:-0600
TZNAME:CST
DTSTART:20261101T070000
END:STANDARD
BEGIN:DAYLIGHT
TZOFFSETFROM:-0600
TZOFFSETTO:-0500
TZNAME:CDT
DTSTART:20270314T080000
END:DAYLIGHT
BEGIN:STANDARD
TZOFFSETFROM:-0500
TZOFFSETTO:-0600
TZNAME:CST
DTSTART:20271107T070000
END:STANDARD
END:VTIMEZONE
BEGIN:VEVENT
DTSTART;TZID=America/Chicago:20260605T170000
DTEND;TZID=America/Chicago:20260605T210000
DTSTAMP:20260420T044823
CREATED:20260420T030529Z
LAST-MODIFIED:20260420T030544Z
UID:10037738-1780678800-1780693200@theboernelife.com
SUMMARY:First Friday at Of A Muse
DESCRIPTION:First Friday at Of A Muse offers a relaxed evening of shopping\, music\, and creative atmosphere in a charming Old Town boutique along the Hill Country Mile. The event takes place from 5 pm to 9 pm on May 1\, June 5\, July 3\, August 7\, September 4\, and October 2. \nGuests can browse a thoughtfully curated selection of unique items while enjoying mellow music and a laid-back environment. Cocktails are available\, and guests are also welcome to bring their own beverages\, adding to the casual and inviting vibe of the evening. \nThis monthly gathering creates a warm and welcoming space to unwind\, connect with others\, and experience the creative spirit of the local community.
URL:https://theboernelife.com/events/first-friday-at-of-a-muse-2/2026-06-05/
LOCATION:Of A Muse\, 233 S Main St Suite F\, Boerne\, TX\, 78006\, United States
CATEGORIES:Food and Drink,Music
ATTACH;FMTTYPE=image/jpeg:https://theboernelife.com/wp-content/uploads/2026/04/first-friday-at-of-a-muse.jpg
END:VEVENT
BEGIN:VEVENT
DTSTART;TZID=America/Chicago:20260703T170000
DTEND;TZID=America/Chicago:20260703T210000
DTSTAMP:20260420T044823
CREATED:20260420T030529Z
LAST-MODIFIED:20260420T030544Z
UID:10037739-1783098000-1783112400@theboernelife.com
SUMMARY:First Friday at Of A Muse
DESCRIPTION:First Friday at Of A Muse offers a relaxed evening of shopping\, music\, and creative atmosphere in a charming Old Town boutique along the Hill Country Mile. The event takes place from 5 pm to 9 pm on May 1\, June 5\, July 3\, August 7\, September 4\, and October 2. \nGuests can browse a thoughtfully curated selection of unique items while enjoying mellow music and a laid-back environment. Cocktails are available\, and guests are also welcome to bring their own beverages\, adding to the casual and inviting vibe of the evening. \nThis monthly gathering creates a warm and welcoming space to unwind\, connect with others\, and experience the creative spirit of the local community.
URL:https://theboernelife.com/events/first-friday-at-of-a-muse-2/2026-07-03/
LOCATION:Of A Muse\, 233 S Main St Suite F\, Boerne\, TX\, 78006\, United States
CATEGORIES:Food and Drink,Music
ATTACH;FMTTYPE=image/jpeg:https://theboernelife.com/wp-content/uploads/2026/04/first-friday-at-of-a-muse.jpg
END:VEVENT
BEGIN:VEVENT
DTSTART;TZID=America/Chicago:20260807T170000
DTEND;TZID=America/Chicago:20260807T210000
DTSTAMP:20260420T044823
CREATED:20260420T030529Z
LAST-MODIFIED:20260420T030544Z
UID:10037740-1786122000-1786136400@theboernelife.com
SUMMARY:First Friday at Of A Muse
DESCRIPTION:First Friday at Of A Muse offers a relaxed evening of shopping\, music\, and creative atmosphere in a charming Old Town boutique along the Hill Country Mile. The event takes place from 5 pm to 9 pm on May 1\, June 5\, July 3\, August 7\, September 4\, and October 2. \nGuests can browse a thoughtfully curated selection of unique items while enjoying mellow music and a laid-back environment. Cocktails are available\, and guests are also welcome to bring their own beverages\, adding to the casual and inviting vibe of the evening. \nThis monthly gathering creates a warm and welcoming space to unwind\, connect with others\, and experience the creative spirit of the local community.
URL:https://theboernelife.com/events/first-friday-at-of-a-muse-2/2026-08-07/
LOCATION:Of A Muse\, 233 S Main St Suite F\, Boerne\, TX\, 78006\, United States
CATEGORIES:Food and Drink,Music
ATTACH;FMTTYPE=image/jpeg:https://theboernelife.com/wp-content/uploads/2026/04/first-friday-at-of-a-muse.jpg
END:VEVENT
BEGIN:VEVENT
DTSTART;TZID=America/Chicago:20260904T170000
DTEND;TZID=America/Chicago:20260904T210000
DTSTAMP:20260420T044823
CREATED:20260420T030529Z
LAST-MODIFIED:20260420T030544Z
UID:10037741-1788541200-1788555600@theboernelife.com
SUMMARY:First Friday at Of A Muse
DESCRIPTION:First Friday at Of A Muse offers a relaxed evening of shopping\, music\, and creative atmosphere in a charming Old Town boutique along the Hill Country Mile. The event takes place from 5 pm to 9 pm on May 1\, June 5\, July 3\, August 7\, September 4\, and October 2. \nGuests can browse a thoughtfully curated selection of unique items while enjoying mellow music and a laid-back environment. Cocktails are available\, and guests are also welcome to bring their own beverages\, adding to the casual and inviting vibe of the evening. \nThis monthly gathering creates a warm and welcoming space to unwind\, connect with others\, and experience the creative spirit of the local community.
URL:https://theboernelife.com/events/first-friday-at-of-a-muse-2/2026-09-04/
LOCATION:Of A Muse\, 233 S Main St Suite F\, Boerne\, TX\, 78006\, United States
CATEGORIES:Food and Drink,Music
ATTACH;FMTTYPE=image/jpeg:https://theboernelife.com/wp-content/uploads/2026/04/first-friday-at-of-a-muse.jpg
END:VEVENT
BEGIN:VEVENT
DTSTART;TZID=America/Chicago:20261002T170000
DTEND;TZID=America/Chicago:20261002T210000
DTSTAMP:20260420T044823
CREATED:20260420T030529Z
LAST-MODIFIED:20260420T030544Z
UID:10037742-1790960400-1790974800@theboernelife.com
SUMMARY:First Friday at Of A Muse
DESCRIPTION:First Friday at Of A Muse offers a relaxed evening of shopping\, music\, and creative atmosphere in a charming Old Town boutique along the Hill Country Mile. The event takes place from 5 pm to 9 pm on May 1\, June 5\, July 3\, August 7\, September 4\, and October 2. \nGuests can browse a thoughtfully curated selection of unique items while enjoying mellow music and a laid-back environment. Cocktails are available\, and guests are also welcome to bring their own beverages\, adding to the casual and inviting vibe of the evening. \nThis monthly gathering creates a warm and welcoming space to unwind\, connect with others\, and experience the creative spirit of the local community.
URL:https://theboernelife.com/events/first-friday-at-of-a-muse-2/2026-10-02/
LOCATION:Of A Muse\, 233 S Main St Suite F\, Boerne\, TX\, 78006\, United States
CATEGORIES:Food and Drink,Music
ATTACH;FMTTYPE=image/jpeg:https://theboernelife.com/wp-content/uploads/2026/04/first-friday-at-of-a-muse.jpg
END:VEVENT
END:VCALENDAR